BEGIN:VCALENDAR
VERSION:2.0
PRODID:-//Treffpunkt Rodenkirchen - ECPv6.15.20//NONSGML v1.0//EN
CALSCALE:GREGORIAN
METHOD:PUBLISH
X-WR-CALNAME:Treffpunkt Rodenkirchen
X-ORIGINAL-URL:https://treffpunkt-rodenkirchen.koeln
X-WR-CALDESC:Veranstaltungen für Treffpunkt Rodenkirchen
REFRESH-INTERVAL;VALUE=DURATION:PT1H
X-Robots-Tag:noindex
X-PUBLISHED-TTL:PT1H
BEGIN:VTIMEZONE
TZID:Europe/Berlin
BEGIN:DAYLIGHT
TZOFFSETFROM:+0100
TZOFFSETTO:+0200
TZNAME:CEST
DTSTART:20240331T010000
END:DAYLIGHT
BEGIN:STANDARD
TZOFFSETFROM:+0200
TZOFFSETTO:+0100
TZNAME:CET
DTSTART:20241027T010000
END:STANDARD
BEGIN:DAYLIGHT
TZOFFSETFROM:+0100
TZOFFSETTO:+0200
TZNAME:CEST
DTSTART:20250330T010000
END:DAYLIGHT
BEGIN:STANDARD
TZOFFSETFROM:+0200
TZOFFSETTO:+0100
TZNAME:CET
DTSTART:20251026T010000
END:STANDARD
BEGIN:DAYLIGHT
TZOFFSETFROM:+0100
TZOFFSETTO:+0200
TZNAME:CEST
DTSTART:20260329T010000
END:DAYLIGHT
BEGIN:STANDARD
TZOFFSETFROM:+0200
TZOFFSETTO:+0100
TZNAME:CET
DTSTART:20261025T010000
END:STANDARD
END:VTIMEZONE
BEGIN:VEVENT
DTSTART;TZID=Europe/Berlin:20250625T000000
DTEND;TZID=Europe/Berlin:20250815T235959
DTSTAMP:20260421T154844
CREATED:20250623T090040Z
LAST-MODIFIED:20250623T100040Z
UID:30001292-1750809600-1755302399@treffpunkt-rodenkirchen.koeln
SUMMARY:Kunstausstellung
DESCRIPTION:Zwei Perspektiven: In dieser Ausstellung treffen zwei künstlerische Handschriften aufeinander\, die auf individuelle Weise mit Material\, Struktur und Ausdruck arbeiten – und genau darin ihren Reiz entfalten. \nFabian Eickeler\, ausgebildeter Kommunikationsdesigner\, widmet sich in seinen Arbeiten der freien Kunst\, dem Objekt und der Fotografie. Seine Werke entstehen aus Acrylfarbe\,  Spachtelmasse und Gaffer Tape – kraftvolle\, strukturierte Kompositionen\, in denen Material und Idee eine Einheit bilden. \nDie künstlerische Laufbahn von Vera P. Frank verlief u.a. in der Hochschule der Künste Berlin und wurde durch Privat-Unterricht vertieft. Thema ihrer Ausstellung:\nPoesie der Vergänglichkeit\n– Strukturen –\nBaum – Stahl – Rost – Beton – Natur\nIhre Ausstellung zeigt Fotografien und collagenartig montierte Fotos auf gemalten Bilder\, die die unterschiedlichen Strukturen im Prozess der Vergänglichkeit in ihrer lebendigen bis morbiden Schönheit wiedergeben. \nMEET THE ARTISTS:\nPersönlich anzutreffen sind die Künstler*innen am 04.07. von 18:00 bis 20:00 Uhr sowie am 05.07. von 14:00 bis 18:00 Uhr – die beiden freuen sich auf inspirierende Gespräche! \nReguläre Öffnungszeiten sind jeden Mittwoch und Donnerstag (an Feiertagen geschlossen) von 10:00 Uhr bis 17:00 Uhr.\nWir freuen uns auf euch! \nBildquelle: aboutcommunication-events \n\nDieser Eintrag wird Ihnen zur Verfügung gestellt vom Kölner BilderBogen – eines der beliebtesten Stadtmagazine in Köln. Ihr Termin fehlt? Einfach kostenlos einreichen: www.bilderbogen.de/eventeintrag
URL:https://treffpunkt-rodenkirchen.koeln/event/kunstausstellung
LOCATION:ABOUT:EVENTS\, Barbarastraße 15-17\, Köln\, NRW\, 50996\, Deutschland
ATTACH;FMTTYPE=image/png:https://treffpunkt-rodenkirchen.koeln/wp-content/uploads/2025/06/Bildschirmfoto-2025-06-23-um-10.20.36-822x1024-1.png
END:VEVENT
BEGIN:VEVENT
DTSTART;TZID=Europe/Berlin:20250810T110000
DTEND;TZID=Europe/Berlin:20250810T130000
DTSTAMP:20260421T154844
CREATED:20250717T090049Z
LAST-MODIFIED:20250717T090049Z
UID:30001328-1754823600-1754830800@treffpunkt-rodenkirchen.koeln
SUMMARY:Themenführung „Die grüne Apotheke – Arznei- und Heilpflanzen in der Flora“
DESCRIPTION:Welche Bedeutung haben Pflanzen für die moderne Pharmazie und Medizin? Wie werden aus den Pflanzenteilen verlässliche Medikamente? Diese und weitere Fragen beantwortet Anja Schneider vom Botanischen Garten Köln bei ihrer Führung am Sonntag\, 10. August 2025\, um 11 Uhr. Dabei erläutert sie die Geschichte\, Herkunft und Wirkung von Arzneipflanzen. Zudem zeigt sie auf\, welche biologischen Funktionen die arzneilichen Inhaltsstoffe in der Pflanze selbst haben\, welche Auswirkungen der weltweite Handel hat und wie diese wichtigen Ressourcen erhalten werden können. \nDie Teilnahme an der Führung kostet sieben Euro für Erwachsene und vier Euro für Kinder\, Schüler*innen und Studierende\, für Mitglieder des Freundeskreises\, und für Inhaber*innen des KölnPass\, eines Behindertenausweises und der Ehrenamtskarte NRW. \nTreffpunkt ist vor dem Haupteingang der Flora\, Alter Stammheimer Weg\, Köln-Riehl. Die Flora ist erreichbar mit der KVB-Stadtbahnlinie 18 und der Buslinie 140\, jeweils Haltestelle Zoo/Flora. \nEine Anmeldung ist bis 3. August 2025 per E-Mail unter anmeldung-botanischergarten@stadt-koeln.de erforderlich\, unter Angabe der persönlichen Daten. Die Teilnehmerzahl ist begrenzt. \n\nDieser Eintrag wird Ihnen zur Verfügung gestellt vom Kölner BilderBogen – eines der beliebtesten Stadtmagazine in Köln. Ihr Termin fehlt? Einfach kostenlos einreichen: www.bilderbogen.de/eventeintrag
URL:https://treffpunkt-rodenkirchen.koeln/event/themenfuehrung-die-gruene-apotheke-arznei-und-heilpflanzen-in-der-flora
LOCATION:Flora\, Am Botanischen Garten 1a\, Köln\, 50735
END:VEVENT
BEGIN:VEVENT
DTSTART;TZID=Europe/Berlin:20250810T140000
DTEND;TZID=Europe/Berlin:20250810T170000
DTSTAMP:20260421T154844
CREATED:20250722T080037Z
LAST-MODIFIED:20250722T080037Z
UID:30001339-1754834400-1754845200@treffpunkt-rodenkirchen.koeln
SUMMARY:Kino mal anders: Das Umweltkino auf Gut Leidenhausen Film: Naturwunder Gemüsegarten
DESCRIPTION:Am Sonntag\, den 10. August 2025 präsentiert das Umweltbildungszentrum Gut Leidenhausen um 14 Uhr in seinem nachhaltigen Umweltkino den Film „Naturwunder Gemüsegarten“. Die Naturdokumentation zeigt den Gemüsegarten und seine vielen Bewohnern aus einer besonderen Perspektive. Unzählige Arten von Insekten\, Spinnen und Weichtieren finden hier eine Zuflucht\, wenn der:die Gärtner:in auf Gifte verzichtet. Mit Makro- und Zeitlupenaufnahmen zeigt der Film die heimische Artenvielfalt vor der eigenen Haustür. Für die richtige Kinoatmosphäre gibt es frisches Popcorn und Kaltgetränke zu erwerben. Im Anschluss an die Filmvorstellung findet eine Podiumsdiskussion mit Expert:innen aus Wissenschaft\, Politik und Gesellschaft statt. Im Podium diskutieren unter anderem Elke Wulfmeyer (Dipl. Biologin) und Frank Nischk (Co-Autor und Filmproduzent). Die Vorführungen des Umweltkinos sind kostenlos. Spenden sind willkommen. Eine Anmeldung ist nicht erforderlich\, für eine Abschätzung der Besucher:innenzahl jedoch erwünscht. \nDatum:                     Sonntag\, 10.08.2025 \nUhrzeit:                    14:00-17:00 Uhr \nZielgruppe:             Jede:r \nTreffpunkt:               Portalausstellung (Tenne) \nPreis:                       kostenlos \nAnmeldung:            Telefon: 02203 9800541 oder info@gut-leidenhausen. \n\nDieser Eintrag wird Ihnen zur Verfügung gestellt vom Kölner BilderBogen – eines der beliebtesten Stadtmagazine in Köln. Ihr Termin fehlt? Einfach kostenlos einreichen: www.bilderbogen.de/eventeintrag
URL:https://treffpunkt-rodenkirchen.koeln/event/kino-mal-anders-das-umweltkino-auf-gut-leidenhausen-film-naturwunder-gemuesegarten
LOCATION:Gut Leidenhausen\, Gut Leidenhausen\, Köln\, NRW\, 51147\, Deutschland
ORGANIZER;CN="Gut Leidenhausen":MAILTO:info@gut-leidenhausen.de
END:VEVENT
BEGIN:VEVENT
DTSTART;TZID=Europe/Berlin:20250810T190000
DTEND;TZID=Europe/Berlin:20250810T210000
DTSTAMP:20260421T154844
CREATED:20250618T110041Z
LAST-MODIFIED:20250618T110041Z
UID:30001290-1754852400-1754859600@treffpunkt-rodenkirchen.koeln
SUMMARY:Konzerte von Makeda und MILEN
DESCRIPTION:Konzerte von Makeda und MILEN\n\n\nZwei Konzerte von zwei außergewöhnlichen Künstlerinnen. Makeda gehört zu den bekanntesten Musikerinnen Bonns. Christina Aguilera bescheinigte ihr öffentlich „a lot of talent“ und reihte sich damit ein in Makedas täglich wachsende Fanbase. Zu ihren musikalischen Heldinnen zählen Alicia Keys\, Lianne La Havas und Lauryn Hill. \nMILEN erzählt von Körperlichkeit und Sehnsüchten\, nimmt sich dieser oft rohen und intensiven Gefühle an und transformiert sie in ein überraschend neues Bild. Die Ausnahmekünstlerin steht für einen aufregenden und eigenständigen Sound\, der Alternative-Pop auf unkonventionelle Weise mit Elementen aus Hip-Hop und Soul verschmelzen lässt \n19–19:45 Uhr Makeda\n20:15–21 Uhr MILEN \nDauer: 120 Minuten \n\n  \nBildquelle: Jana Rodenbusch und Clara Höller \n\nDieser Eintrag wird Ihnen zur Verfügung gestellt vom Kölner BilderBogen – eines der beliebtesten Stadtmagazine in Köln. Ihr Termin fehlt? Einfach kostenlos einreichen: www.bilderbogen.de/eventeintrag
URL:https://treffpunkt-rodenkirchen.koeln/event/konzerte-von-makeda-und-milen
LOCATION:Rudolfplatz\, Rudolfplatz\, Köln\, 50674
ATTACH;FMTTYPE=image/png:https://treffpunkt-rodenkirchen.koeln/wp-content/uploads/2025/06/Bildschirmfoto-2025-06-18-um-12.27.13-1024x688-1.png
END:VEVENT
END:VCALENDAR