BEGIN:VCALENDAR
VERSION:2.0
PRODID:-//Treffpunkt Rodenkirchen - ECPv6.15.20//NONSGML v1.0//EN
CALSCALE:GREGORIAN
METHOD:PUBLISH
X-ORIGINAL-URL:https://treffpunkt-rodenkirchen.koeln
X-WR-CALDESC:Veranstaltungen für Treffpunkt Rodenkirchen
REFRESH-INTERVAL;VALUE=DURATION:PT1H
X-Robots-Tag:noindex
X-PUBLISHED-TTL:PT1H
BEGIN:VTIMEZONE
TZID:Europe/Berlin
BEGIN:DAYLIGHT
TZOFFSETFROM:+0100
TZOFFSETTO:+0200
TZNAME:CEST
DTSTART:20240331T010000
END:DAYLIGHT
BEGIN:STANDARD
TZOFFSETFROM:+0200
TZOFFSETTO:+0100
TZNAME:CET
DTSTART:20241027T010000
END:STANDARD
BEGIN:DAYLIGHT
TZOFFSETFROM:+0100
TZOFFSETTO:+0200
TZNAME:CEST
DTSTART:20250330T010000
END:DAYLIGHT
BEGIN:STANDARD
TZOFFSETFROM:+0200
TZOFFSETTO:+0100
TZNAME:CET
DTSTART:20251026T010000
END:STANDARD
BEGIN:DAYLIGHT
TZOFFSETFROM:+0100
TZOFFSETTO:+0200
TZNAME:CEST
DTSTART:20260329T010000
END:DAYLIGHT
BEGIN:STANDARD
TZOFFSETFROM:+0200
TZOFFSETTO:+0100
TZNAME:CET
DTSTART:20261025T010000
END:STANDARD
END:VTIMEZONE
BEGIN:VEVENT
DTSTART;TZID=Europe/Berlin:20250625T000000
DTEND;TZID=Europe/Berlin:20250815T235959
DTSTAMP:20260421T155306
CREATED:20250623T090040Z
LAST-MODIFIED:20250623T100040Z
UID:30001292-1750809600-1755302399@treffpunkt-rodenkirchen.koeln
SUMMARY:Kunstausstellung
DESCRIPTION:Zwei Perspektiven: In dieser Ausstellung treffen zwei künstlerische Handschriften aufeinander\, die auf individuelle Weise mit Material\, Struktur und Ausdruck arbeiten – und genau darin ihren Reiz entfalten. \nFabian Eickeler\, ausgebildeter Kommunikationsdesigner\, widmet sich in seinen Arbeiten der freien Kunst\, dem Objekt und der Fotografie. Seine Werke entstehen aus Acrylfarbe\,  Spachtelmasse und Gaffer Tape – kraftvolle\, strukturierte Kompositionen\, in denen Material und Idee eine Einheit bilden. \nDie künstlerische Laufbahn von Vera P. Frank verlief u.a. in der Hochschule der Künste Berlin und wurde durch Privat-Unterricht vertieft. Thema ihrer Ausstellung:\nPoesie der Vergänglichkeit\n– Strukturen –\nBaum – Stahl – Rost – Beton – Natur\nIhre Ausstellung zeigt Fotografien und collagenartig montierte Fotos auf gemalten Bilder\, die die unterschiedlichen Strukturen im Prozess der Vergänglichkeit in ihrer lebendigen bis morbiden Schönheit wiedergeben. \nMEET THE ARTISTS:\nPersönlich anzutreffen sind die Künstler*innen am 04.07. von 18:00 bis 20:00 Uhr sowie am 05.07. von 14:00 bis 18:00 Uhr – die beiden freuen sich auf inspirierende Gespräche! \nReguläre Öffnungszeiten sind jeden Mittwoch und Donnerstag (an Feiertagen geschlossen) von 10:00 Uhr bis 17:00 Uhr.\nWir freuen uns auf euch! \nBildquelle: aboutcommunication-events \n\nDieser Eintrag wird Ihnen zur Verfügung gestellt vom Kölner BilderBogen – eines der beliebtesten Stadtmagazine in Köln. Ihr Termin fehlt? Einfach kostenlos einreichen: www.bilderbogen.de/eventeintrag
URL:https://treffpunkt-rodenkirchen.koeln/event/kunstausstellung
LOCATION:ABOUT:EVENTS\, Barbarastraße 15-17\, Köln\, NRW\, 50996\, Deutschland
ATTACH;FMTTYPE=image/png:https://treffpunkt-rodenkirchen.koeln/wp-content/uploads/2025/06/Bildschirmfoto-2025-06-23-um-10.20.36-822x1024-1.png
END:VEVENT
BEGIN:VEVENT
DTSTART;TZID=Europe/Berlin:20250812T120000
DTEND;TZID=Europe/Berlin:20250815T170000
DTSTAMP:20260421T155306
CREATED:20250613T100039Z
LAST-MODIFIED:20250613T100039Z
UID:30001278-1755000000-1755277200@treffpunkt-rodenkirchen.koeln
SUMMARY:OK:ii x Loft99 Ferienworkshop
DESCRIPTION:Euch erwarten auch dieses Jahr viele spannende\, witzige\, kreative\, vielseitige Workshops unter dem Motto „Weltreise“ 🏝🏔🧳 \nPack deine Koffer und sei dabei am 12.-15.08.2025 im Loft99 – OK.ii 2025 – Unser Projekt geht in die zweite Runde. \nEine Anmeldung ist nicht zwingend nötig\, für eine bessere Planbarkeit meldet euch aber gerne bei info@loft99.de oder eurocontact@web.de \nWir freuen uns auf euch! \n\nDieser Eintrag wird Ihnen zur Verfügung gestellt vom Kölner BilderBogen – eines der beliebtesten Stadtmagazine in Köln. Ihr Termin fehlt? Einfach kostenlos einreichen: www.bilderbogen.de/eventeintrag
URL:https://treffpunkt-rodenkirchen.koeln/event/okii-x-loft99-ferienworkshop
LOCATION:Loft99 – Jugendzentrum\, Sürther Straße 199\, Köln\, NRW\, 50999\, Deutschland
ATTACH;FMTTYPE=image/jpeg:https://treffpunkt-rodenkirchen.koeln/wp-content/uploads/2025/06/Flyer-okii-25-724x1024-1.jpg
END:VEVENT
BEGIN:VEVENT
DTSTART;TZID=Europe/Berlin:20250815T110000
DTEND;TZID=Europe/Berlin:20250815T140000
DTSTAMP:20260421T155306
CREATED:20250707T090032Z
LAST-MODIFIED:20250708T100041Z
UID:30001306-1755255600-1755266400@treffpunkt-rodenkirchen.koeln
SUMMARY:Fan-Andacht zum kölschen Doppeljubiläum – 77 Jahre FC & 777 Jahre Kölner Dom
DESCRIPTION:Im Jahr der durch die Zahl sieben geprägten kölschen Jubiläen sind alle Fußballfreunde zum Start in die neue Saison 2025/26 zu einem ökumenischen Wortgottesdienst in den Kölner Dom eingeladen. Die feierliche Andacht beginnt am Freitag\, 15. August um 12 Uhr\, Einlass ab 11 Uhr. \nAuf den Tag genau 777 Jahre nach der Grundsteinlegung des Kölner Domes am 15. August 1248 und im Jahr des 77. Geburtstags des 1. FC Köln kommen Fußballfreunde zum bereits elften Mal in der Kathedrale zusammen\, um Gott um seinen Segen für eine gute Saison und einen fairen Umgang zwischen allen Spielern\, Mannschaften\, Schiedsrichtern und Fans zu bitten. \nFans dürfen sich auf besondere Überraschungen freuen \nAufgrund des besonderen Anlasses findet die Fan-Andacht in diesem Jahr ausnahmsweise am Jahrestag der Dom-Grundsteinlegung und nicht unmittelbar vor dem ersten Saison-Heimspiel des FC gegen den SC Freiburg am letzten August-Wochenende\, sondern bereits vor dem ersten Pflichtspiel im DFB-Pokal beim SSV Jahn Regensburg (Sonntag\, 17. August 2025\, Anstoß 15.30 Uhr) statt. \nWie in den vergangenen Jahren werden wieder zahlreiche FC-Fans in Trikots und mit Fan-Schals zur Fan-Andacht im Kölner Dom erwartet\, aber natürlich sind auch die Fans aller anderen Fußballvereine herzlich eingeladen\, den Gottesdienst mitzufeiern. Alle Fans und vor allem die Besucherinnen und Besucher der Andacht im Dom dürfen sich anlässlich der historischen Dimension des Jubiläums auf besondere Überraschungen freuen. \nDer Liturgie stehen Dom- und Stadtdechant Msgr. Robert Kleine und Stadtsuperintendent Bernhard Seiger vor. Ein besonderes Highlight: die FC-Hymne\, gespielt an der Domorgel. \nDie Andacht wird von DOMRADIO.DE und auf dem Facebook-Kanal des Kölner Domes live übertragen. \nFC bittet um Unterstützung für den Zentral-Dombau-Verein zu Köln \nDamit der Kölner Dom auch zukünftigen Generationen in all seiner Pracht erhalten bleibt\, ruft der 1. FC Köln die FC-Familie anlässlich des Jubiläums zur finanziellen Unterstützung des Zentral-Dombau-Verein zu Köln (ZDV) auf. Für den baulichen Erhalt benötigt das Kölner Wahrzeichen jährlich sieben bis acht Millionen Euro\, rund 60 Prozent dieser Summe steuert der ZDV bei. \nWer den ZDV unterstützen möchte\, kann dies durch eine Mitgliedschaft oder eine Spende tun. Alle Infos dazu gibt’s auf der Homepage des ZDV. \nSpendenkonto \nZentral-Dombau-Verein zu Köln \nCommerzbank AG Köln\, IBAN:  DE51 3704 0044 0508 7655 00\,  BIC:  COBADEFFXXX \n\nDieser Eintrag wird Ihnen zur Verfügung gestellt vom Kölner BilderBogen – eines der beliebtesten Stadtmagazine in Köln. Ihr Termin fehlt? Einfach kostenlos einreichen: www.bilderbogen.de/eventeintrag
URL:https://treffpunkt-rodenkirchen.koeln/event/fan-andacht-zum-koelschen-doppeljubilaeum-77-jahre-fc-777-jahre-koelner-dom
LOCATION:Dom
END:VEVENT
BEGIN:VEVENT
DTSTART;TZID=Europe/Berlin:20250815T183000
DTEND;TZID=Europe/Berlin:20250815T193000
DTSTAMP:20260421T155306
CREATED:20250707T100033Z
LAST-MODIFIED:20250707T100033Z
UID:30001308-1755282600-1755286200@treffpunkt-rodenkirchen.koeln
SUMMARY:Mirage von Cie. Dyptik
DESCRIPTION:Die französische Gruppe vereint auf stimmungsvolle und emotionale Weise Akrobatik und Tanz zu einem Stück purer Energie. \nBunte Fähnchen\, Stahlgerüste\, Absperrungen und pulsierende Rhythmen – ein eigentlich ungastlicher Ort wird zu einem Raum für Inspiration. Die französische Gruppe Dyptik vereint auf stimmungsvolle und emotionale Weise Akrobatik und Tanz zu einem Stück purer Energie. Dabei treffen verschiedene Kulturen aufeinander\, Konflikte entladen sich\, Emotionen und Rhythmen fließen ineinander. Über die tänzerische Auseinandersetzung mit Krisen\, Flucht und Ausgrenzung formt sich eine kollektive Dynamik. Die mitreißenden Bewegungen und die Ausdruckskraft der Tänzerinnen und Tänzer münden in einen Sieg der Menschlichkeit\, an dessen Ende das Leben zusammen mit dem Publikum gefeiert wird. \nDauer: 50 Minuten \n\nDieser Eintrag wird Ihnen zur Verfügung gestellt vom Kölner BilderBogen – eines der beliebtesten Stadtmagazine in Köln. Ihr Termin fehlt? Einfach kostenlos einreichen: www.bilderbogen.de/eventeintrag
URL:https://treffpunkt-rodenkirchen.koeln/event/mirage-von-cie-dyptik
LOCATION:Mediapark\, Mediapark\, Köln\, 50670
ATTACH;FMTTYPE=image/png:https://treffpunkt-rodenkirchen.koeln/wp-content/uploads/2025/07/Bildschirmfoto-2025-07-07-um-11.03.50-1024x544-1.png
END:VEVENT
END:VCALENDAR