BEGIN:VCALENDAR
VERSION:2.0
PRODID:-//Treffpunkt Rodenkirchen - ECPv6.15.20//NONSGML v1.0//EN
CALSCALE:GREGORIAN
METHOD:PUBLISH
X-WR-CALNAME:Treffpunkt Rodenkirchen
X-ORIGINAL-URL:https://treffpunkt-rodenkirchen.koeln
X-WR-CALDESC:Veranstaltungen für Treffpunkt Rodenkirchen
REFRESH-INTERVAL;VALUE=DURATION:PT1H
X-Robots-Tag:noindex
X-PUBLISHED-TTL:PT1H
BEGIN:VTIMEZONE
TZID:Europe/Berlin
BEGIN:DAYLIGHT
TZOFFSETFROM:+0100
TZOFFSETTO:+0200
TZNAME:CEST
DTSTART:20240331T010000
END:DAYLIGHT
BEGIN:STANDARD
TZOFFSETFROM:+0200
TZOFFSETTO:+0100
TZNAME:CET
DTSTART:20241027T010000
END:STANDARD
BEGIN:DAYLIGHT
TZOFFSETFROM:+0100
TZOFFSETTO:+0200
TZNAME:CEST
DTSTART:20250330T010000
END:DAYLIGHT
BEGIN:STANDARD
TZOFFSETFROM:+0200
TZOFFSETTO:+0100
TZNAME:CET
DTSTART:20251026T010000
END:STANDARD
BEGIN:DAYLIGHT
TZOFFSETFROM:+0100
TZOFFSETTO:+0200
TZNAME:CEST
DTSTART:20260329T010000
END:DAYLIGHT
BEGIN:STANDARD
TZOFFSETFROM:+0200
TZOFFSETTO:+0100
TZNAME:CET
DTSTART:20261025T010000
END:STANDARD
END:VTIMEZONE
BEGIN:VEVENT
DTSTART;TZID=Europe/Berlin:20250825T183000
DTEND;TZID=Europe/Berlin:20250825T213000
DTSTAMP:20260425T133525
CREATED:20250605T140041Z
LAST-MODIFIED:20250605T140041Z
UID:30001276-1756146600-1756157400@treffpunkt-rodenkirchen.koeln
SUMMARY:Ein Abend mit Muscialdarsteller Simon Loughton
DESCRIPTION:Er singt\, spielt\, tanzt und schreibt – und ist derzeit als Prinz Hans in Die Eiskönigin am Stage Apollo Theater in Stuttgart zu erleben: Simon Loughton\, geboren und aufgewachsen in Perth\, Australien\, zählt zu den spannendsten Stimmen der internationalen Musicalszene. \n\n\n\n\nAusgebildet an der WAAPA und der Royal Academy of Music in London\, spielte Simon in zahlreichen Musical- und Kabarettproduktionen in Australien\, Großbritannien und Deutschland – unter anderem in Sunset Boulevard\, A Chorus Line\, Crazy for You\, We Will Rock You und Tanz der Vampire\, wo er im Ensemble und als Graf von Krolock auf der Bühne stand. \nNun kommt Simon für einen ganz besonderen Abend nach Köln. \nEin Abend voller Bühnenmagie: Simon gibt intime Einblicke in seine internationale Karriere\, spricht über Kreativität und das Leben auf und hinter der Bühne. Neben einem persönlichen Talk bietet der Abend Live-Musik\, eine exklusive Lesung aus seinem neuen Buch sowie ein stimmungsvoller Ausklang bei Drinks und Gesprächen. \nJetzt Tickets sichern für diesen einmaligen Abend im Rahmen unserer Theater & Musical Woche (25.08. – 01.09.) in Köln-Rodenkirchen. \nTickets kaufen\n\n\n\nDieser Eintrag wird Ihnen zur Verfügung gestellt vom Kölner BilderBogen – eines der beliebtesten Stadtmagazine in Köln. Ihr Termin fehlt? Einfach kostenlos einreichen: www.bilderbogen.de/eventeintrag
URL:https://treffpunkt-rodenkirchen.koeln/event/ein-abend-mit-muscialdarsteller-simon-loughton
LOCATION:ABOUT:EVENTS\, Barbarastraße 15-17\, Köln\, NRW\, 50996\, Deutschland
ATTACH;FMTTYPE=image/jpeg:https://treffpunkt-rodenkirchen.koeln/wp-content/uploads/2025/06/35de7605-0330-4c83-a8c1-b9c90c7dae65-765x1024-1.jpg
END:VEVENT
END:VCALENDAR