BEGIN:VCALENDAR
VERSION:2.0
PRODID:-//Treffpunkt Rodenkirchen - ECPv6.15.20//NONSGML v1.0//EN
CALSCALE:GREGORIAN
METHOD:PUBLISH
X-ORIGINAL-URL:https://treffpunkt-rodenkirchen.koeln
X-WR-CALDESC:Veranstaltungen für Treffpunkt Rodenkirchen
REFRESH-INTERVAL;VALUE=DURATION:PT1H
X-Robots-Tag:noindex
X-PUBLISHED-TTL:PT1H
BEGIN:VTIMEZONE
TZID:Europe/Berlin
BEGIN:DAYLIGHT
TZOFFSETFROM:+0100
TZOFFSETTO:+0200
TZNAME:CEST
DTSTART:20240331T010000
END:DAYLIGHT
BEGIN:STANDARD
TZOFFSETFROM:+0200
TZOFFSETTO:+0100
TZNAME:CET
DTSTART:20241027T010000
END:STANDARD
BEGIN:DAYLIGHT
TZOFFSETFROM:+0100
TZOFFSETTO:+0200
TZNAME:CEST
DTSTART:20250330T010000
END:DAYLIGHT
BEGIN:STANDARD
TZOFFSETFROM:+0200
TZOFFSETTO:+0100
TZNAME:CET
DTSTART:20251026T010000
END:STANDARD
BEGIN:DAYLIGHT
TZOFFSETFROM:+0100
TZOFFSETTO:+0200
TZNAME:CEST
DTSTART:20260329T010000
END:DAYLIGHT
BEGIN:STANDARD
TZOFFSETFROM:+0200
TZOFFSETTO:+0100
TZNAME:CET
DTSTART:20261025T010000
END:STANDARD
END:VTIMEZONE
BEGIN:VEVENT
DTSTART;TZID=Europe/Berlin:20250830T110000
DTEND;TZID=Europe/Berlin:20250831T010000
DTSTAMP:20260421T123425
CREATED:20250812T080037Z
LAST-MODIFIED:20250812T080037Z
UID:30001394-1756551600-1756602000@treffpunkt-rodenkirchen.koeln
SUMMARY:Sommerfest LorDation II-Rodenkirchen
DESCRIPTION:Dieser Eintrag wird Ihnen zur Verfügung gestellt vom Kölner BilderBogen – eines der beliebtesten Stadtmagazine in Köln. Ihr Termin fehlt? Einfach kostenlos einreichen: www.bilderbogen.de/eventeintrag
URL:https://treffpunkt-rodenkirchen.koeln/event/sommerfest-lordation-ii-rodenkirchen
LOCATION:LORDation\, Weißer Straße 147\, Köln\, NRW\, 50999\, Deutschland
ATTACH;FMTTYPE=image/png:https://treffpunkt-rodenkirchen.koeln/wp-content/uploads/2025/08/Bildschirmfoto-2025-08-12-um-09.49.29-358x1024-1.png
END:VEVENT
BEGIN:VEVENT
DTSTART;TZID=Europe/Berlin:20250830T150000
DTEND;TZID=Europe/Berlin:20250830T233000
DTSTAMP:20260421T123425
CREATED:20250325T090045Z
LAST-MODIFIED:20250325T090045Z
UID:30001096-1756566000-1756596600@treffpunkt-rodenkirchen.koeln
SUMMARY:20. Kölner Lichter
DESCRIPTION:Der genaue Programmablauf der Kölner Lichter wird in den kommenden Monaten ausgearbeitet und hier veröffentlicht. \nDie Veranstaltung öffnet auf beiden Rheinseiten ab 15.00 Uhr. Im Kölner Tanzbrunnen feindet am 30.08.2025 eine externe Veranstaltung statt. \nBereits fest steht\, dass der Kölner Ruderverein von 1877 e.V. mit seinem traditionellen „Kölner Stadtachter“ Bestandteil des Abendprogramms sein wird. \nDas große musiksynchrone Hauptfeuerwerk vor dem Kölner Tanzbrunnen ist für ca. 22.30 Uhr geplant\, \nDas WDR Fernsehen überträgt die Kölner Lichter live. \n\nDieser Eintrag wird Ihnen zur Verfügung gestellt vom Kölner BilderBogen – eines der beliebtesten Stadtmagazine in Köln. Ihr Termin fehlt? Einfach kostenlos einreichen: www.bilderbogen.de/eventeintrag
URL:https://treffpunkt-rodenkirchen.koeln/event/20-koelner-lichter
LOCATION:NRW
END:VEVENT
BEGIN:VEVENT
DTSTART;TZID=Europe/Berlin:20250830T160000
DTEND;TZID=Europe/Berlin:20250830T233000
DTSTAMP:20260421T123425
CREATED:20250725T140036Z
LAST-MODIFIED:20250725T140036Z
UID:30001345-1756569600-1756596600@treffpunkt-rodenkirchen.koeln
SUMMARY:Kölner Stadtachter im Rahmen der Kölner Lichter
DESCRIPTION:Schülerregatta ab 16:00 Uhr\, Ergometerrudern für jedermann\, 20:00 Urh Stadtatchter\, anschließend große Strandparty. Der Eintritt ist frei\nDas Kölner-Lichter-Feuerwerk wird auf einer Großbildwand übertragen.\nFür Getränke und Speisen aller Art ist mit lokalen Dienstleistern bestens gesorgt!\nVeranstalter ist der Kölner Ruderverein von 1877 e.V. \nOrt: Strand vor dem Kölner Ruderverein von 1877 e.V. \n\nDieser Eintrag wird Ihnen zur Verfügung gestellt vom Kölner BilderBogen – eines der beliebtesten Stadtmagazine in Köln. Ihr Termin fehlt? Einfach kostenlos einreichen: www.bilderbogen.de/eventeintrag
URL:https://treffpunkt-rodenkirchen.koeln/event/koelner-stadtachter-im-rahmen-der-koelner-lichter
LOCATION:Kölner Ruderclub 1877\, Barbarastr. 47 – 49\, Köln\, NRW\, 50996\, Deutschland
ATTACH;FMTTYPE=image/jpeg:https://treffpunkt-rodenkirchen.koeln/wp-content/uploads/2025/07/KRV-Strandparty-1024x682-1.jpg
END:VEVENT
BEGIN:VEVENT
DTSTART;TZID=Europe/Berlin:20250830T180000
DTEND;TZID=Europe/Berlin:20250830T230000
DTSTAMP:20260421T123425
CREATED:20250520T080047Z
LAST-MODIFIED:20250702T110036Z
UID:30001227-1756576800-1756594800@treffpunkt-rodenkirchen.koeln
SUMMARY:Barbecue „Kölner Lichter“ – Brauhaus Quetsch
DESCRIPTION:Dieser Eintrag wird Ihnen zur Verfügung gestellt vom Kölner BilderBogen – eines der beliebtesten Stadtmagazine in Köln. Ihr Termin fehlt? Einfach kostenlos einreichen: www.bilderbogen.de/eventeintrag
URL:https://treffpunkt-rodenkirchen.koeln/event/barbecue-koelner-lichter-brauhaus-quetsch
LOCATION:Brauhaus Quetsch\, Hauptstraße 7\, Köln\, NRW\, 50996\, Deutschland
END:VEVENT
BEGIN:VEVENT
DTSTART;TZID=Europe/Berlin:20250830T180000
DTEND;TZID=Europe/Berlin:20250831T000000
DTSTAMP:20260421T123425
CREATED:20250709T110040Z
LAST-MODIFIED:20250709T110040Z
UID:30001315-1756576800-1756598400@treffpunkt-rodenkirchen.koeln
SUMMARY:River Lounge im Rahmen der Kölner Lichter
DESCRIPTION:Seien Sie ganz nah dabei!\nErleben Sie einen Abend voller Genüsse und einmaliger Ausblicke in der River Lounge.\nAm 30. August 2025 ist es wieder soweit: die Rheinterrassen und der km 689 Cologne Beach Club verwandeln sich anlässlich der Kölner Lichter in die exklusive River Lounge. \nEs erwartet Sie ein außergewöhnlicher Abend mit kulinarischen Genüssen für jeden Geschmack und einem atemberaubenden Blick auf den Kölner Dom\, die Altstadt – und natürlich auf das spektakuläre\, musiksynchrone Feuerwerk der Kölner Lichter. \nSichern Sie sich jetzt Ihren Platz in der River Lounge – ob im Freundes- oder Kollegenkreis oder mit Geschäftspartnern – und erleben Sie Ihr Sommer-Highlight mitten im Herzen von Köln. \nWeitere Informationen unter:  info-tanzbrunnen@koelncongress.de \n\nDieser Eintrag wird Ihnen zur Verfügung gestellt vom Kölner BilderBogen – eines der beliebtesten Stadtmagazine in Köln. Ihr Termin fehlt? Einfach kostenlos einreichen: www.bilderbogen.de/eventeintrag
URL:https://treffpunkt-rodenkirchen.koeln/event/river-lounge-im-rahmen-der-koelner-lichter
LOCATION:Rheinterassen\, Rheinparkweg 1\, Köln\, 50679
ATTACH;FMTTYPE=image/png:https://treffpunkt-rodenkirchen.koeln/wp-content/uploads/2025/07/Bildschirmfoto-2025-07-09-um-09.32.26.png
END:VEVENT
END:VCALENDAR