BEGIN:VCALENDAR
VERSION:2.0
PRODID:-//Treffpunkt Rodenkirchen - ECPv6.15.20//NONSGML v1.0//EN
CALSCALE:GREGORIAN
METHOD:PUBLISH
X-WR-CALNAME:Treffpunkt Rodenkirchen
X-ORIGINAL-URL:https://treffpunkt-rodenkirchen.koeln
X-WR-CALDESC:Veranstaltungen für Treffpunkt Rodenkirchen
REFRESH-INTERVAL;VALUE=DURATION:PT1H
X-Robots-Tag:noindex
X-PUBLISHED-TTL:PT1H
BEGIN:VTIMEZONE
TZID:Europe/Berlin
BEGIN:DAYLIGHT
TZOFFSETFROM:+0100
TZOFFSETTO:+0200
TZNAME:CEST
DTSTART:20240331T010000
END:DAYLIGHT
BEGIN:STANDARD
TZOFFSETFROM:+0200
TZOFFSETTO:+0100
TZNAME:CET
DTSTART:20241027T010000
END:STANDARD
BEGIN:DAYLIGHT
TZOFFSETFROM:+0100
TZOFFSETTO:+0200
TZNAME:CEST
DTSTART:20250330T010000
END:DAYLIGHT
BEGIN:STANDARD
TZOFFSETFROM:+0200
TZOFFSETTO:+0100
TZNAME:CET
DTSTART:20251026T010000
END:STANDARD
BEGIN:DAYLIGHT
TZOFFSETFROM:+0100
TZOFFSETTO:+0200
TZNAME:CEST
DTSTART:20260329T010000
END:DAYLIGHT
BEGIN:STANDARD
TZOFFSETFROM:+0200
TZOFFSETTO:+0100
TZNAME:CET
DTSTART:20261025T010000
END:STANDARD
END:VTIMEZONE
BEGIN:VEVENT
DTSTART;TZID=Europe/Berlin:20250915T170000
DTEND;TZID=Europe/Berlin:20250915T180000
DTSTAMP:20260425T134515
CREATED:20250805T100041Z
LAST-MODIFIED:20250805T100041Z
UID:30001367-1757955600-1757959200@treffpunkt-rodenkirchen.koeln
SUMMARY:Malen mit Kindern von 6 bis 10 Jahren
DESCRIPTION:Dieser Eintrag wird Ihnen zur Verfügung gestellt vom Kölner BilderBogen – eines der beliebtesten Stadtmagazine in Köln. Ihr Termin fehlt? Einfach kostenlos einreichen: www.bilderbogen.de/eventeintrag
URL:https://treffpunkt-rodenkirchen.koeln/event/malen-mit-kindern-von-6-bis-10-jahren-2
LOCATION:Villa AWO\, Walther-Rathenau-Str. 9\, Köln\, NRW\, 50996\, Deutschland
ATTACH;FMTTYPE=image/png:https://treffpunkt-rodenkirchen.koeln/wp-content/uploads/2025/08/Bildschirmfoto-2025-08-05-um-11.07.16.png
ORGANIZER;CN="AWO":MAILTO:gemeinsamsindwirstaerker@awo-koeln.de
END:VEVENT
BEGIN:VEVENT
DTSTART;TZID=Europe/Berlin:20250915T170000
DTEND;TZID=Europe/Berlin:20250915T180000
DTSTAMP:20260425T134515
CREATED:20250911T090102Z
LAST-MODIFIED:20250911T100100Z
UID:30001487-1757955600-1757959200@treffpunkt-rodenkirchen.koeln
SUMMARY:Malen mit Kindern
DESCRIPTION:Malen mit verschiedenen Techniken für Kinder von 6 bis 10 Jahren. Anmeldung erforderlich. \n\nDieser Eintrag wird Ihnen zur Verfügung gestellt vom Kölner BilderBogen – eines der beliebtesten Stadtmagazine in Köln. Ihr Termin fehlt? Einfach kostenlos einreichen: www.bilderbogen.de/eventeintrag
URL:https://treffpunkt-rodenkirchen.koeln/event/malen-mit-kindern
LOCATION:Villa AWO\, Walther-Rathenau-Str. 9\, Köln\, NRW\, 50996\, Deutschland
ATTACH;FMTTYPE=image/png:https://treffpunkt-rodenkirchen.koeln/wp-content/uploads/2025/09/Bildschirmfoto-2025-09-11-um-10.16.18.png
ORGANIZER;CN="AWO":MAILTO:gemeinsamsindwirstaerker@awo-koeln.de
END:VEVENT
END:VCALENDAR