BEGIN:VCALENDAR
VERSION:2.0
PRODID:-//Treffpunkt Rodenkirchen - ECPv6.15.20//NONSGML v1.0//EN
CALSCALE:GREGORIAN
METHOD:PUBLISH
X-WR-CALNAME:Treffpunkt Rodenkirchen
X-ORIGINAL-URL:https://treffpunkt-rodenkirchen.koeln
X-WR-CALDESC:Veranstaltungen für Treffpunkt Rodenkirchen
REFRESH-INTERVAL;VALUE=DURATION:PT1H
X-Robots-Tag:noindex
X-PUBLISHED-TTL:PT1H
BEGIN:VTIMEZONE
TZID:Europe/Berlin
BEGIN:DAYLIGHT
TZOFFSETFROM:+0100
TZOFFSETTO:+0200
TZNAME:CEST
DTSTART:20250330T010000
END:DAYLIGHT
BEGIN:STANDARD
TZOFFSETFROM:+0200
TZOFFSETTO:+0100
TZNAME:CET
DTSTART:20251026T010000
END:STANDARD
BEGIN:DAYLIGHT
TZOFFSETFROM:+0100
TZOFFSETTO:+0200
TZNAME:CEST
DTSTART:20260329T010000
END:DAYLIGHT
BEGIN:STANDARD
TZOFFSETFROM:+0200
TZOFFSETTO:+0100
TZNAME:CET
DTSTART:20261025T010000
END:STANDARD
BEGIN:DAYLIGHT
TZOFFSETFROM:+0100
TZOFFSETTO:+0200
TZNAME:CEST
DTSTART:20270328T010000
END:DAYLIGHT
BEGIN:STANDARD
TZOFFSETFROM:+0200
TZOFFSETTO:+0100
TZNAME:CET
DTSTART:20271031T010000
END:STANDARD
END:VTIMEZONE
BEGIN:VEVENT
DTSTART;TZID=Europe/Berlin:20260608T133000
DTEND;TZID=Europe/Berlin:20260608T153000
DTSTAMP:20260424T173642
CREATED:20260420T180101Z
LAST-MODIFIED:20260420T180101Z
UID:30002029-1780925400-1780932600@treffpunkt-rodenkirchen.koeln
SUMMARY:Spielenachmittag
DESCRIPTION:Wir laden Sie herzlich zu einem gemütlichen Spielenachmittag in die Villa AWO ein. \nBildquelle: AWO \n\nDieser Eintrag wird Ihnen zur Verfügung gestellt vom Kölner BilderBogen – eines der beliebtesten Stadtmagazine in Köln. Ihr Termin fehlt? Einfach kostenlos einreichen: www.bilderbogen.de/eventeintrag
URL:https://treffpunkt-rodenkirchen.koeln/event/spielenachmittag-27
LOCATION:Villa AWO\, Walther-Rathenau-Str. 9\, Köln\, NRW\, 50996\, Deutschland
ATTACH;FMTTYPE=image/png:https://treffpunkt-rodenkirchen.koeln/wp-content/uploads/2026/04/Spielenachmittag-2.Quartal-16-724x1024-1.png
END:VEVENT
BEGIN:VEVENT
DTSTART;TZID=Europe/Berlin:20260610T103000
DTEND;TZID=Europe/Berlin:20260610T120000
DTSTAMP:20260424T173642
CREATED:20260420T180103Z
LAST-MODIFIED:20260420T180103Z
UID:30002030-1781087400-1781092800@treffpunkt-rodenkirchen.koeln
SUMMARY:Eltern-Kind-Gruppe
DESCRIPTION:Sie suchen keine Betreuung\, sondern Spielgefährten für Ihr Kind? Und Sie möchten dabei andere Eltern kennenlernen\, sich austauschen und neue Kontakte knüpfen?\nDann sind Sie in der Villa AWO genau richtig!\nUnsere Eltern-Kind-Gruppe richtet sich an Kinder ab etwa 6 Monaten und ihre Eltern. \nBildquelle: AWO \n\nDieser Eintrag wird Ihnen zur Verfügung gestellt vom Kölner BilderBogen – eines der beliebtesten Stadtmagazine in Köln. Ihr Termin fehlt? Einfach kostenlos einreichen: www.bilderbogen.de/eventeintrag
URL:https://treffpunkt-rodenkirchen.koeln/event/eltern-kind-gruppe-9
LOCATION:Villa AWO\, Walther-Rathenau-Str. 9\, Köln\, NRW\, 50996\, Deutschland
ATTACH;FMTTYPE=image/png:https://treffpunkt-rodenkirchen.koeln/wp-content/uploads/2026/04/Eltern-Kind-Gruppe-Villa-10-724x1024-1.png
END:VEVENT
BEGIN:VEVENT
DTSTART;TZID=Europe/Berlin:20260610T140000
DTEND;TZID=Europe/Berlin:20260610T153000
DTSTAMP:20260424T173642
CREATED:20260420T190107Z
LAST-MODIFIED:20260420T200050Z
UID:30002031-1781100000-1781105400@treffpunkt-rodenkirchen.koeln
SUMMARY:DIGITAL FIT – die Villa AWO hilft in jedem Alter. Kurs mit Anmeldung.
DESCRIPTION:Die Villa AWO hilft in jedem Alter. Kurs mit Anmeldung. \nTechnik muss nicht kompliziert sein.\nOb Smartphone\, Tablet oder Laptop – wir unterstützen Sie geduldig und verständlich bei Ihren ersten Schritten oder individuellen Fragen. \nBildquelle: AWO \n\nDieser Eintrag wird Ihnen zur Verfügung gestellt vom Kölner BilderBogen – eines der beliebtesten Stadtmagazine in Köln. Ihr Termin fehlt? Einfach kostenlos einreichen: www.bilderbogen.de/eventeintrag
URL:https://treffpunkt-rodenkirchen.koeln/event/digital-fit-die-villa-awo-hilft-in-jedem-alter-kurs-mit-anmeldung-7
LOCATION:Villa AWO\, Walther-Rathenau-Str. 9\, Köln\, NRW\, 50996\, Deutschland
ATTACH;FMTTYPE=image/png:https://treffpunkt-rodenkirchen.koeln/wp-content/uploads/2026/04/Digital-FIT-die-Villa-AWO-hilft-in-jedem-Alter-1-724x1024-1.png
END:VEVENT
BEGIN:VEVENT
DTSTART;TZID=Europe/Berlin:20260610T190000
DTEND;TZID=Europe/Berlin:20260610T200000
DTSTAMP:20260424T173642
CREATED:20260420T190109Z
LAST-MODIFIED:20260420T190109Z
UID:30002032-1781118000-1781121600@treffpunkt-rodenkirchen.koeln
SUMMARY:Power Pilates
DESCRIPTION:Ein dynamisches Pilates-Workout\, das Kraft\, Stabilität und Beweglichkeit verbindet. \nBildquelle: AWO \n\nDieser Eintrag wird Ihnen zur Verfügung gestellt vom Kölner BilderBogen – eines der beliebtesten Stadtmagazine in Köln. Ihr Termin fehlt? Einfach kostenlos einreichen: www.bilderbogen.de/eventeintrag
URL:https://treffpunkt-rodenkirchen.koeln/event/power-pilates-9
LOCATION:Villa AWO\, Walther-Rathenau-Str. 9\, Köln\, NRW\, 50996\, Deutschland
ATTACH;FMTTYPE=image/png:https://treffpunkt-rodenkirchen.koeln/wp-content/uploads/2026/04/Power-Pilates-724x1024-1.png
END:VEVENT
BEGIN:VEVENT
DTSTART;TZID=Europe/Berlin:20260611T093000
DTEND;TZID=Europe/Berlin:20260611T160000
DTSTAMP:20260424T173642
CREATED:20260312T090127Z
LAST-MODIFIED:20260312T090127Z
UID:30001915-1781170200-1781193600@treffpunkt-rodenkirchen.koeln
SUMMARY:Schnuppertag Lehramt
DESCRIPTION:Das Zentrum für Lehrer*innenbildung (ZfL) der Universität zu Köln lädt Schülerinnen und Schüler zum Schnuppertag Lehramt ein. Die Veranstaltung richtet sich an junge Menschen\, die sich für ein Lehramtsstudium interessieren und einen realistischen Einblick in Studium und Beruf erhalten möchten.\nMit dem Schnuppertag möchte das ZfL Studieninteressierten eine fundierte Entscheidungsgrundlage bieten und frühzeitig für den Beruf „Lehrer*in“ begeistern. \nAnmeldung unter: https://zfl.uni-koeln.de/schnuppertag-lehramt \nDie Veranstaltung ist kostenlos. Teilnehmende erhalten eine Teilnahmebescheinigung. \n\nDieser Eintrag wird Ihnen zur Verfügung gestellt vom Kölner BilderBogen – eines der beliebtesten Stadtmagazine in Köln. Ihr Termin fehlt? Einfach kostenlos einreichen: www.bilderbogen.de/eventeintrag
URL:https://treffpunkt-rodenkirchen.koeln/event/schnuppertag-lehramt
LOCATION:Universität zu Köln\, IBW Gebäude\, Hörsaal 115\, Herbert-Lewin-Straße 2\, Köln\, NRW\, 50931
END:VEVENT
BEGIN:VEVENT
DTSTART;TZID=Europe/Berlin:20260612T100000
DTEND;TZID=Europe/Berlin:20260612T120000
DTSTAMP:20260424T173642
CREATED:20260417T110112Z
LAST-MODIFIED:20260417T120053Z
UID:30001988-1781258400-1781265600@treffpunkt-rodenkirchen.koeln
SUMMARY:Tischtennis
DESCRIPTION:Unser inklusives Tischtennisangebot lädt ein zum freudeorientierten Spielen – ohne Leistungsdruck\, aber mit ganz viel Herz! \nBildquelle: AWO \n\nDieser Eintrag wird Ihnen zur Verfügung gestellt vom Kölner BilderBogen – eines der beliebtesten Stadtmagazine in Köln. Ihr Termin fehlt? Einfach kostenlos einreichen: www.bilderbogen.de/eventeintrag
URL:https://treffpunkt-rodenkirchen.koeln/event/tischtennis-7
LOCATION:Villa AWO\, Walther-Rathenau-Str. 9\, Köln\, NRW\, 50996\, Deutschland
ATTACH;FMTTYPE=image/png:https://treffpunkt-rodenkirchen.koeln/wp-content/uploads/2026/04/Tischtennis-724x1024-1.png
END:VEVENT
BEGIN:VEVENT
DTSTART;TZID=Europe/Berlin:20260614T103000
DTEND;TZID=Europe/Berlin:20260614T133000
DTSTAMP:20260424T173642
CREATED:20260417T110115Z
LAST-MODIFIED:20260417T120056Z
UID:30001989-1781433000-1781443800@treffpunkt-rodenkirchen.koeln
SUMMARY:Persischer Kochtreff
DESCRIPTION:Lust auf leckeres Essen und gute Gesellschaft?\nKomm vorbei und genieße einen gemütlichen Vormittag beim gemeinsamen Kochen!\nWir freuen uns über Spenden für die Lebensmittel. \nBildquelle: AWO \n\nDieser Eintrag wird Ihnen zur Verfügung gestellt vom Kölner BilderBogen – eines der beliebtesten Stadtmagazine in Köln. Ihr Termin fehlt? Einfach kostenlos einreichen: www.bilderbogen.de/eventeintrag
URL:https://treffpunkt-rodenkirchen.koeln/event/persischer-kochtreff-12
LOCATION:Villa AWO\, Walther-Rathenau-Str. 9\, Köln\, NRW\, 50996\, Deutschland
ATTACH;FMTTYPE=image/png:https://treffpunkt-rodenkirchen.koeln/wp-content/uploads/2026/04/Kochtreff-IBA-2026-724x1024-1.png
END:VEVENT
BEGIN:VEVENT
DTSTART;TZID=Europe/Berlin:20260614T143000
DTEND;TZID=Europe/Berlin:20260614T160000
DTSTAMP:20260424T173643
CREATED:20260417T110117Z
LAST-MODIFIED:20260417T110117Z
UID:30001990-1781447400-1781452800@treffpunkt-rodenkirchen.koeln
SUMMARY:Café International
DESCRIPTION:Du möchtest dich in einer Sprache üben\, sprichst mehrere Sprachen oder möchtest dich einfach unterhalten? Dann bist du hier richtig. Tanja\, Marion und Peter laden dich herzlich zu einem gemütlichen Nachmittag in die Villa AWO ein. \nBildquelle: AWO \n\nDieser Eintrag wird Ihnen zur Verfügung gestellt vom Kölner BilderBogen – eines der beliebtesten Stadtmagazine in Köln. Ihr Termin fehlt? Einfach kostenlos einreichen: www.bilderbogen.de/eventeintrag
URL:https://treffpunkt-rodenkirchen.koeln/event/cafe-international-4
LOCATION:Villa AWO\, Walther-Rathenau-Str. 9\, Köln\, NRW\, 50996\, Deutschland
ATTACH;FMTTYPE=image/png:https://treffpunkt-rodenkirchen.koeln/wp-content/uploads/2026/04/Cafe-International1-724x1024-1.png
END:VEVENT
END:VCALENDAR