BEGIN:VCALENDAR
VERSION:2.0
PRODID:-//Treffpunkt Rodenkirchen - ECPv6.15.20//NONSGML v1.0//EN
CALSCALE:GREGORIAN
METHOD:PUBLISH
X-ORIGINAL-URL:https://treffpunkt-rodenkirchen.koeln
X-WR-CALDESC:Veranstaltungen für Treffpunkt Rodenkirchen
REFRESH-INTERVAL;VALUE=DURATION:PT1H
X-Robots-Tag:noindex
X-PUBLISHED-TTL:PT1H
BEGIN:VTIMEZONE
TZID:Europe/Berlin
BEGIN:DAYLIGHT
TZOFFSETFROM:+0100
TZOFFSETTO:+0200
TZNAME:CEST
DTSTART:20250330T010000
END:DAYLIGHT
BEGIN:STANDARD
TZOFFSETFROM:+0200
TZOFFSETTO:+0100
TZNAME:CET
DTSTART:20251026T010000
END:STANDARD
BEGIN:DAYLIGHT
TZOFFSETFROM:+0100
TZOFFSETTO:+0200
TZNAME:CEST
DTSTART:20260329T010000
END:DAYLIGHT
BEGIN:STANDARD
TZOFFSETFROM:+0200
TZOFFSETTO:+0100
TZNAME:CET
DTSTART:20261025T010000
END:STANDARD
BEGIN:DAYLIGHT
TZOFFSETFROM:+0100
TZOFFSETTO:+0200
TZNAME:CEST
DTSTART:20270328T010000
END:DAYLIGHT
BEGIN:STANDARD
TZOFFSETFROM:+0200
TZOFFSETTO:+0100
TZNAME:CET
DTSTART:20271031T010000
END:STANDARD
END:VTIMEZONE
BEGIN:VEVENT
DTSTART;TZID=Europe/Berlin:20260622T133000
DTEND;TZID=Europe/Berlin:20260622T153000
DTSTAMP:20260424T175717
CREATED:20260420T200055Z
LAST-MODIFIED:20260420T200055Z
UID:30002037-1782135000-1782142200@treffpunkt-rodenkirchen.koeln
SUMMARY:Spielenachmittag
DESCRIPTION:Wir laden Sie herzlich zu einem gemütlichen Spielenachmittag in die Villa AWO ein. \nBildquelle: AWO \n\nDieser Eintrag wird Ihnen zur Verfügung gestellt vom Kölner BilderBogen – eines der beliebtesten Stadtmagazine in Köln. Ihr Termin fehlt? Einfach kostenlos einreichen: www.bilderbogen.de/eventeintrag
URL:https://treffpunkt-rodenkirchen.koeln/event/spielenachmittag-29
LOCATION:Villa AWO\, Walther-Rathenau-Str. 9\, Köln\, NRW\, 50996\, Deutschland
ATTACH;FMTTYPE=image/png:https://treffpunkt-rodenkirchen.koeln/wp-content/uploads/2026/04/Spielenachmittag-2.Quartal-16-724x1024-1.png
END:VEVENT
BEGIN:VEVENT
DTSTART;TZID=Europe/Berlin:20260623T110000
DTEND;TZID=Europe/Berlin:20260623T120000
DTSTAMP:20260424T175717
CREATED:20260420T200056Z
LAST-MODIFIED:20260420T210052Z
UID:30002038-1782212400-1782216000@treffpunkt-rodenkirchen.koeln
SUMMARY:Im Gleichgewicht bleiben
DESCRIPTION:Unsicherheit und Angst zu stürzen\, das kennen viele! Deswegen bieten Annette und Hannelore diesen Kurs an und zeigen Übungen\, die dies verhindern können.\nÜbungen zur Förderung der Körperwahrnehmung\, für die Stabilisation und zum Muskelaufbau.\nSo werden wir die “Höhen und Tiefen des Alltags” sicherer bewältigen. \nBildquelle: AWO \n\nDieser Eintrag wird Ihnen zur Verfügung gestellt vom Kölner BilderBogen – eines der beliebtesten Stadtmagazine in Köln. Ihr Termin fehlt? Einfach kostenlos einreichen: www.bilderbogen.de/eventeintrag
URL:https://treffpunkt-rodenkirchen.koeln/event/im-gleichgewicht-bleiben-8
LOCATION:Villa AWO\, Walther-Rathenau-Str. 9\, Köln\, NRW\, 50996\, Deutschland
ATTACH;FMTTYPE=image/png:https://treffpunkt-rodenkirchen.koeln/wp-content/uploads/2026/04/Im-Gleichgewicht-bleiben-724x1024-1.png
END:VEVENT
BEGIN:VEVENT
DTSTART;TZID=Europe/Berlin:20260624T103000
DTEND;TZID=Europe/Berlin:20260624T120000
DTSTAMP:20260424T175717
CREATED:20260420T200058Z
LAST-MODIFIED:20260420T200058Z
UID:30002039-1782297000-1782302400@treffpunkt-rodenkirchen.koeln
SUMMARY:Eltern-Kind-Gruppe
DESCRIPTION:Sie suchen keine Betreuung\, sondern Spielgefährten für Ihr Kind? Und Sie möchten dabei andere Eltern kennenlernen\, sich austauschen und neue Kontakte knüpfen?\nDann sind Sie in der Villa AWO genau richtig!\nUnsere Eltern-Kind-Gruppe richtet sich an Kinder ab etwa 6 Monaten und ihre Eltern. \nBildquelle: AWO \n\nDieser Eintrag wird Ihnen zur Verfügung gestellt vom Kölner BilderBogen – eines der beliebtesten Stadtmagazine in Köln. Ihr Termin fehlt? Einfach kostenlos einreichen: www.bilderbogen.de/eventeintrag
URL:https://treffpunkt-rodenkirchen.koeln/event/eltern-kind-gruppe-11
LOCATION:Villa AWO\, Walther-Rathenau-Str. 9\, Köln\, NRW\, 50996\, Deutschland
ATTACH;FMTTYPE=image/png:https://treffpunkt-rodenkirchen.koeln/wp-content/uploads/2026/04/Eltern-Kind-Gruppe-Villa-10-724x1024-1.png
END:VEVENT
BEGIN:VEVENT
DTSTART;TZID=Europe/Berlin:20260624T140000
DTEND;TZID=Europe/Berlin:20260624T153000
DTSTAMP:20260424T175717
CREATED:20260420T200100Z
LAST-MODIFIED:20260420T210053Z
UID:30002040-1782309600-1782315000@treffpunkt-rodenkirchen.koeln
SUMMARY:DIGITAL FIT – die Villa AWO hilft in jedem Alter. Kurs mit Anmeldung.
DESCRIPTION:Die Villa AWO hilft in jedem Alter. Kurs mit Anmeldung. \nTechnik muss nicht kompliziert sein.\nOb Smartphone\, Tablet oder Laptop – wir unterstützen Sie geduldig und verständlich bei Ihren ersten Schritten oder individuellen Fragen. \nBildquelle: AWO \n\nDieser Eintrag wird Ihnen zur Verfügung gestellt vom Kölner BilderBogen – eines der beliebtesten Stadtmagazine in Köln. Ihr Termin fehlt? Einfach kostenlos einreichen: www.bilderbogen.de/eventeintrag
URL:https://treffpunkt-rodenkirchen.koeln/event/digital-fit-die-villa-awo-hilft-in-jedem-alter-kurs-mit-anmeldung-9
LOCATION:Villa AWO\, Walther-Rathenau-Str. 9\, Köln\, NRW\, 50996\, Deutschland
ATTACH;FMTTYPE=image/png:https://treffpunkt-rodenkirchen.koeln/wp-content/uploads/2026/04/Digital-FIT-die-Villa-AWO-hilft-in-jedem-Alter-1-724x1024-1.png
END:VEVENT
BEGIN:VEVENT
DTSTART;TZID=Europe/Berlin:20260624T190000
DTEND;TZID=Europe/Berlin:20260624T200000
DTSTAMP:20260424T175717
CREATED:20260420T210055Z
LAST-MODIFIED:20260420T210055Z
UID:30002041-1782327600-1782331200@treffpunkt-rodenkirchen.koeln
SUMMARY:Power Pilates
DESCRIPTION:Ein dynamisches Pilates-Workout\, das Kraft\, Stabilität und Beweglichkeit verbindet. \nBildquelle: AWO \n\nDieser Eintrag wird Ihnen zur Verfügung gestellt vom Kölner BilderBogen – eines der beliebtesten Stadtmagazine in Köln. Ihr Termin fehlt? Einfach kostenlos einreichen: www.bilderbogen.de/eventeintrag
URL:https://treffpunkt-rodenkirchen.koeln/event/power-pilates-10
LOCATION:Villa AWO\, Walther-Rathenau-Str. 9\, Köln\, NRW\, 50996\, Deutschland
ATTACH;FMTTYPE=image/png:https://treffpunkt-rodenkirchen.koeln/wp-content/uploads/2026/04/Power-Pilates-724x1024-1.png
END:VEVENT
BEGIN:VEVENT
DTSTART;TZID=Europe/Berlin:20260625T173000
DTEND;TZID=Europe/Berlin:20260625T193000
DTSTAMP:20260424T175717
CREATED:20260414T100058Z
LAST-MODIFIED:20260414T100058Z
UID:30001966-1782408600-1782415800@treffpunkt-rodenkirchen.koeln
SUMMARY:Die Genussrunde
DESCRIPTION:Egal ob Küchenprofi oder Neuling – bei uns bist Du richtig!\nWir gründen eine neue Kochgruppe in der Villa AWO und suchen Menschen\, die Lust haben\, gemeinsam zu kochen\, neue Rezepte auszuprobieren und nette Leute kennenzulernen. \nWas erwartet Dich?\nGemeinsames Kochen & Essen\nAustausch von Ideen und Rezepten\nNeue Begegnungen & Spaß in der Küche \nAnmeldung erforderlich eine Woche vorher bei Janna Schillinger oder Aleksandra Jasinska\, unter gemeinsamsindwirstaerker@awo-koeln.de oder telefonisch unter 0178 1463 796 \nSpende für die Lebensmittel herzlich willkommen. \nBildquelle: AWO Köln \n\nDieser Eintrag wird Ihnen zur Verfügung gestellt vom Kölner BilderBogen – eines der beliebtesten Stadtmagazine in Köln. Ihr Termin fehlt? Einfach kostenlos einreichen: www.bilderbogen.de/eventeintrag
URL:https://treffpunkt-rodenkirchen.koeln/event/die-genussrunde-4
LOCATION:Villa AWO\, Walther-Rathenau-Str. 9\, Köln\, NRW\, 50996\, Deutschland
ATTACH;FMTTYPE=image/png:https://treffpunkt-rodenkirchen.koeln/wp-content/uploads/2026/04/Die-Genussrunde-724x1024-1.png
END:VEVENT
BEGIN:VEVENT
DTSTART;TZID=Europe/Berlin:20260625T190000
DTEND;TZID=Europe/Berlin:20260625T220000
DTSTAMP:20260424T175717
CREATED:20260109T120038Z
LAST-MODIFIED:20260109T120038Z
UID:30001742-1782414000-1782424800@treffpunkt-rodenkirchen.koeln
SUMMARY:Lou’s The Cool Cats
DESCRIPTION:Lou’s The Cool Cats sind eine fantastische Swing-Band\, die mit ihrer selbstbewussten und stilvollen Präsenz beweist\, dass Swing-Musik auch in der heutigen Zeit noch voll im Trend liegt. Die Fähigkeit\, die Vergangenheit und die Gegenwart zu verbinden\, ist eine wunderbare Kunst\, die genau den Cool Cats aus Köln zuzuschreiben ist.\nDie Band setzt sich aus den Sängerinnen Lou Goldstein\, Julie van Hoeven und Peggy Sugarhill zusammen und wird von vier streunenden Katern an Kontrabass\, Klavier\, Gitarre und Schlagzeug sowie der faszinierenden Swing-Tänzerin Lucy Flournoy begleitet. \n\n\nAls Jazzband zeichnet sich Lou’s The Cool Cats durch ihre Fähigkeit aus\, klassisches Vintage-Flair mit moderner Eleganz zu vereinen und einen einzigartigen Retro-Pop-Sound zu kreieren\, der die goldenen Epochen vergangener Tage mit frischem Wind durchweht\, ohne dabei auch nur einen Hauch ihres ursprünglichen Glanzes einzubüßen. \n\n\nSie begeistern dabei nicht nur mit hinreißenden Interpretationen von Klassikern wie „Puttin on the Ritz“ und „Mr. Sandman“\, sondern auch mit neuartig gekonnt verpackten Retro-Pop-Versionen von Songs wie „Nothing Breaks Like a Heart“ von Miley Cyrus\, „Aeroplane“ von den Red Hot Chili Peppers oder „Don’t Cha“ von den Pussycat Dolls. \n\n\nMit ihrer wunderbaren Kombination aus dreistimmigem Gesang\, kleinen Tanz-Einlagen und einer großen Portion Schlagfertigkeit und Selbstironie stellen die Cool Cats und ihre Band einen wahren Augen- und Ohrenschmaus dar und garantieren ihren Zuhörer- und Zuschauer/-innen eine unvergessliche Erfahrung. \n\n\nEintritt 15 Euro zzgl. VVK (freie Sitzplatzwahl) \n\n\nTickets hier erhältlich. \n\nGerne können Sie sich auch bei Ticketwünschen oder Rückfragen an stiftung@diakonie-michaelshoven.de wenden. Wir helfen gerne weiter. \n\n\nEinlass ab 18 Uhr\, Beginn 19 Uhr\n2x 40 Minuten zzgl. Pause \n\n\nErzengel-Michael-Kirche\, Pfarrer-te-Reh-Str. 5\, 50999 Köln \n\n\nHinweis zur Anfahrt:\nBitte nutzen Sie die Mitarbeiterparkplätze zu Beginn der Pfarrer-te-Reh Straße. Vor der Kirche stehen keine Parkplätze zur Verfügung. \n\n\n\n\n  \n\n\nDieser Eintrag wird Ihnen zur Verfügung gestellt vom Kölner BilderBogen – eines der beliebtesten Stadtmagazine in Köln. Ihr Termin fehlt? Einfach kostenlos einreichen: www.bilderbogen.de/eventeintrag
URL:https://treffpunkt-rodenkirchen.koeln/event/lous-the-cool-cats
LOCATION:Erzengel-Michael-Kirche – Michaelshoven\, Pfarrer-Te-Reh-Straße 7\, Köln\, NRW\, 50999\, Deutschland
ATTACH;FMTTYPE=image/jpeg:https://treffpunkt-rodenkirchen.koeln/wp-content/uploads/2026/01/CoolCats_Klaudius-Dziuk-683x1024-1.jpg
END:VEVENT
BEGIN:VEVENT
DTSTART;TZID=Europe/Berlin:20260626T100000
DTEND;TZID=Europe/Berlin:20260626T120000
DTSTAMP:20260424T175717
CREATED:20260417T120104Z
LAST-MODIFIED:20260417T130104Z
UID:30001993-1782468000-1782475200@treffpunkt-rodenkirchen.koeln
SUMMARY:Tischtennis
DESCRIPTION:Unser inklusives Tischtennisangebot lädt ein zum freudeorientierten Spielen – ohne Leistungsdruck\, aber mit ganz viel Herz! \nBildquelle: AWO \n\nDieser Eintrag wird Ihnen zur Verfügung gestellt vom Kölner BilderBogen – eines der beliebtesten Stadtmagazine in Köln. Ihr Termin fehlt? Einfach kostenlos einreichen: www.bilderbogen.de/eventeintrag
URL:https://treffpunkt-rodenkirchen.koeln/event/tischtennis-9
LOCATION:Villa AWO\, Walther-Rathenau-Str. 9\, Köln\, NRW\, 50996\, Deutschland
ATTACH;FMTTYPE=image/png:https://treffpunkt-rodenkirchen.koeln/wp-content/uploads/2026/04/Tischtennis-724x1024-1.png
END:VEVENT
BEGIN:VEVENT
DTSTART;TZID=Europe/Berlin:20260628T110000
DTEND;TZID=Europe/Berlin:20260628T130000
DTSTAMP:20260424T175717
CREATED:20260107T190042Z
LAST-MODIFIED:20260107T190042Z
UID:30001731-1782644400-1782651600@treffpunkt-rodenkirchen.koeln
SUMMARY:Martin Sasse – Solopiano
DESCRIPTION:Martin Sasse gilt als Koryphäe des Jazz. Der Pianist\, Keyboarder und Komponist zählt zu den wichtigsten\nJazzpianisten des Landes\, auch sein internationaler Ruhm ist beträchtlich.\nSeine Piano-Sprache wird bestimmt von Groove\, Swing\, Energie\, Virtuosität\,\nEinfallsreichtum\, hoher Improvisationskunst und einer sagenhaften Spielfreude\,\ndie vor allem bei Live-Auftritten zu Sasses unverwechselbaren Kennzeichen gehört. \nNeben seinen Soloauftritten spielt er in verschiedenen Formationen\, hat Stars\nwie Sting\, Chris de Burgh\, Jose Carreras\, Placido Domingo und Luciano Pavarotti\nbegleitet und trat mit Helge Schneider\, Udo Jürgens und Udo Lindenberg auf. \nBei Konzerten\, ob Solo oder mit anderen Musizierenden\, glänzt Martin Sasse\nmit faszinierender Vortragsweise\, die nahbare Art und der leidenschaftliche\nAusdruck in seiner Musik machen seine Konzerte zu wahren Erlebnissen.\nwww.martinsasse.de \nEintritt frei – eine Spende ist gerne willkommen ! \nVeranstaltungsort:\nRuder-und Tennisklub RTK Germania e.V.\nAlfred-Schütte-Allee 163\n51105 Köln-Poll\nwww.rtk-germania.de\nRTK-Germania-Musik@t-online.de \nBildquelle: martinsasse.de / ©Lena Semmelroggen \n\nDieser Eintrag wird Ihnen zur Verfügung gestellt vom Kölner BilderBogen – eines der beliebtesten Stadtmagazine in Köln. Ihr Termin fehlt? Einfach kostenlos einreichen: www.bilderbogen.de/eventeintrag
URL:https://treffpunkt-rodenkirchen.koeln/event/martin-sasse-solopiano
LOCATION:RTK Germania Köln-Poll\, Alfred-Schütte-Allee 163
ATTACH;FMTTYPE=image/jpeg:https://treffpunkt-rodenkirchen.koeln/wp-content/uploads/2026/01/Foto-Martin-Sasse-1024x990-1.jpg
END:VEVENT
END:VCALENDAR