BEGIN:VCALENDAR
VERSION:2.0
PRODID:-//Treffpunkt Rodenkirchen - ECPv6.15.20//NONSGML v1.0//EN
CALSCALE:GREGORIAN
METHOD:PUBLISH
X-ORIGINAL-URL:https://treffpunkt-rodenkirchen.koeln
X-WR-CALDESC:Veranstaltungen für Treffpunkt Rodenkirchen
REFRESH-INTERVAL;VALUE=DURATION:PT1H
X-Robots-Tag:noindex
X-PUBLISHED-TTL:PT1H
BEGIN:VTIMEZONE
TZID:Europe/Berlin
BEGIN:DAYLIGHT
TZOFFSETFROM:+0100
TZOFFSETTO:+0200
TZNAME:CEST
DTSTART:20240331T010000
END:DAYLIGHT
BEGIN:STANDARD
TZOFFSETFROM:+0200
TZOFFSETTO:+0100
TZNAME:CET
DTSTART:20241027T010000
END:STANDARD
BEGIN:DAYLIGHT
TZOFFSETFROM:+0100
TZOFFSETTO:+0200
TZNAME:CEST
DTSTART:20250330T010000
END:DAYLIGHT
BEGIN:STANDARD
TZOFFSETFROM:+0200
TZOFFSETTO:+0100
TZNAME:CET
DTSTART:20251026T010000
END:STANDARD
BEGIN:DAYLIGHT
TZOFFSETFROM:+0100
TZOFFSETTO:+0200
TZNAME:CEST
DTSTART:20260329T010000
END:DAYLIGHT
BEGIN:STANDARD
TZOFFSETFROM:+0200
TZOFFSETTO:+0100
TZNAME:CET
DTSTART:20261025T010000
END:STANDARD
END:VTIMEZONE
BEGIN:VEVENT
DTSTART;TZID=Europe/Berlin:20251018T220000
DTEND;TZID=Europe/Berlin:20251019T050000
DTSTAMP:20260425T163351
CREATED:20250929T090042Z
LAST-MODIFIED:20250929T090042Z
UID:30001545-1760824800-1760850000@treffpunkt-rodenkirchen.koeln
SUMMARY:Back to History
DESCRIPTION:BACK TO HISTORY\nBist Du bereit für die ultimative Zeitreise durch die Geschichte der Club-Musik?\nBack to History ist DIE neue\, wilde Partyreihe in Köln. Mach dich bereit für ikonische Dancefloor Hits und unsterbliche Partyhymnen aus 50 Jahren Clubgeschichte – von den schillernden 70ern bis hin zu den legendären 2010ern.\nUnsere DJs servieren dir einen vibrierenden Mix musikalischer Leckerbissen aus Funk\, Pop\, Disco\, House\, Synthie\, Rock und Wave. Das ist mehr als nur eine Party – es ist eine Reise durch die Vergangenheit mit ganz besonderen Twist: einem gemeinsamen emotionalen Feuerwerk im hier und jetzt.\nam 18.10.25 ab 22 Uhr\nEintritt: 10\,-€ inkl. 1 Shot\nBollwerk Cologne\n(ehemals: Moroco / Nachtrock / Tiefenrausch / Starz / Crystal)\nFree Shots & Specials\nTickets: https://rausgegangen.de/events/back-to-history-0/\nUnd hier geht es zum FB-Event: https://fb.me/e/6GtS5EMnp\nWir freuen uns auf dich und deine Energie! \n\nDieser Eintrag wird Ihnen zur Verfügung gestellt vom Kölner BilderBogen – eines der beliebtesten Stadtmagazine in Köln. Ihr Termin fehlt? Einfach kostenlos einreichen: www.bilderbogen.de/eventeintrag
URL:https://treffpunkt-rodenkirchen.koeln/event/back-to-history
LOCATION:Bollwerk\, Hohenzollernring 89-93\, Köln\, 50672
ATTACH;FMTTYPE=image/png:https://treffpunkt-rodenkirchen.koeln/wp-content/uploads/2025/09/Bildschirmfoto-2025-09-29-um-10.30.57-1024x566-1.png
END:VEVENT
END:VCALENDAR