BEGIN:VCALENDAR
VERSION:2.0
PRODID:-//Treffpunkt Rodenkirchen - ECPv6.15.20//NONSGML v1.0//EN
CALSCALE:GREGORIAN
METHOD:PUBLISH
X-ORIGINAL-URL:https://treffpunkt-rodenkirchen.koeln
X-WR-CALDESC:Veranstaltungen für Treffpunkt Rodenkirchen
REFRESH-INTERVAL;VALUE=DURATION:PT1H
X-Robots-Tag:noindex
X-PUBLISHED-TTL:PT1H
BEGIN:VTIMEZONE
TZID:Europe/Berlin
BEGIN:DAYLIGHT
TZOFFSETFROM:+0100
TZOFFSETTO:+0200
TZNAME:CEST
DTSTART:20240331T010000
END:DAYLIGHT
BEGIN:STANDARD
TZOFFSETFROM:+0200
TZOFFSETTO:+0100
TZNAME:CET
DTSTART:20241027T010000
END:STANDARD
BEGIN:DAYLIGHT
TZOFFSETFROM:+0100
TZOFFSETTO:+0200
TZNAME:CEST
DTSTART:20250330T010000
END:DAYLIGHT
BEGIN:STANDARD
TZOFFSETFROM:+0200
TZOFFSETTO:+0100
TZNAME:CET
DTSTART:20251026T010000
END:STANDARD
BEGIN:DAYLIGHT
TZOFFSETFROM:+0100
TZOFFSETTO:+0200
TZNAME:CEST
DTSTART:20260329T010000
END:DAYLIGHT
BEGIN:STANDARD
TZOFFSETFROM:+0200
TZOFFSETTO:+0100
TZNAME:CET
DTSTART:20261025T010000
END:STANDARD
END:VTIMEZONE
BEGIN:VEVENT
DTSTART;TZID=Europe/Berlin:20251207T140000
DTEND;TZID=Europe/Berlin:20251207T180000
DTSTAMP:20260421T055449
CREATED:20251118T100048Z
LAST-MODIFIED:20251118T100048Z
UID:30001674-1765116000-1765130400@treffpunkt-rodenkirchen.koeln
SUMMARY:Kunstsonntag in der Wachsfabrik von 14 bis 18 Uhr
DESCRIPTION:die Künstler*innen des Kunstzentrum Wachsfabrik laden herzlich am 07. Dezember\, zwischen 14 und 18 Uhr in ihre geöffneten Ateliers ein und freuen sich auf die Besucher und persönliche Begegnungen. Der Eintritt ist frei. Das Café ist geöffnet. \nAdresse: Industriestraße 170\, 50999 Köln\nWeitere Informationen unter www.kunstzentrum-wachsfabrik.koeln. \n8 geöffnete Ateliers: \nAtelier 05 – Sebastian Probst – Art Projekt – Bildhauerei\nAtelier 10 – Jeannette de Payrebrune – Malerei & Bildhauerei\nAtelier 12 – Manfred Wachendorf\, Jovita Majewski\, Pascal Behrendt\, Inge Lager\, Mia Forsch – Skulptur & Malerei\nAtelier 13 – Gertraud Lütkefels – Schmuck & Objekte\nAtelier 14 – miegL + Gastkünstler*in Student*in – Malerei & Bildhauerei\nAtelier 19 – Sabine Burghardt – Fotografie\nAtelier 20 – Joao de Almeida – Objekte\nAtelier 21 – Martha Potempa & Thomas Brück – Singer-Songwriter \nWir würden uns auch über Ihren Besuch freuen! \n\nDieser Eintrag wird Ihnen zur Verfügung gestellt vom Kölner BilderBogen – eines der beliebtesten Stadtmagazine in Köln. Ihr Termin fehlt? Einfach kostenlos einreichen: www.bilderbogen.de/eventeintrag
URL:https://treffpunkt-rodenkirchen.koeln/event/kunstsonntag-in-der-wachsfabrik-von-14-bis-18-uhr-2
LOCATION:Wachsfabrik\, Industriestraße 170\, Köln\, 50999\, Deutschland
END:VEVENT
BEGIN:VEVENT
DTSTART;TZID=Europe/Berlin:20251102T140000
DTEND;TZID=Europe/Berlin:20251102T180000
DTSTAMP:20260421T055449
CREATED:20251021T090055Z
LAST-MODIFIED:20251021T090055Z
UID:30001620-1762092000-1762106400@treffpunkt-rodenkirchen.koeln
SUMMARY:Kunstsonntag in der Wachsfabrik von 14 bis 18 Uhr
DESCRIPTION:Die Künstler*innen des Kunstzentrum Wachsfabrik laden herzlich am 02. November\, zwischen 14 und 18 Uhr in ihre geöffneten Ateliers ein und freuen sich auf die Besucher und persönliche Begegnungen. Der Eintritt ist frei. Das Café ist geöffnet. \nAdresse: Industriestraße 170\, 50999 Köln\nWeitere Informationen unter www.kunstzentrum-wachsfabrik.koeln. \n8 geöffnete Ateliers: \nAtelier 05 – Sebastian Probst – Art Projekt – Bildhauerei\nAtelier 10 – Jeannette de Payrebrune – Malerei & Bildhauerei\nAtelier 12 – Manfred Wachendorf\, Jovita Majewski\, Pascal Behrendt\, Inge Lager\, Mia Forsch – Skulptur & Malerei\nAtelier 13 – Gertraud Lütkefels – Schmuck & Objekte\nAtelier 14 – miegL + Gastkünstler*in Student*in – Malerei & Bildhauerei\nAtelier 19 – Sabine Burghardt – Fotografie\nAtelier 20 – Joao de Almeida – Objekte\nAtelier 21 – Martha Potempa & Thomas Brück – Singer-Songwriter \n\nDieser Eintrag wird Ihnen zur Verfügung gestellt vom Kölner BilderBogen – eines der beliebtesten Stadtmagazine in Köln. Ihr Termin fehlt? Einfach kostenlos einreichen: www.bilderbogen.de/eventeintrag
URL:https://treffpunkt-rodenkirchen.koeln/event/kunstsonntag-in-der-wachsfabrik-von-14-bis-18-uhr
LOCATION:Wachsfabrik\, Industriestraße 170\, Köln\, 50999\, Deutschland
END:VEVENT
BEGIN:VEVENT
DTSTART;TZID=Europe/Berlin:20251005T130000
DTEND;TZID=Europe/Berlin:20251005T180000
DTSTAMP:20260421T055449
CREATED:20250911T100108Z
LAST-MODIFIED:20250911T100108Z
UID:30001492-1759669200-1759687200@treffpunkt-rodenkirchen.koeln
SUMMARY:Kunstsonntag in der Wachsfabrik von 14 bis 18 Uhr mit Führung ab 13 Uhr!
DESCRIPTION:Die Künstler*innen des Kunstzentrum Wachsfabrik laden herzlich am 05. Oktober zwischen 14 und 18 Uhr in ihre geöffneten Ateliers ein und freuen sich auf die Besucher und persönliche Begegnungen. Der Eintritt ist frei. Das Café ist geöffnet. \nAb 13 Uhr bietet Hanna Styrie eine Führung durch die Ateliers mit Informationen zur Geschichte des Ortes über ca. 1\,5 Stunden an. Treffpunkt ist vor dem Rolltor vorne. Die Führungen finden auf Spendenbasis statt und werden vom Kulturforum Wachsfabrik e.V. unterstützt. \nAdresse: Industriestraße 170\, 50999 Köln \nWeitere Informationen unter www.kunstzentrum-wachsfabrik.koeln. \n8 geöffnete Ateliers: \nAtelier 05 – Sebastian Probst – Art Projekt – Bildhauerei \nAtelier 10 – Gastkünstlerin Anna Nguyen & J. de Payrebrune – Malerei & Bildhauerei \nAtelier 12 – Manfred Wachendorf\, Jovita Majewski\, Pascal Behrendt\, Inge Lager\, Mia Forsch – Skulptur & Malerei \nAtelier 13 – Gertraud Lütkefels – Schmuck & Objekte \nAtelier 14 – miegL + Gastkünstler*in Student*in – Malerei & Bildhauerei \nAtelier 19 – Sabine Burghardt – Fotografie \nAtelier 20 – Joao de Almeida – Objekte \nAtelier 21 – Martha Potempa & Thomas Brück – Singer-Songwriter \n  \n\n\nDieser Eintrag wird Ihnen zur Verfügung gestellt vom Kölner BilderBogen – eines der beliebtesten Stadtmagazine in Köln. Ihr Termin fehlt? Einfach kostenlos einreichen: www.bilderbogen.de/eventeintrag
URL:https://treffpunkt-rodenkirchen.koeln/event/kunstsonntag-in-der-wachsfabrik-von-14-bis-18-uhr-mit-fuehrung-ab-13-uhr-5
LOCATION:Wachsfabrik\, Industriestraße 170\, Köln\, 50999\, Deutschland
ATTACH;FMTTYPE=image/png:https://treffpunkt-rodenkirchen.koeln/wp-content/uploads/2025/09/Bildschirmfoto-2025-09-11-um-10.14.09-1022x1024-1.png
END:VEVENT
BEGIN:VEVENT
DTSTART;TZID=Europe/Berlin:20250907T140000
DTEND;TZID=Europe/Berlin:20250907T180000
DTSTAMP:20260421T055449
CREATED:20250811T100038Z
LAST-MODIFIED:20250811T100038Z
UID:30001386-1757253600-1757268000@treffpunkt-rodenkirchen.koeln
SUMMARY:Kunstsonntag in der Wachsfabrik
DESCRIPTION:die Künstler*innen des Kunstzentrum Wachsfabrik laden herzlich am 07. September zwischen 14 und 18 Uhr in ihre geöffneten Ateliers ein und freuen sich auf die Besucher und persönliche Begegnungen. Der Eintritt ist frei. Das Café ist geöffnet. \nAdresse: Industriestraße 170\, 50999 Köln \nWeitere Informationen unter www.kunstzentrum-wachsfabrik.koeln. \n8 geöffnete Ateliers: \nAtelier 10 – Jeannette de Payrebrune – Malerei & Bildhauerei \nAtelier 12 – Manfred Wachendorf\, Jovita Majewski\, Pascal Behrendt\, Inge Lager\, Mia Forsch – Skulptur & Malerei \nAtelier 13 – Gertraud Lütkefels – Schmuck & Objekte \nAtelier 14 – miegL + Gastkünstler*in Student*in – Malerei & Bildhauerei \nAtelier 19 – Sabine Burghardt – Fotografie \nAtelier 20 – Joao de Almeida – Objekte \nAtelier 21 – Martha Potempa & Thomas Brück – Singer-Songwriter \nAtelier 25 – Hans Jürgen Greve – BOKX Bücherschränke + Gastkünstler*in Student*in \n  \nWir würden uns auch über Ihren Besuch freuen!\n\nDieser Eintrag wird Ihnen zur Verfügung gestellt vom Kölner BilderBogen – eines der beliebtesten Stadtmagazine in Köln. Ihr Termin fehlt? Einfach kostenlos einreichen: www.bilderbogen.de/eventeintrag
URL:https://treffpunkt-rodenkirchen.koeln/event/kunstsonntag-in-der-wachsfabrik-4
LOCATION:Wachsfabrik\, Industriestraße 170\, Köln\, 50999\, Deutschland
END:VEVENT
BEGIN:VEVENT
DTSTART;TZID=Europe/Berlin:20250801T183000
DTEND;TZID=Europe/Berlin:20250801T220000
DTSTAMP:20260421T055449
CREATED:20250710T080032Z
LAST-MODIFIED:20250710T090033Z
UID:30001317-1754073000-1754085600@treffpunkt-rodenkirchen.koeln
SUMMARY:Jazz Konzert unter Bäumen im Kunstzentrum Wachsfabrik
DESCRIPTION:Jazz – pur und schnörkelos\, eine große Stimme begleitet von einem virtuosen Pianisten\, der weiß was Jazz kann. Denise Jannah und Wolfgang Behrendt begleitet von Drummer Tobias Stupeler. \n\nAugust 2025 – 19 bis ca. 22 Uhr (Einlass ab 18:30 Uhr)\n\nOpen Air auf der kleinen Bühne unter Bäumen. Bei Regen findet das Konzert in einem der großen Ateliers statt. \nTicket incl. Getränken und Pausensnack:  20\,- € \nKarten im Vorverkauf über https://kulturforum-wachsfabrik.koeln/produkt/01-08-2025-konzert-denise-jannah-und-wolfgang-behrendt \noder an der Abendkasse (es sind 60 Plätze vorhanden). \n  \nAdresse: Industriestraße 170\, 50999 Köln \nWeitere Informationen unter  www.kulturforum-wachsfabrik.koeln und www.kunstzentrum-wachsfabrik.koeln. \n  \n\nDieser Eintrag wird Ihnen zur Verfügung gestellt vom Kölner BilderBogen – eines der beliebtesten Stadtmagazine in Köln. Ihr Termin fehlt? Einfach kostenlos einreichen: www.bilderbogen.de/eventeintrag
URL:https://treffpunkt-rodenkirchen.koeln/event/jazz-konzert-unter-baeumen-im-kunstzentrum-wachsfabrik
LOCATION:Wachsfabrik\, Industriestraße 170\, Köln\, 50999\, Deutschland
END:VEVENT
END:VCALENDAR