BEGIN:VCALENDAR
VERSION:2.0
PRODID:-//Treffpunkt Rodenkirchen - ECPv6.15.20//NONSGML v1.0//EN
CALSCALE:GREGORIAN
METHOD:PUBLISH
X-ORIGINAL-URL:https://treffpunkt-rodenkirchen.koeln
X-WR-CALDESC:Veranstaltungen für Treffpunkt Rodenkirchen
REFRESH-INTERVAL;VALUE=DURATION:PT1H
X-Robots-Tag:noindex
X-PUBLISHED-TTL:PT1H
BEGIN:VTIMEZONE
TZID:Europe/Berlin
BEGIN:DAYLIGHT
TZOFFSETFROM:+0100
TZOFFSETTO:+0200
TZNAME:CEST
DTSTART:20240331T010000
END:DAYLIGHT
BEGIN:STANDARD
TZOFFSETFROM:+0200
TZOFFSETTO:+0100
TZNAME:CET
DTSTART:20241027T010000
END:STANDARD
BEGIN:DAYLIGHT
TZOFFSETFROM:+0100
TZOFFSETTO:+0200
TZNAME:CEST
DTSTART:20250330T010000
END:DAYLIGHT
BEGIN:STANDARD
TZOFFSETFROM:+0200
TZOFFSETTO:+0100
TZNAME:CET
DTSTART:20251026T010000
END:STANDARD
BEGIN:DAYLIGHT
TZOFFSETFROM:+0100
TZOFFSETTO:+0200
TZNAME:CEST
DTSTART:20260329T010000
END:DAYLIGHT
BEGIN:STANDARD
TZOFFSETFROM:+0200
TZOFFSETTO:+0100
TZNAME:CET
DTSTART:20261025T010000
END:STANDARD
BEGIN:DAYLIGHT
TZOFFSETFROM:+0100
TZOFFSETTO:+0200
TZNAME:CEST
DTSTART:20270328T010000
END:DAYLIGHT
BEGIN:STANDARD
TZOFFSETFROM:+0200
TZOFFSETTO:+0100
TZNAME:CET
DTSTART:20271031T010000
END:STANDARD
END:VTIMEZONE
BEGIN:VEVENT
DTSTART;TZID=Europe/Berlin:20251231T190000
DTEND;TZID=Europe/Berlin:20260101T010000
DTSTAMP:20260425T163508
CREATED:20250925T100104Z
LAST-MODIFIED:20250925T100104Z
UID:30001543-1767207600-1767229200@treffpunkt-rodenkirchen.koeln
SUMMARY:Silvester auf´m Rhein –  Bootshaus Alte Liebe
DESCRIPTION:BOCK AUF PARTY ? \nWir werden in diesem Jahr wieder mit einzigartiger Atmosphäre das alte \nJahr den Rhein runterfließen lassen. \nDie Karten sind vor Ort erhältlich. \n\nDieser Eintrag wird Ihnen zur Verfügung gestellt vom Kölner BilderBogen – eines der beliebtesten Stadtmagazine in Köln. Ihr Termin fehlt? Einfach kostenlos einreichen: www.bilderbogen.de/eventeintrag
URL:https://treffpunkt-rodenkirchen.koeln/event/silvester-aufm-rhein-bootshaus-alte-liebe
LOCATION:Alte Liebe Bootshaus\, Rodenkirchener Leinpfad\, Köln\, 50996
ATTACH;FMTTYPE=image/png:https://treffpunkt-rodenkirchen.koeln/wp-content/uploads/2025/09/Bildschirmfoto-2025-09-25-um-11.27.10.png
END:VEVENT
END:VCALENDAR