BEGIN:VCALENDAR
VERSION:2.0
PRODID:-//Treffpunkt Rodenkirchen - ECPv6.15.20//NONSGML v1.0//EN
CALSCALE:GREGORIAN
METHOD:PUBLISH
X-WR-CALNAME:Treffpunkt Rodenkirchen
X-ORIGINAL-URL:https://treffpunkt-rodenkirchen.koeln
X-WR-CALDESC:Veranstaltungen für Treffpunkt Rodenkirchen
REFRESH-INTERVAL;VALUE=DURATION:PT1H
X-Robots-Tag:noindex
X-PUBLISHED-TTL:PT1H
BEGIN:VTIMEZONE
TZID:Europe/Berlin
BEGIN:DAYLIGHT
TZOFFSETFROM:+0100
TZOFFSETTO:+0200
TZNAME:CEST
DTSTART:20240331T010000
END:DAYLIGHT
BEGIN:STANDARD
TZOFFSETFROM:+0200
TZOFFSETTO:+0100
TZNAME:CET
DTSTART:20241027T010000
END:STANDARD
BEGIN:DAYLIGHT
TZOFFSETFROM:+0100
TZOFFSETTO:+0200
TZNAME:CEST
DTSTART:20250330T010000
END:DAYLIGHT
BEGIN:STANDARD
TZOFFSETFROM:+0200
TZOFFSETTO:+0100
TZNAME:CET
DTSTART:20251026T010000
END:STANDARD
BEGIN:DAYLIGHT
TZOFFSETFROM:+0100
TZOFFSETTO:+0200
TZNAME:CEST
DTSTART:20260329T010000
END:DAYLIGHT
BEGIN:STANDARD
TZOFFSETFROM:+0200
TZOFFSETTO:+0100
TZNAME:CET
DTSTART:20261025T010000
END:STANDARD
BEGIN:DAYLIGHT
TZOFFSETFROM:+0100
TZOFFSETTO:+0200
TZNAME:CEST
DTSTART:20270328T010000
END:DAYLIGHT
BEGIN:STANDARD
TZOFFSETFROM:+0200
TZOFFSETTO:+0100
TZNAME:CET
DTSTART:20271031T010000
END:STANDARD
END:VTIMEZONE
BEGIN:VEVENT
DTSTART;TZID=Europe/Berlin:20260220T140000
DTEND;TZID=Europe/Berlin:20260220T163000
DTSTAMP:20260425T150736
CREATED:20260127T140046Z
LAST-MODIFIED:20260127T140046Z
UID:30001854-1771596000-1771605000@treffpunkt-rodenkirchen.koeln
SUMMARY:Sektempfang und Konzert mit Musikern des Gürzenich Orchesters
DESCRIPTION:Wir laden Sie herzlich ein zu einem Ohrenschmaus. Drei Musiker des Gürzenich Orchesters kommen mit Querflöte\, Viola und Harfe zu uns.\nVon 14:00 – 15:00 Uhr gibt es einen Sektempfang.\nAb 15:30\nerfreuen sie uns 50 Minuten mit folgendem Programm:\nMel Bonis (1858-1937):\nScénes de la forêt: Pour Artémis\nMaurice Ravel (1875-1937):\nPavane pour une infante défunte\nZoltán Kodály (1882-1967):\nKindertänze\nJacques Ibert (1890-1962):\nDeux Interludes\nAndante espressivo – Allegro vivo\nAstor Piazzolla (1921-1992):\nLibertango\n+ Mitsinglied \nModeriert wird das Ganze von Marieke Bröckers. \nBitte melden Sie sich für die bessere Planung verbindlich unter 0221 66 007 651 oder anke.bonadonna@asb-koeln.de an. \n\nDieser Eintrag wird Ihnen zur Verfügung gestellt vom Kölner BilderBogen – eines der beliebtesten Stadtmagazine in Köln. Ihr Termin fehlt? Einfach kostenlos einreichen: www.bilderbogen.de/eventeintrag
URL:https://treffpunkt-rodenkirchen.koeln/event/sektempfang-und-konzert-mit-musikern-des-guerzenich-orchesters
LOCATION:ASB Service-Wohnen\, Ringstr. 28\, Köln\, 50996
END:VEVENT
BEGIN:VEVENT
DTSTART;TZID=Europe/Berlin:20251210T150000
DTEND;TZID=Europe/Berlin:20251210T160000
DTSTAMP:20260425T150736
CREATED:20251029T130051Z
LAST-MODIFIED:20251029T130051Z
UID:30001645-1765378800-1765382400@treffpunkt-rodenkirchen.koeln
SUMMARY:Weihnachtslieder mit den Swingenden Kavalieren
DESCRIPTION:Wir bieten eine etwas andere Art von Weihnachtsliedern zum Mitsummen und Mitsingen \n\nDieser Eintrag wird Ihnen zur Verfügung gestellt vom Kölner BilderBogen – eines der beliebtesten Stadtmagazine in Köln. Ihr Termin fehlt? Einfach kostenlos einreichen: www.bilderbogen.de/eventeintrag
URL:https://treffpunkt-rodenkirchen.koeln/event/weihnachtslieder-mit-den-swingenden-kavalieren
LOCATION:ASB Service-Wohnen\, Ringstr. 28\, Köln\, 50996
END:VEVENT
BEGIN:VEVENT
DTSTART;TZID=Europe/Berlin:20251118T160000
DTEND;TZID=Europe/Berlin:20251118T170000
DTSTAMP:20260425T150736
CREATED:20251029T120044Z
LAST-MODIFIED:20251029T120044Z
UID:30001640-1763481600-1763485200@treffpunkt-rodenkirchen.koeln
SUMMARY:Klassisches Konzert beim ASB
DESCRIPTION:Live Music Now bietet jungen Künstlern die Gelegenheit\, sich vor Publikum zu präsentieren. Seit Jahren kommen sie zweimal im Jahr in die ASB Seniorenresidenz. Im November kommen zwei Musikerinnen mit Querflöte und Gitarre. \n  \n\nDieser Eintrag wird Ihnen zur Verfügung gestellt vom Kölner BilderBogen – eines der beliebtesten Stadtmagazine in Köln. Ihr Termin fehlt? Einfach kostenlos einreichen: www.bilderbogen.de/eventeintrag
URL:https://treffpunkt-rodenkirchen.koeln/event/klassisches-konzert-beim-asb
LOCATION:ASB Service-Wohnen\, Ringstr. 28\, Köln\, 50996
END:VEVENT
BEGIN:VEVENT
DTSTART;TZID=Europe/Berlin:20250922T100000
DTEND;TZID=Europe/Berlin:20250922T150000
DTSTAMP:20260425T150736
CREATED:20250806T100040Z
LAST-MODIFIED:20250806T100040Z
UID:30001376-1758535200-1758553200@treffpunkt-rodenkirchen.koeln
SUMMARY:Ein Tag im Zeichen der Demenz
DESCRIPTION:Vortrag und Workshop \n10-12 Uhr          Kommunikation und herausforderndes Verhalten \n13.30-15 Uhr    Das Demenz-Balance-Modell \nEingeladen sind alle Interessierten. Sie können beide Vorträge besuchen oder nur einen. \nEin Mittagssnack für alle\, die die Veranstaltung ganztägig besuchen\, ist inklusive. \n  \nVerbindliche Anmeldung bis zum 10.09.2025 \nduo@asb-koeln.de oder 0221-66007-193/194 \n\nDieser Eintrag wird Ihnen zur Verfügung gestellt vom Kölner BilderBogen – eines der beliebtesten Stadtmagazine in Köln. Ihr Termin fehlt? Einfach kostenlos einreichen: www.bilderbogen.de/eventeintrag
URL:https://treffpunkt-rodenkirchen.koeln/event/ein-tag-im-zeichen-der-demenz
LOCATION:ASB Service-Wohnen\, Ringstr. 28\, Köln\, 50996
ATTACH;FMTTYPE=image/png:https://treffpunkt-rodenkirchen.koeln/wp-content/uploads/2025/08/Bildschirmfoto-2025-08-06-um-11.11.00-1.png
END:VEVENT
BEGIN:VEVENT
DTSTART;TZID=Europe/Berlin:20250904T100000
DTEND;TZID=Europe/Berlin:20250904T120000
DTSTAMP:20260425T150736
CREATED:20250811T090042Z
LAST-MODIFIED:20250811T090042Z
UID:30001383-1756980000-1756987200@treffpunkt-rodenkirchen.koeln
SUMMARY:Politik Talk mit dem Bezirksbürgermeister Manfred Giesen
DESCRIPTION:Frühstücken Sie gemeinsam mit unserem Bezirksbürgermeister. Teilnahme nur nach vorheriger Anmeldung möglich (Tel. 66 007 651) \n\nDieser Eintrag wird Ihnen zur Verfügung gestellt vom Kölner BilderBogen – eines der beliebtesten Stadtmagazine in Köln. Ihr Termin fehlt? Einfach kostenlos einreichen: www.bilderbogen.de/eventeintrag
URL:https://treffpunkt-rodenkirchen.koeln/event/politik-talk-mit-dem-bezirksbuergermeister-manfred-giesen
LOCATION:ASB Service-Wohnen\, Ringstr. 28\, Köln\, 50996
END:VEVENT
BEGIN:VEVENT
DTSTART;TZID=Europe/Berlin:20250827T100000
DTEND;TZID=Europe/Berlin:20250827T120000
DTSTAMP:20260425T150736
CREATED:20250804T110035Z
LAST-MODIFIED:20250811T070034Z
UID:30001358-1756288800-1756296000@treffpunkt-rodenkirchen.koeln
SUMMARY:persönlicher Polit-Talk mit Lars Wolfram\, VOLT
DESCRIPTION:Frühstücken Sie gemeinsam mit den OB-Kandidaten und stellen Ihre Fragen \nTeilnahme nur nach vorheriger Anmeldung möglich. \n\nDieser Eintrag wird Ihnen zur Verfügung gestellt vom Kölner BilderBogen – eines der beliebtesten Stadtmagazine in Köln. Ihr Termin fehlt? Einfach kostenlos einreichen: www.bilderbogen.de/eventeintrag
URL:https://treffpunkt-rodenkirchen.koeln/event/persoenlicher-polit-talk-mit-lars-wolfram-volt
LOCATION:ASB Service-Wohnen\, Ringstr. 28\, Köln\, 50996
END:VEVENT
BEGIN:VEVENT
DTSTART;TZID=Europe/Berlin:20250821T100000
DTEND;TZID=Europe/Berlin:20250821T120000
DTSTAMP:20260425T150736
CREATED:20250804T110033Z
LAST-MODIFIED:20250804T110033Z
UID:30001357-1755770400-1755777600@treffpunkt-rodenkirchen.koeln
SUMMARY:Frühstück mit Roberto Campione\, KSG\, OB-Kandidat
DESCRIPTION:Die von uns (ASB) angebotene politische Fragestunde war gut besucht. Auch das anschließende persönliche Gespräch mit den Politikern kam sehr gut bei Ihnen an. Daher möchten wir Ihnen die Gelegenheit geben\, Ihre offen gebliebenen Fragen noch einmal den Politikern zu stellen\, und zwar bei einem Frühstück mit Kaffee und Croissants. Wir laden jeweils einen der OB-Kandidaten und die Kommunalpolitiker ein\, die Ihnen dann in kleiner Runde Rede und Antwort stehen werden.\nBitte melden Sie sich für unsere bessere Planung unter 0221 66 007 651 an. Denn eine Teilnahme ist nur mit vorheriger telefonischer Anmeldung möglich. \n\nDieser Eintrag wird Ihnen zur Verfügung gestellt vom Kölner BilderBogen – eines der beliebtesten Stadtmagazine in Köln. Ihr Termin fehlt? Einfach kostenlos einreichen: www.bilderbogen.de/eventeintrag
URL:https://treffpunkt-rodenkirchen.koeln/event/fruehstueck-mit-roberto-campione-ksg-ob-kandidat
LOCATION:ASB Service-Wohnen\, Ringstr. 28\, Köln\, 50996
END:VEVENT
END:VCALENDAR