BEGIN:VCALENDAR
VERSION:2.0
PRODID:-//Treffpunkt Rodenkirchen - ECPv6.15.20//NONSGML v1.0//EN
CALSCALE:GREGORIAN
METHOD:PUBLISH
X-WR-CALNAME:Treffpunkt Rodenkirchen
X-ORIGINAL-URL:https://treffpunkt-rodenkirchen.koeln
X-WR-CALDESC:Veranstaltungen für Treffpunkt Rodenkirchen
REFRESH-INTERVAL;VALUE=DURATION:PT1H
X-Robots-Tag:noindex
X-PUBLISHED-TTL:PT1H
BEGIN:VTIMEZONE
TZID:Europe/Berlin
BEGIN:DAYLIGHT
TZOFFSETFROM:+0100
TZOFFSETTO:+0200
TZNAME:CEST
DTSTART:20240331T010000
END:DAYLIGHT
BEGIN:STANDARD
TZOFFSETFROM:+0200
TZOFFSETTO:+0100
TZNAME:CET
DTSTART:20241027T010000
END:STANDARD
BEGIN:DAYLIGHT
TZOFFSETFROM:+0100
TZOFFSETTO:+0200
TZNAME:CEST
DTSTART:20250330T010000
END:DAYLIGHT
BEGIN:STANDARD
TZOFFSETFROM:+0200
TZOFFSETTO:+0100
TZNAME:CET
DTSTART:20251026T010000
END:STANDARD
BEGIN:DAYLIGHT
TZOFFSETFROM:+0100
TZOFFSETTO:+0200
TZNAME:CEST
DTSTART:20260329T010000
END:DAYLIGHT
BEGIN:STANDARD
TZOFFSETFROM:+0200
TZOFFSETTO:+0100
TZNAME:CET
DTSTART:20261025T010000
END:STANDARD
BEGIN:DAYLIGHT
TZOFFSETFROM:+0100
TZOFFSETTO:+0200
TZNAME:CEST
DTSTART:20270328T010000
END:DAYLIGHT
BEGIN:STANDARD
TZOFFSETFROM:+0200
TZOFFSETTO:+0100
TZNAME:CET
DTSTART:20271031T010000
END:STANDARD
END:VTIMEZONE
BEGIN:VEVENT
DTSTART;TZID=Europe/Berlin:20260307T110000
DTEND;TZID=Europe/Berlin:20260307T150000
DTSTAMP:20260421T111956
CREATED:20251124T160048Z
LAST-MODIFIED:20251124T160048Z
UID:30001694-1772881200-1772895600@treffpunkt-rodenkirchen.koeln
SUMMARY:ACRYL „Mixed Media“
DESCRIPTION:„Mixed media“ bietet zusätzlich zur beliebten Acrylfarbe den spielerischen Einsatz passender Malmaterialien auf der Leinwand: Mit Ölkreiden\, Farben\, Collagen und Übermalungen experimentieren wir\, bis es „gut“ aussieht. Dabei lernt man ganz nebenbei\, Farben geschickt zu mischen und den Raum auf der Leinwand spannend zu gestalten. Wir lassen die Farben auch einfach mal laufen oder schieben sie mit Malspachteln quer übers Papier. Dabei können abstrakte oder gegenständliche Motive entstehen. Auf jeden Fall wirds bunt und kreativ! Ausprobieren\, Spaß haben und ein ganz eigenes Bild mit nach Hause nehmen – das ist das Ziel. \n11 bis 15 Uhr // 85 € // inkl. Material (außer Leinwand) \nOrt: Atelier auf dem Kölner Großmarkt\, Marktstraße 10\, Gebäude P2-P3 \nBitte mitbringen: Eine Leinwand im Format 30 x 40 cm oder 40 x 50 cm \nBildquelle: Sabine Herbst \n\nDieser Eintrag wird Ihnen zur Verfügung gestellt vom Kölner BilderBogen – eines der beliebtesten Stadtmagazine in Köln. Ihr Termin fehlt? Einfach kostenlos einreichen: www.bilderbogen.de/eventeintrag
URL:https://treffpunkt-rodenkirchen.koeln/event/acryl-mixed-media
LOCATION:Atelier der KUNSTWERKSTATT KÖLN auf dem Kölner Großmarkt\, Marktstraße 10\, Gebäude P2-P3\, Köln\, 50968
ATTACH;FMTTYPE=image/jpeg:https://treffpunkt-rodenkirchen.koeln/wp-content/uploads/2025/11/IMG_20251119_143847_resized_20251119_024728515-1024x794-1.jpeg
END:VEVENT
BEGIN:VEVENT
DTSTART;TZID=Europe/Berlin:20260124T110000
DTEND;TZID=Europe/Berlin:20260124T140000
DTSTAMP:20260421T111956
CREATED:20251121T110050Z
LAST-MODIFIED:20251121T110050Z
UID:30001680-1769252400-1769263200@treffpunkt-rodenkirchen.koeln
SUMMARY:AQUARELL meditativ
DESCRIPTION:Das neue Jahr startet schnell und herausfordernd – umso wichtiger ist es\, innezuhalten und mit einfachen kreativen Übungen den eigenen Focus zu schärfen. Die sanft fließenden Aquarellfarben und kleine\, feine Spuren mit Pinsel\, Stift und Malspachtel bringen uns in den Flow\, um spielerisch neue Formen und Farbstimmungen zu entdecken. Wir tauchen ein in das Erlebnis des Malens und in eine befreiende Selbstwirksamkeit – zusammen mit anderen freundlichen Menschen in inspirierender Atmosphäre. \nOrt: Atelier auf dem Kölner Großmarkt\, Marktstraße 10\, Gebäude P2-P3 \nBildquelle: Sabine Herbst \n\nDieser Eintrag wird Ihnen zur Verfügung gestellt vom Kölner BilderBogen – eines der beliebtesten Stadtmagazine in Köln. Ihr Termin fehlt? Einfach kostenlos einreichen: www.bilderbogen.de/eventeintrag
URL:https://treffpunkt-rodenkirchen.koeln/event/aquarell-meditativ
LOCATION:Atelier der KUNSTWERKSTATT KÖLN auf dem Kölner Großmarkt\, Marktstraße 10\, Gebäude P2-P3\, Köln\, 50968
ATTACH;FMTTYPE=image/jpeg:https://treffpunkt-rodenkirchen.koeln/wp-content/uploads/2025/11/IMG_20251119_142146_resized_20251119_022248889-1024x708-1.jpeg
END:VEVENT
BEGIN:VEVENT
DTSTART;TZID=Europe/Berlin:20251115T110000
DTEND;TZID=Europe/Berlin:20251115T150000
DTSTAMP:20260421T111956
CREATED:20251002T090046Z
LAST-MODIFIED:20251002T090046Z
UID:30001556-1763204400-1763218800@treffpunkt-rodenkirchen.koeln
SUMMARY:AQUARELL experimentell – ein Kunst-Workshop zum Mitmachen!
DESCRIPTION:Mit den sanften\, transparent scheinenden Aquarellfarben gestalten wir traumhafte Farbverläufe\, abstrakte Formen oder beruhigende Landschaften. Besondere Effekte erzielen wir mit Salz oder Wachskreiden\, sodass individuelle Bilder entstehen. Wir lassen die Farben auch einfach mal laufen oder schieben sie mit Malspachteln quer übers Papier. Dabei können abstrakte oder gegenständliche Motive entstehen. Auf jeden Fall wirds bunt und kreativ! Das Material wird bereitgestellt und die Nutzung ist im Preis enthalten.\nWichtig: Bitte anmelden unter\nsabine.herbst@kunstwerkstatt-koeln.de \nBildquelle: Sabine Herbst \n  \n\nDieser Eintrag wird Ihnen zur Verfügung gestellt vom Kölner BilderBogen – eines der beliebtesten Stadtmagazine in Köln. Ihr Termin fehlt? Einfach kostenlos einreichen: www.bilderbogen.de/eventeintrag
URL:https://treffpunkt-rodenkirchen.koeln/event/aquarell-experimentell-ein-kunst-workshop-zum-mitmachen
LOCATION:Atelier der KUNSTWERKSTATT KÖLN auf dem Kölner Großmarkt\, Marktstraße 10\, Gebäude P2-P3\, Köln\, 50968
ATTACH;FMTTYPE=image/png:https://treffpunkt-rodenkirchen.koeln/wp-content/uploads/2025/10/Bildschirmfoto-2025-10-02-um-10.39.31.png
END:VEVENT
BEGIN:VEVENT
DTSTART;TZID=Europe/Berlin:20251012T110000
DTEND;TZID=Europe/Berlin:20251012T150000
DTSTAMP:20260421T111956
CREATED:20251002T110049Z
LAST-MODIFIED:20251002T110049Z
UID:30001558-1760266800-1760281200@treffpunkt-rodenkirchen.koeln
SUMMARY:ACRYL abstrakt- ein Kunst-Workshop zum Mitmachen!
DESCRIPTION:Abstrakte Malerei – sieht ganz einfach aus\, aber was steckt dahinter? Wie komme ich zu einer Idee für ein abstraktes Bild? Im Atelier der KUNSTWERKSTATT KÖLN findet man Zeit und die fachliche Anleitung\, den Prozess der abstrakten Malerei kennenzulernen und selbst zu realisieren. Ausprobieren\, Spaß haben und ein ganz eigenes abstraktes Bild mit nach Hause nehmen – das ist das Ziel.\nBitte mitbringen: Eine Leinwand im Format 30 x 40 cm oder 40 x 50 cm\, ansonsten ist das Malmaterial im Preis enthalten. \n  \nBildquelle: Sabine Herbst \n  \n\nDieser Eintrag wird Ihnen zur Verfügung gestellt vom Kölner BilderBogen – eines der beliebtesten Stadtmagazine in Köln. Ihr Termin fehlt? Einfach kostenlos einreichen: www.bilderbogen.de/eventeintrag
URL:https://treffpunkt-rodenkirchen.koeln/event/acryl-abstrakt-ein-kunst-workshop-zum-mitmachen
LOCATION:Atelier der KUNSTWERKSTATT KÖLN auf dem Kölner Großmarkt\, Marktstraße 10\, Gebäude P2-P3\, Köln\, 50968
ATTACH;FMTTYPE=image/png:https://treffpunkt-rodenkirchen.koeln/wp-content/uploads/2025/10/Bildschirmfoto-2025-10-02-um-11.33.27.png
END:VEVENT
END:VCALENDAR