BEGIN:VCALENDAR
VERSION:2.0
PRODID:-//Treffpunkt Rodenkirchen - ECPv6.15.20//NONSGML v1.0//EN
CALSCALE:GREGORIAN
METHOD:PUBLISH
X-ORIGINAL-URL:https://treffpunkt-rodenkirchen.koeln
X-WR-CALDESC:Veranstaltungen für Treffpunkt Rodenkirchen
REFRESH-INTERVAL;VALUE=DURATION:PT1H
X-Robots-Tag:noindex
X-PUBLISHED-TTL:PT1H
BEGIN:VTIMEZONE
TZID:Europe/Berlin
BEGIN:DAYLIGHT
TZOFFSETFROM:+0100
TZOFFSETTO:+0200
TZNAME:CEST
DTSTART:20240331T010000
END:DAYLIGHT
BEGIN:STANDARD
TZOFFSETFROM:+0200
TZOFFSETTO:+0100
TZNAME:CET
DTSTART:20241027T010000
END:STANDARD
BEGIN:DAYLIGHT
TZOFFSETFROM:+0100
TZOFFSETTO:+0200
TZNAME:CEST
DTSTART:20250330T010000
END:DAYLIGHT
BEGIN:STANDARD
TZOFFSETFROM:+0200
TZOFFSETTO:+0100
TZNAME:CET
DTSTART:20251026T010000
END:STANDARD
BEGIN:DAYLIGHT
TZOFFSETFROM:+0100
TZOFFSETTO:+0200
TZNAME:CEST
DTSTART:20260329T010000
END:DAYLIGHT
BEGIN:STANDARD
TZOFFSETFROM:+0200
TZOFFSETTO:+0100
TZNAME:CET
DTSTART:20261025T010000
END:STANDARD
END:VTIMEZONE
BEGIN:VEVENT
DTSTART;TZID=Europe/Berlin:20250921T160000
DTEND;TZID=Europe/Berlin:20250921T190000
DTSTAMP:20260425T175418
CREATED:20250902T080135Z
LAST-MODIFIED:20250902T090055Z
UID:30001458-1758470400-1758481200@treffpunkt-rodenkirchen.koeln
SUMMARY:Kunstauktion im Atelier Gerda Laufenberg
DESCRIPTION:Bilder\, Zeichnungen und Skulpturen aus 40 Schaffensjahren der Künstlerin Gerda Laufenberg kommen unter den Hammer von Prof. Dr. Dietmar Pennig: Er versteigert im alten (großen) Atelier am Mühlenweg 3 die Kunstwerke\, die in dem neuen (kleinen) Atelier in Sürth keinen Platz mehr haben. Eine einmalige Gelegenheit für Fans\, Kunstliebhaber und Schnäppchenjäger.\nÜbrigens: Der neue Kalender ist dann auch dort zu haben….‚DieHälfte des Erlöses geht an den Förderverein für krebskranke Kinder e.V.\, dessen Arbeit die Künstlerin unterstützen will.‘ \nDie Hälfte des Erlöses geht an den Förderverein für krebskranke Kinder e.V.\, dessen Arbeit die Künstlerin unterstützen will. \nBildquelle: Gerda Laufenberg \n\nDieser Eintrag wird Ihnen zur Verfügung gestellt vom Kölner BilderBogen – eines der beliebtesten Stadtmagazine in Köln. Ihr Termin fehlt? Einfach kostenlos einreichen: www.bilderbogen.de/eventeintrag
URL:https://treffpunkt-rodenkirchen.koeln/event/kunstauktion-im-atelier-gerda-laufenberg
LOCATION:Atelier Gerda Laufenberg\, Mühlenweg 3\, Köln\, NRW\, 50996\, Deutschland
ATTACH;FMTTYPE=image/png:https://treffpunkt-rodenkirchen.koeln/wp-content/uploads/2025/09/Bildschirmfoto-2025-09-02-um-09.23.02-799x1024-1.png
END:VEVENT
END:VCALENDAR