BEGIN:VCALENDAR
VERSION:2.0
PRODID:-//Treffpunkt Rodenkirchen - ECPv6.15.20//NONSGML v1.0//EN
CALSCALE:GREGORIAN
METHOD:PUBLISH
X-ORIGINAL-URL:https://treffpunkt-rodenkirchen.koeln
X-WR-CALDESC:Veranstaltungen für Treffpunkt Rodenkirchen
REFRESH-INTERVAL;VALUE=DURATION:PT1H
X-Robots-Tag:noindex
X-PUBLISHED-TTL:PT1H
BEGIN:VTIMEZONE
TZID:Europe/Berlin
BEGIN:DAYLIGHT
TZOFFSETFROM:+0100
TZOFFSETTO:+0200
TZNAME:CEST
DTSTART:20240331T010000
END:DAYLIGHT
BEGIN:STANDARD
TZOFFSETFROM:+0200
TZOFFSETTO:+0100
TZNAME:CET
DTSTART:20241027T010000
END:STANDARD
BEGIN:DAYLIGHT
TZOFFSETFROM:+0100
TZOFFSETTO:+0200
TZNAME:CEST
DTSTART:20250330T010000
END:DAYLIGHT
BEGIN:STANDARD
TZOFFSETFROM:+0200
TZOFFSETTO:+0100
TZNAME:CET
DTSTART:20251026T010000
END:STANDARD
BEGIN:DAYLIGHT
TZOFFSETFROM:+0100
TZOFFSETTO:+0200
TZNAME:CEST
DTSTART:20260329T010000
END:DAYLIGHT
BEGIN:STANDARD
TZOFFSETFROM:+0200
TZOFFSETTO:+0100
TZNAME:CET
DTSTART:20261025T010000
END:STANDARD
BEGIN:DAYLIGHT
TZOFFSETFROM:+0100
TZOFFSETTO:+0200
TZNAME:CEST
DTSTART:20270328T010000
END:DAYLIGHT
BEGIN:STANDARD
TZOFFSETFROM:+0200
TZOFFSETTO:+0100
TZNAME:CET
DTSTART:20271031T010000
END:STANDARD
END:VTIMEZONE
BEGIN:VEVENT
DTSTART;TZID=Europe/Berlin:20260414T100000
DTEND;TZID=Europe/Berlin:20260414T113000
DTSTAMP:20260425T135432
CREATED:20260317T110046Z
LAST-MODIFIED:20260317T110046Z
UID:30001924-1776160800-1776166200@treffpunkt-rodenkirchen.koeln
SUMMARY:Schreiben + mehr mit LibreOffice in Sürth
DESCRIPTION:LibreOffice sind mehrere kostenlose Programme und ähnlich Microsoft Office. In dem Kurs lernen wir LibreOffice Writer als einen Ersatz für Microsoft Office Word näher kennen.\nDer Kurs beginnt am Dienstag\, dem 14. April 2026. Es sind 6 Termine\, jeden Dienstag von 10.00 – 11.30 Uhr.\nDie Teilnahme ist kostenlos. Eine Anmeldung ist erforderlich. Bitte bringen Sie Ihren Laptop mit.\nDer Kurs findet in der Auferstehungskirche Sürth / Weiß\, Auferstehungskirchweg 7\, 50999 Köln Sürth statt. Weitere Informationen und Anmeldung unter 02232 200 759 (Anrufbeantworter). Wir rufen zurück! \n\nDieser Eintrag wird Ihnen zur Verfügung gestellt vom Kölner BilderBogen – eines der beliebtesten Stadtmagazine in Köln. Ihr Termin fehlt? Einfach kostenlos einreichen: www.bilderbogen.de/eventeintrag
URL:https://treffpunkt-rodenkirchen.koeln/event/schreiben-mehr-mit-libreoffice-in-suerth
LOCATION:Auferstehungskirche Sürth\, Auferstehungskirchweg 7\, Köln\, NRW\, 50999\, Deutschland
END:VEVENT
BEGIN:VEVENT
DTSTART;TZID=Europe/Berlin:20260413T100000
DTEND;TZID=Europe/Berlin:20260413T120000
DTSTAMP:20260425T135432
CREATED:20260317T110044Z
LAST-MODIFIED:20260317T110044Z
UID:30001923-1776074400-1776081600@treffpunkt-rodenkirchen.koeln
SUMMARY:Smartphonekurs in Sürth
DESCRIPTION:In dem Kurs lernen Sie die Bedienung Ihres Smartphones besser kennen. Themen sind z.B. Einstellungen\, Verträge\, WhatsApp\, Datensicherung.\nDer Kurs beginnt am Montag\, dem 13. April 2026. Es sind 6 Termine\, jeden Montag von 10.00 – 12.00 Uhr.\nDie Teilnahme ist kostenlos. Eine Anmeldung ist erforderlich. Bitte bringen Sie Ihr Smartphone mit.\nDer Kurs findet in der Auferstehungskirche Sürth / Weiß\, Auferstehungskirchweg 7\, 50999 Köln Sürth statt. Weitere Informationen und Anmeldung unter 02232 200 759 (Anrufbeantworter). Wir rufen zurück! \n\nDieser Eintrag wird Ihnen zur Verfügung gestellt vom Kölner BilderBogen – eines der beliebtesten Stadtmagazine in Köln. Ihr Termin fehlt? Einfach kostenlos einreichen: www.bilderbogen.de/eventeintrag
URL:https://treffpunkt-rodenkirchen.koeln/event/smartphonekurs-in-suerth
LOCATION:Auferstehungskirche Sürth\, Auferstehungskirchweg 7\, Köln\, NRW\, 50999\, Deutschland
END:VEVENT
BEGIN:VEVENT
DTSTART;TZID=Europe/Berlin:20260224T100000
DTEND;TZID=Europe/Berlin:20260224T113000
DTSTAMP:20260425T135432
CREATED:20251208T150052Z
LAST-MODIFIED:20251208T150052Z
UID:30001713-1771927200-1771932600@treffpunkt-rodenkirchen.koeln
SUMMARY:Computerkurs für Senioren in Sürth
DESCRIPTION:Am 20.01.2026 um 10.00 Uhr beginnt wieder ein PC-Kurs in der Auferstehungskirche in Sürth. Es sind 6 Termine\, jeden Dienstag von 10.00 – 11.30 Uhr.\nDie Teilnahme ist kostenlos. Eine Anmeldung ist erforderlich. Bitte bringen Sie Ihr Laptop mit. \nDer Kurs findet in der Auferstehungskirche Sürth / Weiß\, Auferstehungskirchweg 7\, 50999 Köln Sürth statt. Anmeldung und weitere Informationen unter 0221 37 93 17 65 (Anrufbeantworter\, wir rufen zurück) \nVeranstalter sind die Seniorennetzwerke Sürth und Bayenthal. \n\nDieser Eintrag wird Ihnen zur Verfügung gestellt vom Kölner BilderBogen – eines der beliebtesten Stadtmagazine in Köln. Ihr Termin fehlt? Einfach kostenlos einreichen: www.bilderbogen.de/eventeintrag
URL:https://treffpunkt-rodenkirchen.koeln/event/computerkurs-fuer-senioren-in-suerth-6
LOCATION:Auferstehungskirche Sürth\, Auferstehungskirchweg 7\, Köln\, NRW\, 50999\, Deutschland
END:VEVENT
BEGIN:VEVENT
DTSTART;TZID=Europe/Berlin:20260223T100000
DTEND;TZID=Europe/Berlin:20260223T120000
DTSTAMP:20260425T135432
CREATED:20251208T150049Z
LAST-MODIFIED:20251208T150049Z
UID:30001712-1771840800-1771848000@treffpunkt-rodenkirchen.koeln
SUMMARY:Smartphonekurs für Senioren in Sürth
DESCRIPTION:Am 19.01.2026 um 10.00 Uhr beginnt wieder ein Smartphonekurs in der Auferstehungskirche in Sürth. Es sind 6 Termine\, jeden Montag von 10.00 – 12.00 Uhr.\nDie Teilnahme ist kostenlos. Eine Anmeldung ist erforderlich. Bitte bringen Sie Ihr Smartphone mit. \nDer Kurs findet in der Auferstehungskirche Sürth / Weiß\, Auferstehungskirchweg 7\, 50999 Köln Sürth statt. Anmeldung und weitere Informationen unter 0221 37 93 17 65 (Anrufbeantworter\, wir rufen zurück) \nVeranstalter sind die Seniorennetzwerke Sürth und Bayenthal. \n\nDieser Eintrag wird Ihnen zur Verfügung gestellt vom Kölner BilderBogen – eines der beliebtesten Stadtmagazine in Köln. Ihr Termin fehlt? Einfach kostenlos einreichen: www.bilderbogen.de/eventeintrag
URL:https://treffpunkt-rodenkirchen.koeln/event/smartphonekurs-fuer-senioren-in-suerth-6
LOCATION:Auferstehungskirche Sürth\, Auferstehungskirchweg 7\, Köln\, NRW\, 50999\, Deutschland
END:VEVENT
BEGIN:VEVENT
DTSTART;TZID=Europe/Berlin:20260217T100000
DTEND;TZID=Europe/Berlin:20260217T113000
DTSTAMP:20260425T135432
CREATED:20251208T150047Z
LAST-MODIFIED:20251208T150047Z
UID:30001711-1771322400-1771327800@treffpunkt-rodenkirchen.koeln
SUMMARY:Computerkurs für Senioren in Sürth
DESCRIPTION:Am 20.01.2026 um 10.00 Uhr beginnt wieder ein PC-Kurs in der Auferstehungskirche in Sürth. Es sind 6 Termine\, jeden Dienstag von 10.00 – 11.30 Uhr.\nDie Teilnahme ist kostenlos. Eine Anmeldung ist erforderlich. Bitte bringen Sie Ihr Laptop mit. \nDer Kurs findet in der Auferstehungskirche Sürth / Weiß\, Auferstehungskirchweg 7\, 50999 Köln Sürth statt. Anmeldung und weitere Informationen unter 0221 37 93 17 65 (Anrufbeantworter\, wir rufen zurück) \nVeranstalter sind die Seniorennetzwerke Sürth und Bayenthal. \n\nDieser Eintrag wird Ihnen zur Verfügung gestellt vom Kölner BilderBogen – eines der beliebtesten Stadtmagazine in Köln. Ihr Termin fehlt? Einfach kostenlos einreichen: www.bilderbogen.de/eventeintrag
URL:https://treffpunkt-rodenkirchen.koeln/event/computerkurs-fuer-senioren-in-suerth-5
LOCATION:Auferstehungskirche Sürth\, Auferstehungskirchweg 7\, Köln\, NRW\, 50999\, Deutschland
END:VEVENT
BEGIN:VEVENT
DTSTART;TZID=Europe/Berlin:20260216T100000
DTEND;TZID=Europe/Berlin:20260216T120000
DTSTAMP:20260425T135432
CREATED:20251208T140054Z
LAST-MODIFIED:20251208T140054Z
UID:30001710-1771236000-1771243200@treffpunkt-rodenkirchen.koeln
SUMMARY:Smartphonekurs für Senioren in Sürth
DESCRIPTION:Am 19.01.2026 um 10.00 Uhr beginnt wieder ein Smartphonekurs in der Auferstehungskirche in Sürth. Es sind 6 Termine\, jeden Montag von 10.00 – 12.00 Uhr.\nDie Teilnahme ist kostenlos. Eine Anmeldung ist erforderlich. Bitte bringen Sie Ihr Smartphone mit. \nDer Kurs findet in der Auferstehungskirche Sürth / Weiß\, Auferstehungskirchweg 7\, 50999 Köln Sürth statt. Anmeldung und weitere Informationen unter 0221 37 93 17 65 (Anrufbeantworter\, wir rufen zurück) \nVeranstalter sind die Seniorennetzwerke Sürth und Bayenthal. \n\nDieser Eintrag wird Ihnen zur Verfügung gestellt vom Kölner BilderBogen – eines der beliebtesten Stadtmagazine in Köln. Ihr Termin fehlt? Einfach kostenlos einreichen: www.bilderbogen.de/eventeintrag
URL:https://treffpunkt-rodenkirchen.koeln/event/smartphonekurs-fuer-senioren-in-suerth-5
LOCATION:Auferstehungskirche Sürth\, Auferstehungskirchweg 7\, Köln\, NRW\, 50999\, Deutschland
END:VEVENT
BEGIN:VEVENT
DTSTART;TZID=Europe/Berlin:20260210T100000
DTEND;TZID=Europe/Berlin:20260210T113000
DTSTAMP:20260425T135432
CREATED:20251208T140052Z
LAST-MODIFIED:20251208T140052Z
UID:30001709-1770717600-1770723000@treffpunkt-rodenkirchen.koeln
SUMMARY:Computerkurs für Senioren in Sürth
DESCRIPTION:Am 20.01.2026 um 10.00 Uhr beginnt wieder ein PC-Kurs in der Auferstehungskirche in Sürth. Es sind 6 Termine\, jeden Dienstag von 10.00 – 11.30 Uhr.\nDie Teilnahme ist kostenlos. Eine Anmeldung ist erforderlich. Bitte bringen Sie Ihr Laptop mit. \nDer Kurs findet in der Auferstehungskirche Sürth / Weiß\, Auferstehungskirchweg 7\, 50999 Köln Sürth statt. Anmeldung und weitere Informationen unter 0221 37 93 17 65 (Anrufbeantworter\, wir rufen zurück) \nVeranstalter sind die Seniorennetzwerke Sürth und Bayenthal. \n\nDieser Eintrag wird Ihnen zur Verfügung gestellt vom Kölner BilderBogen – eines der beliebtesten Stadtmagazine in Köln. Ihr Termin fehlt? Einfach kostenlos einreichen: www.bilderbogen.de/eventeintrag
URL:https://treffpunkt-rodenkirchen.koeln/event/computerkurs-fuer-senioren-in-suerth-4
LOCATION:Auferstehungskirche Sürth\, Auferstehungskirchweg 7\, Köln\, NRW\, 50999\, Deutschland
END:VEVENT
BEGIN:VEVENT
DTSTART;TZID=Europe/Berlin:20260209T100000
DTEND;TZID=Europe/Berlin:20260209T120000
DTSTAMP:20260425T135432
CREATED:20251208T140049Z
LAST-MODIFIED:20251208T140049Z
UID:30001708-1770631200-1770638400@treffpunkt-rodenkirchen.koeln
SUMMARY:Smartphonekurs für Senioren in Sürth
DESCRIPTION:Am 19.01.2026 um 10.00 Uhr beginnt wieder ein Smartphonekurs in der Auferstehungskirche in Sürth. Es sind 6 Termine\, jeden Montag von 10.00 – 12.00 Uhr.\nDie Teilnahme ist kostenlos. Eine Anmeldung ist erforderlich. Bitte bringen Sie Ihr Smartphone mit. \nDer Kurs findet in der Auferstehungskirche Sürth / Weiß\, Auferstehungskirchweg 7\, 50999 Köln Sürth statt. Anmeldung und weitere Informationen unter 0221 37 93 17 65 (Anrufbeantworter\, wir rufen zurück) \nVeranstalter sind die Seniorennetzwerke Sürth und Bayenthal. \n\nDieser Eintrag wird Ihnen zur Verfügung gestellt vom Kölner BilderBogen – eines der beliebtesten Stadtmagazine in Köln. Ihr Termin fehlt? Einfach kostenlos einreichen: www.bilderbogen.de/eventeintrag
URL:https://treffpunkt-rodenkirchen.koeln/event/smartphonekurs-fuer-senioren-in-suerth-4
LOCATION:Auferstehungskirche Sürth\, Auferstehungskirchweg 7\, Köln\, NRW\, 50999\, Deutschland
END:VEVENT
BEGIN:VEVENT
DTSTART;TZID=Europe/Berlin:20260203T100000
DTEND;TZID=Europe/Berlin:20260203T113000
DTSTAMP:20260425T135432
CREATED:20251208T140047Z
LAST-MODIFIED:20251208T140047Z
UID:30001707-1770112800-1770118200@treffpunkt-rodenkirchen.koeln
SUMMARY:Computerkurs für Senioren in Sürth
DESCRIPTION:Am 20.01.2026 um 10.00 Uhr beginnt wieder ein PC-Kurs in der Auferstehungskirche in Sürth. Es sind 6 Termine\, jeden Dienstag von 10.00 – 11.30 Uhr.\nDie Teilnahme ist kostenlos. Eine Anmeldung ist erforderlich. Bitte bringen Sie Ihr Laptop mit. \nDer Kurs findet in der Auferstehungskirche Sürth / Weiß\, Auferstehungskirchweg 7\, 50999 Köln Sürth statt. Anmeldung und weitere Informationen unter 0221 37 93 17 65 (Anrufbeantworter\, wir rufen zurück) \nVeranstalter sind die Seniorennetzwerke Sürth und Bayenthal. \n\nDieser Eintrag wird Ihnen zur Verfügung gestellt vom Kölner BilderBogen – eines der beliebtesten Stadtmagazine in Köln. Ihr Termin fehlt? Einfach kostenlos einreichen: www.bilderbogen.de/eventeintrag
URL:https://treffpunkt-rodenkirchen.koeln/event/computerkurs-fuer-senioren-in-suerth-3
LOCATION:Auferstehungskirche Sürth\, Auferstehungskirchweg 7\, Köln\, NRW\, 50999\, Deutschland
END:VEVENT
BEGIN:VEVENT
DTSTART;TZID=Europe/Berlin:20260202T100000
DTEND;TZID=Europe/Berlin:20260202T120000
DTSTAMP:20260425T135432
CREATED:20251208T140045Z
LAST-MODIFIED:20251208T140045Z
UID:30001706-1770026400-1770033600@treffpunkt-rodenkirchen.koeln
SUMMARY:Smartphonekurs für Senioren in Sürth
DESCRIPTION:Am 19.01.2026 um 10.00 Uhr beginnt wieder ein Smartphonekurs in der Auferstehungskirche in Sürth. Es sind 6 Termine\, jeden Montag von 10.00 – 12.00 Uhr.\nDie Teilnahme ist kostenlos. Eine Anmeldung ist erforderlich. Bitte bringen Sie Ihr Smartphone mit. \nDer Kurs findet in der Auferstehungskirche Sürth / Weiß\, Auferstehungskirchweg 7\, 50999 Köln Sürth statt. Anmeldung und weitere Informationen unter 0221 37 93 17 65 (Anrufbeantworter\, wir rufen zurück) \nVeranstalter sind die Seniorennetzwerke Sürth und Bayenthal. \n\nDieser Eintrag wird Ihnen zur Verfügung gestellt vom Kölner BilderBogen – eines der beliebtesten Stadtmagazine in Köln. Ihr Termin fehlt? Einfach kostenlos einreichen: www.bilderbogen.de/eventeintrag
URL:https://treffpunkt-rodenkirchen.koeln/event/smartphonekurs-fuer-senioren-in-suerth-3
LOCATION:Auferstehungskirche Sürth\, Auferstehungskirchweg 7\, Köln\, NRW\, 50999\, Deutschland
END:VEVENT
BEGIN:VEVENT
DTSTART;TZID=Europe/Berlin:20260127T100000
DTEND;TZID=Europe/Berlin:20260127T113000
DTSTAMP:20260425T135432
CREATED:20251208T110055Z
LAST-MODIFIED:20251208T110055Z
UID:30001704-1769508000-1769513400@treffpunkt-rodenkirchen.koeln
SUMMARY:Computerkurs für Senioren in Sürth
DESCRIPTION:Am 20.01.2026 um 10.00 Uhr beginnt wieder ein PC-Kurs in der Auferstehungskirche in Sürth. Es sind 6 Termine\, jeden Dienstag von 10.00 – 11.30 Uhr.\nDie Teilnahme ist kostenlos. Eine Anmeldung ist erforderlich. Bitte bringen Sie Ihr Laptop mit. \nDer Kurs findet in der Auferstehungskirche Sürth / Weiß\, Auferstehungskirchweg 7\, 50999 Köln Sürth statt. Anmeldung und weitere Informationen unter 0221 37 93 17 65 (Anrufbeantworter\, wir rufen zurück) \nVeranstalter sind die Seniorennetzwerke Sürth und Bayenthal. \n\nDieser Eintrag wird Ihnen zur Verfügung gestellt vom Kölner BilderBogen – eines der beliebtesten Stadtmagazine in Köln. Ihr Termin fehlt? Einfach kostenlos einreichen: www.bilderbogen.de/eventeintrag
URL:https://treffpunkt-rodenkirchen.koeln/event/computerkurs-fuer-senioren-in-suerth-2
LOCATION:Auferstehungskirche Sürth\, Auferstehungskirchweg 7\, Köln\, NRW\, 50999\, Deutschland
END:VEVENT
BEGIN:VEVENT
DTSTART;TZID=Europe/Berlin:20260126T100000
DTEND;TZID=Europe/Berlin:20260126T120000
DTSTAMP:20260425T135432
CREATED:20251208T110052Z
LAST-MODIFIED:20251208T110052Z
UID:30001703-1769421600-1769428800@treffpunkt-rodenkirchen.koeln
SUMMARY:Smartphonekurs für Senioren in Sürth
DESCRIPTION:Am 19.01.2026 um 10.00 Uhr beginnt wieder ein Smartphonekurs in der Auferstehungskirche in Sürth. Es sind 6 Termine\, jeden Montag von 10.00 – 12.00 Uhr.\nDie Teilnahme ist kostenlos. Eine Anmeldung ist erforderlich. Bitte bringen Sie Ihr Smartphone mit. \nDer Kurs findet in der Auferstehungskirche Sürth / Weiß\, Auferstehungskirchweg 7\, 50999 Köln Sürth statt. Anmeldung und weitere Informationen unter 0221 37 93 17 65 (Anrufbeantworter\, wir rufen zurück) \nVeranstalter sind die Seniorennetzwerke Sürth und Bayenthal. \n\nDieser Eintrag wird Ihnen zur Verfügung gestellt vom Kölner BilderBogen – eines der beliebtesten Stadtmagazine in Köln. Ihr Termin fehlt? Einfach kostenlos einreichen: www.bilderbogen.de/eventeintrag
URL:https://treffpunkt-rodenkirchen.koeln/event/smartphonekurs-fuer-senioren-in-suerth-2
LOCATION:Auferstehungskirche Sürth\, Auferstehungskirchweg 7\, Köln\, NRW\, 50999\, Deutschland
END:VEVENT
BEGIN:VEVENT
DTSTART;TZID=Europe/Berlin:20260120T100000
DTEND;TZID=Europe/Berlin:20260120T113000
DTSTAMP:20260425T135432
CREATED:20251208T110049Z
LAST-MODIFIED:20251208T110049Z
UID:30001702-1768903200-1768908600@treffpunkt-rodenkirchen.koeln
SUMMARY:Computerkurs für Senioren in Sürth
DESCRIPTION:Am 20.01.2026 um 10.00 Uhr beginnt wieder ein PC-Kurs in der Auferstehungskirche in Sürth. Es sind 6 Termine\, jeden Dienstag von 10.00 – 11.30 Uhr.\nDie Teilnahme ist kostenlos. Eine Anmeldung ist erforderlich. Bitte bringen Sie Ihr Laptop mit. \nDer Kurs findet in der Auferstehungskirche Sürth / Weiß\, Auferstehungskirchweg 7\, 50999 Köln Sürth statt. Anmeldung und weitere Informationen unter 0221 37 93 17 65 (Anrufbeantworter\, wir rufen zurück) \nVeranstalter sind die Seniorennetzwerke Sürth und Bayenthal. \n\nDieser Eintrag wird Ihnen zur Verfügung gestellt vom Kölner BilderBogen – eines der beliebtesten Stadtmagazine in Köln. Ihr Termin fehlt? Einfach kostenlos einreichen: www.bilderbogen.de/eventeintrag
URL:https://treffpunkt-rodenkirchen.koeln/event/computerkurs-fuer-senioren-in-suerth
LOCATION:Auferstehungskirche Sürth\, Auferstehungskirchweg 7\, Köln\, NRW\, 50999\, Deutschland
END:VEVENT
BEGIN:VEVENT
DTSTART;TZID=Europe/Berlin:20260119T100000
DTEND;TZID=Europe/Berlin:20260119T120000
DTSTAMP:20260425T135432
CREATED:20251208T110047Z
LAST-MODIFIED:20251208T110047Z
UID:30001701-1768816800-1768824000@treffpunkt-rodenkirchen.koeln
SUMMARY:Smartphonekurs für Senioren in Sürth
DESCRIPTION:Am 19.01.2026 um 10.00 Uhr beginnt wieder ein Smartphonekurs in der Auferstehungskirche in Sürth. Es sind 6 Termine\, jeden Montag von 10.00 – 12.00 Uhr.\nDie Teilnahme ist kostenlos. Eine Anmeldung ist erforderlich. Bitte bringen Sie Ihr Smartphone mit. \nDer Kurs findet in der Auferstehungskirche Sürth / Weiß\, Auferstehungskirchweg 7\, 50999 Köln Sürth statt. Anmeldung und weitere Informationen unter 0221 37 93 17 65 (Anrufbeantworter\, wir rufen zurück) \nVeranstalter sind die Seniorennetzwerke Sürth und Bayenthal. \n\nDieser Eintrag wird Ihnen zur Verfügung gestellt vom Kölner BilderBogen – eines der beliebtesten Stadtmagazine in Köln. Ihr Termin fehlt? Einfach kostenlos einreichen: www.bilderbogen.de/eventeintrag
URL:https://treffpunkt-rodenkirchen.koeln/event/smartphonekurs-fuer-senioren-in-suerth
LOCATION:Auferstehungskirche Sürth\, Auferstehungskirchweg 7\, Köln\, NRW\, 50999\, Deutschland
END:VEVENT
BEGIN:VEVENT
DTSTART;TZID=Europe/Berlin:20250921T110000
DTEND;TZID=Europe/Berlin:20250921T170000
DTSTAMP:20260425T135432
CREATED:20250910T110057Z
LAST-MODIFIED:20250910T110057Z
UID:30001483-1758452400-1758474000@treffpunkt-rodenkirchen.koeln
SUMMARY:Gemeindefest in Sürth-Weiß Familiengottesdienst\, Musik\, Spiele und Begegnung im Kirchgarten
DESCRIPTION:Am Sonntag\, 21. September\, lädt die Evangelische Kirchengemeinde Sürth-Weiß zum großen Gemeindefest ein. \nBeginn ist um 11 Uhr mit einem Familiengottesdienst in der Auferstehungskirche\, Auferstehungskirchweg 7. \nAb 12 Uhr startet das bunte Fest auf dem Kirchengelände. Geboten wird ein fröhliches Programm für Groß und Klein: Der Kölner Spielecircus sorgt für Kinderspaß\, die Band Krysmah begleitet den Nachmittag mit Live-Musik. Auch für Speisen und Getränke ist gesorgt. Wer einen Kuchen beisteuern oder beim Fest mithelfen möchte\, kann sich unter der E-Mail-Adresse KirstenBergmann@gmx.demelden.www.kirche-suerth.de \n\nDieser Eintrag wird Ihnen zur Verfügung gestellt vom Kölner BilderBogen – eines der beliebtesten Stadtmagazine in Köln. Ihr Termin fehlt? Einfach kostenlos einreichen: www.bilderbogen.de/eventeintrag
URL:https://treffpunkt-rodenkirchen.koeln/event/gemeindefest-in-suerth-weiss-familiengottesdienst-musik-spiele-und-begegnung-im-kirchgarten
LOCATION:Auferstehungskirche Sürth\, Auferstehungskirchweg 7\, Köln\, NRW\, 50999\, Deutschland
END:VEVENT
END:VCALENDAR