BEGIN:VCALENDAR
VERSION:2.0
PRODID:-//Treffpunkt Rodenkirchen - ECPv6.15.20//NONSGML v1.0//EN
CALSCALE:GREGORIAN
METHOD:PUBLISH
X-ORIGINAL-URL:https://treffpunkt-rodenkirchen.koeln
X-WR-CALDESC:Veranstaltungen für Treffpunkt Rodenkirchen
REFRESH-INTERVAL;VALUE=DURATION:PT1H
X-Robots-Tag:noindex
X-PUBLISHED-TTL:PT1H
BEGIN:VTIMEZONE
TZID:Europe/Berlin
BEGIN:DAYLIGHT
TZOFFSETFROM:+0100
TZOFFSETTO:+0200
TZNAME:CEST
DTSTART:20240331T010000
END:DAYLIGHT
BEGIN:STANDARD
TZOFFSETFROM:+0200
TZOFFSETTO:+0100
TZNAME:CET
DTSTART:20241027T010000
END:STANDARD
BEGIN:DAYLIGHT
TZOFFSETFROM:+0100
TZOFFSETTO:+0200
TZNAME:CEST
DTSTART:20250330T010000
END:DAYLIGHT
BEGIN:STANDARD
TZOFFSETFROM:+0200
TZOFFSETTO:+0100
TZNAME:CET
DTSTART:20251026T010000
END:STANDARD
BEGIN:DAYLIGHT
TZOFFSETFROM:+0100
TZOFFSETTO:+0200
TZNAME:CEST
DTSTART:20260329T010000
END:DAYLIGHT
BEGIN:STANDARD
TZOFFSETFROM:+0200
TZOFFSETTO:+0100
TZNAME:CET
DTSTART:20261025T010000
END:STANDARD
END:VTIMEZONE
BEGIN:VEVENT
DTSTART;TZID=Europe/Berlin:20251019T150000
DTEND;TZID=Europe/Berlin:20251019T180000
DTSTAMP:20260421T111935
CREATED:20250916T110103Z
LAST-MODIFIED:20250916T120105Z
UID:30001515-1760886000-1760896800@treffpunkt-rodenkirchen.koeln
SUMMARY:American Football live: Cologne Ronin vs. Kevelaer Kings
DESCRIPTION:Wir sind Cologne Ronin\, eine American Football Herrenmanschaft aus dem Kölner Süden. \nWir freuen uns über eine wachsende Fanbase und über jeden\, der uns an den Spieltagen besucht und uns als Team unterstützt. Kommen Sie gerne vorbei!  Der Eintritt ist frei! \nCologne Ronin vs. Kevelaer Kings\nSonntag\, 19.10.2025\nKick off 15:00 Uhr \nWo?\nBezirkssportanlage Rodenkirchen /Ostfeld\nSürther Str. 195\, 50999 Köln \nFür Getränke\, Kuchen und Snacks ist gesorgt. Kinder sind herzlich Wilkommen. Hunde sind auf der Anlage leider nicht erlaubt. \nWir freuen uns auf Sie! \nBildquelle: Cologne Ronin / Turnverein Rodenkirchen 1898 e.V. \n\nDieser Eintrag wird Ihnen zur Verfügung gestellt vom Kölner BilderBogen – eines der beliebtesten Stadtmagazine in Köln. Ihr Termin fehlt? Einfach kostenlos einreichen: www.bilderbogen.de/eventeintrag
URL:https://treffpunkt-rodenkirchen.koeln/event/american-football-live-cologne-ronin-vs-kevelaer-kings
LOCATION:Bezirkssportanlage Köln-Rodenkirchen\, Sürther Str. 195\, Köln\, 50999
ATTACH;FMTTYPE=image/png:https://treffpunkt-rodenkirchen.koeln/wp-content/uploads/2025/09/Bildschirmfoto-2025-09-16-um-12.23.41-1024x580-1.png
END:VEVENT
BEGIN:VEVENT
DTSTART;TZID=Europe/Berlin:20251012T150000
DTEND;TZID=Europe/Berlin:20251012T180000
DTSTAMP:20260421T111935
CREATED:20250916T110100Z
LAST-MODIFIED:20250916T120103Z
UID:30001514-1760281200-1760292000@treffpunkt-rodenkirchen.koeln
SUMMARY:American Football live: Cologne Ronin vs. Bocholt Rhinos
DESCRIPTION:Wir sind Cologne Ronin\, eine American Football Herrenmanschaft aus dem Kölner Süden. \nWir freuen uns über eine wachsende Fanbase und über jeden\, der uns an den Spieltagen besucht und uns als Team unterstützt. Kommen Sie gerne vorbei!  Der Eintritt ist frei! \nCologne Ronin vs. Bocholt Rhinos\nSonntag\, 12.10.2025\nKick off 15:00 Uhr \nWo?\nBezirkssportanlage Rodenkirchen /Ostfeld\nSürther Str. 195\, 50999 Köln \nFür Getränke\, Kuchen und Snacks ist gesorgt. Kinder sind herzlich Wilkommen. Hunde sind auf der Anlage leider nicht erlaubt. \nWir freuen uns auf Sie! \nBildquelle: Cologne Ronin / Turnverein Rodenkirchen 1898 e.V. \n\nDieser Eintrag wird Ihnen zur Verfügung gestellt vom Kölner BilderBogen – eines der beliebtesten Stadtmagazine in Köln. Ihr Termin fehlt? Einfach kostenlos einreichen: www.bilderbogen.de/eventeintrag
URL:https://treffpunkt-rodenkirchen.koeln/event/american-football-live-cologne-ronin-vs-bocholt-rhinos
LOCATION:Bezirkssportanlage Köln-Rodenkirchen\, Sürther Str. 195\, Köln\, 50999
ATTACH;FMTTYPE=image/png:https://treffpunkt-rodenkirchen.koeln/wp-content/uploads/2025/09/Bildschirmfoto-2025-09-16-um-12.35.55-1024x569-1.png
END:VEVENT
BEGIN:VEVENT
DTSTART;TZID=Europe/Berlin:20250921T150000
DTEND;TZID=Europe/Berlin:20250921T180000
DTSTAMP:20260421T111935
CREATED:20250916T110057Z
LAST-MODIFIED:20250916T120101Z
UID:30001513-1758466800-1758477600@treffpunkt-rodenkirchen.koeln
SUMMARY:American Football live: Cologne Ronin vs. Recklinghausen Charger
DESCRIPTION:Wir sind Cologne Ronin\, eine American Football Herrenmanschaft aus dem Kölner Süden. \nWir freuen uns über eine wachsende Fanbase und über jeden\, der uns an den Spieltagen besucht und uns als Team unterstützt. Kommen Sie gerne vorbei!  Der Eintritt ist frei! \nCologne Ronin vs. Recklinghausen Charger\nSonntag\, 21.09.2025\nKick off 15:00 Uhr \nWo?\nBezirkssportanlage Rodenkirchen /Ostfeld\nSürther Str. 195\, 50999 Köln \nFür Getränke\, Kuchen und Snacks ist gesorgt. Kinder sind herzlich Wilkommen. Hunde sind auf der Anlage leider nicht erlaubt. \nWir freuen uns auf Sie! \nBildquelle: Cologne Ronin / Turnverein Rodenkirchen 1898 e.V. \n\nDieser Eintrag wird Ihnen zur Verfügung gestellt vom Kölner BilderBogen – eines der beliebtesten Stadtmagazine in Köln. Ihr Termin fehlt? Einfach kostenlos einreichen: www.bilderbogen.de/eventeintrag
URL:https://treffpunkt-rodenkirchen.koeln/event/american-football-live-cologne-ronin-vs-recklinghausen-charger
LOCATION:Bezirkssportanlage Köln-Rodenkirchen\, Sürther Str. 195\, Köln\, 50999
ATTACH;FMTTYPE=image/png:https://treffpunkt-rodenkirchen.koeln/wp-content/uploads/2025/09/Bildschirmfoto-2025-09-16-um-12.38.54-1024x568-1.png
END:VEVENT
BEGIN:VEVENT
DTSTART;TZID=Europe/Berlin:20250818T090000
DTEND;TZID=Europe/Berlin:20250822T140000
DTSTAMP:20260421T111935
CREATED:20250603T090050Z
LAST-MODIFIED:20250603T090050Z
UID:30001265-1755507600-1755871200@treffpunkt-rodenkirchen.koeln
SUMMARY:Fußball Sommercamp 2025 vom 18.08.2025 bis 22.08.2025
DESCRIPTION:Fußball Sommercamp 2025      Stefan Rygol \nvom 18.08.205 bis zum 22.08.2025 jeweils von 9:00 bis 14:00 Uhr \nbei Nachfragen :  Handy  015774101880    oder      mailto:nc-rygolst2@netcologne.de \n  \n  \n\nDieser Eintrag wird Ihnen zur Verfügung gestellt vom Kölner BilderBogen – eines der beliebtesten Stadtmagazine in Köln. Ihr Termin fehlt? Einfach kostenlos einreichen: www.bilderbogen.de/eventeintrag
URL:https://treffpunkt-rodenkirchen.koeln/event/fussball-sommercamp-2025-vom-18-08-2025-bis-22-08-2025
LOCATION:Bezirkssportanlage Köln-Rodenkirchen\, Sürther Str. 195\, Köln\, 50999
ATTACH;FMTTYPE=image/png:https://treffpunkt-rodenkirchen.koeln/wp-content/uploads/2025/06/Bildschirmfoto-2025-06-03-um-10.05.11-595x1024-1.png
ORGANIZER;CN="Stefan Rygol":MAILTO:nc-rygolst2@netcologne.de
END:VEVENT
END:VCALENDAR