BEGIN:VCALENDAR
VERSION:2.0
PRODID:-//Treffpunkt Rodenkirchen - ECPv6.15.20//NONSGML v1.0//EN
CALSCALE:GREGORIAN
METHOD:PUBLISH
X-WR-CALNAME:Treffpunkt Rodenkirchen
X-ORIGINAL-URL:https://treffpunkt-rodenkirchen.koeln
X-WR-CALDESC:Veranstaltungen für Treffpunkt Rodenkirchen
REFRESH-INTERVAL;VALUE=DURATION:PT1H
X-Robots-Tag:noindex
X-PUBLISHED-TTL:PT1H
BEGIN:VTIMEZONE
TZID:Europe/Berlin
BEGIN:DAYLIGHT
TZOFFSETFROM:+0100
TZOFFSETTO:+0200
TZNAME:CEST
DTSTART:20250330T010000
END:DAYLIGHT
BEGIN:STANDARD
TZOFFSETFROM:+0200
TZOFFSETTO:+0100
TZNAME:CET
DTSTART:20251026T010000
END:STANDARD
BEGIN:DAYLIGHT
TZOFFSETFROM:+0100
TZOFFSETTO:+0200
TZNAME:CEST
DTSTART:20260329T010000
END:DAYLIGHT
BEGIN:STANDARD
TZOFFSETFROM:+0200
TZOFFSETTO:+0100
TZNAME:CET
DTSTART:20261025T010000
END:STANDARD
BEGIN:DAYLIGHT
TZOFFSETFROM:+0100
TZOFFSETTO:+0200
TZNAME:CEST
DTSTART:20270328T010000
END:DAYLIGHT
BEGIN:STANDARD
TZOFFSETFROM:+0200
TZOFFSETTO:+0100
TZNAME:CET
DTSTART:20271031T010000
END:STANDARD
END:VTIMEZONE
BEGIN:VEVENT
DTSTART;TZID=Europe/Berlin:20260323T190000
DTEND;TZID=Europe/Berlin:20260323T210000
DTSTAMP:20260424T145541
CREATED:20260302T110100Z
LAST-MODIFIED:20260302T110100Z
UID:30001894-1774292400-1774299600@treffpunkt-rodenkirchen.koeln
SUMMARY:Autorenlesung „Bräutigam“ von Benjamin Wiaters
DESCRIPTION:Der Kölner Autor Benjamin Winters liest aus seinem Thriller „Bräutigam“. In der Bücherei Heilige Drei Könige in Köln-Rondorf sind alle Menschen willkommen gemeinsam einen netten und spannenden Abend zu verbringen. \nWir nehmen keinen Eintritt\, freuen uns aber über eine Spende für die Bücherei als Anerkennung unserer ehrenamtlichen Tätigkeit. Getränke und Snacks stehen bereit. \nDie Veranstaltung wurde um eine Woche nach hinten verlegt. Neuer Termin ist der 23.03.2026. \nBildquelle: Katholisches Bildungswerk Köln \n\nDieser Eintrag wird Ihnen zur Verfügung gestellt vom Kölner BilderBogen – eines der beliebtesten Stadtmagazine in Köln. Ihr Termin fehlt? Einfach kostenlos einreichen: www.bilderbogen.de/eventeintrag
URL:https://treffpunkt-rodenkirchen.koeln/event/autorenlesung-braeutigam-von-benjamin-wiaters
LOCATION:Bücherei Heilige Drei Könige\, Hahnenstraße 21\, Köln-Rondorf\, NRW\, 50997
ATTACH;FMTTYPE=image/jpeg:https://treffpunkt-rodenkirchen.koeln/wp-content/uploads/2026/03/IMG_7338-729x1024-1.jpg
END:VEVENT
END:VCALENDAR