BEGIN:VCALENDAR
VERSION:2.0
PRODID:-//Treffpunkt Rodenkirchen - ECPv6.15.20//NONSGML v1.0//EN
CALSCALE:GREGORIAN
METHOD:PUBLISH
X-WR-CALNAME:Treffpunkt Rodenkirchen
X-ORIGINAL-URL:https://treffpunkt-rodenkirchen.koeln
X-WR-CALDESC:Veranstaltungen für Treffpunkt Rodenkirchen
REFRESH-INTERVAL;VALUE=DURATION:PT1H
X-Robots-Tag:noindex
X-PUBLISHED-TTL:PT1H
BEGIN:VTIMEZONE
TZID:Europe/Berlin
BEGIN:DAYLIGHT
TZOFFSETFROM:+0100
TZOFFSETTO:+0200
TZNAME:CEST
DTSTART:20240331T010000
END:DAYLIGHT
BEGIN:STANDARD
TZOFFSETFROM:+0200
TZOFFSETTO:+0100
TZNAME:CET
DTSTART:20241027T010000
END:STANDARD
BEGIN:DAYLIGHT
TZOFFSETFROM:+0100
TZOFFSETTO:+0200
TZNAME:CEST
DTSTART:20250330T010000
END:DAYLIGHT
BEGIN:STANDARD
TZOFFSETFROM:+0200
TZOFFSETTO:+0100
TZNAME:CET
DTSTART:20251026T010000
END:STANDARD
BEGIN:DAYLIGHT
TZOFFSETFROM:+0100
TZOFFSETTO:+0200
TZNAME:CEST
DTSTART:20260329T010000
END:DAYLIGHT
BEGIN:STANDARD
TZOFFSETFROM:+0200
TZOFFSETTO:+0100
TZNAME:CET
DTSTART:20261025T010000
END:STANDARD
END:VTIMEZONE
BEGIN:VEVENT
DTSTART;TZID=Europe/Berlin:20251214T160000
DTEND;TZID=Europe/Berlin:20251214T190000
DTSTAMP:20260421T071224
CREATED:20251013T170049Z
LAST-MODIFIED:20251013T180044Z
UID:30001608-1765728000-1765738800@treffpunkt-rodenkirchen.koeln
SUMMARY:Rockin‘ Christmas – Weihnachtsgala auf Burg Heimerzheim
DESCRIPTION:Von wegen stille Nacht! I’m dreaming of… A ROCKIN’ CHRISTMAS heißt es Mitte Dezember für drei Tage in einer der stimmungsvollsten Burgen des Rheinlandes: \nDenn am 12.\, 13. und 14.12. verwandelt sich Burg Heimerzheim bei Köln/Bonn in eine Bühne voller Musik mit Live-Band\, Weihnachtsklassikern\, Musicalsongs und großer Unterhaltung. Wo Fackeln in einzigartiger Kulisse den Burghof in warmes Licht tauchen und die kalte Winterluft nach Glühwein duftet\, erwartet die Gäste zur Vorweihnachtszeit ein besonders Erlebnis\, moderiert von TV-Größe Ingolf Lück. \nFür den musikalischen Glanz sorgen die internationalen Musicalstars Melissa Nettleford und Christian Lunn (bekannt für ihre Rollen als Magenta und Riff Raff in der diesjährigen Europa-Tour der Rocky Horror Show) – darunter eine liebevolle Hommage\, inspiriert vom Kultmusical „The Rocky Horror Show“ und der Filmlegende\, die in diesem Jahr ihr 50-jähriges Jubiläum feiert. \nGemeinsam laden sie das Publikum in ihr „Zuhause für die Feiertage“ ein: persönlich\, nah\, voller Wärme einer ordentlichen Portion Rock ’n’ Roll. Ein Abend\, der sich anfühlt wie Weihnachten im Kreis von Freunden und Familie. Weitere Infos und Tickets auf Eventbrite oder unter: www.aboutcommunication.de/events \n\n\nDieser Eintrag wird Ihnen zur Verfügung gestellt vom Kölner BilderBogen – eines der beliebtesten Stadtmagazine in Köln. Ihr Termin fehlt? Einfach kostenlos einreichen: www.bilderbogen.de/eventeintrag
URL:https://treffpunkt-rodenkirchen.koeln/event/rockin-christmas-weihnachtsgala-auf-burg-heimerzheim-6
LOCATION:Burg Heimerzheim\, Kölnerstr. 1\, Swisttal-Heimerzheim\, 53913
ATTACH;FMTTYPE=image/png:https://treffpunkt-rodenkirchen.koeln/wp-content/uploads/2025/10/Bildschirmfoto-2025-10-01-um-12.08.58-1024x509-1.png
END:VEVENT
BEGIN:VEVENT
DTSTART;TZID=Europe/Berlin:20251214T160000
DTEND;TZID=Europe/Berlin:20251214T190000
DTSTAMP:20260421T071224
CREATED:20251001T110045Z
LAST-MODIFIED:20251001T110045Z
UID:30001555-1765728000-1765738800@treffpunkt-rodenkirchen.koeln
SUMMARY:Rockin‘ Christmas – Weihnachtsgala auf Burg Heimerzheim
DESCRIPTION:Ein exklusiver Abend voller Musik mit Live-Band\, Weihnachtsklassikern und großer Unterhaltung auf Burg Heimerzheim. \nIn einzigartiger Kulisse bringen die Musicalstars Christian Lunn und Melissa Nettleford\, bekannt aus der Europa-Tour der Rocky Horror Show in den Rollen von Riff Raff und Magenta\, eine liebevolle Hommage an die Rocky Horror Show auf die Bühne. \nIngolf Lück führt als Moderator mit seinem unverwechselbaren Charme durch die Show und macht den Abend zu einem ganz besonderen Erlebnis. \nGemeinsam laden sie das Publikum in ihr „Zuhause für die Feiertage“ ein: persönlich und nah\, ein Abend wie im Kreis von Freunden und Familie. \n\nDieser Eintrag wird Ihnen zur Verfügung gestellt vom Kölner BilderBogen – eines der beliebtesten Stadtmagazine in Köln. Ihr Termin fehlt? Einfach kostenlos einreichen: www.bilderbogen.de/eventeintrag
URL:https://treffpunkt-rodenkirchen.koeln/event/rockin-christmas-weihnachtsgala-auf-burg-heimerzheim-3
LOCATION:Burg Heimerzheim\, Kölnerstr. 1\, Swisttal-Heimerzheim\, 53913
ATTACH;FMTTYPE=image/png:https://treffpunkt-rodenkirchen.koeln/wp-content/uploads/2025/10/Bildschirmfoto-2025-10-01-um-12.08.58-1024x509-1.png
END:VEVENT
BEGIN:VEVENT
DTSTART;TZID=Europe/Berlin:20251213T180000
DTEND;TZID=Europe/Berlin:20251213T210000
DTSTAMP:20260421T071224
CREATED:20251013T170048Z
LAST-MODIFIED:20251013T180043Z
UID:30001607-1765648800-1765659600@treffpunkt-rodenkirchen.koeln
SUMMARY:Rockin‘ Christmas – Weihnachtsgala auf Burg Heimerzheim
DESCRIPTION:Von wegen stille Nacht! I’m dreaming of… A ROCKIN’ CHRISTMAS heißt es Mitte Dezember für drei Tage in einer der stimmungsvollsten Burgen des Rheinlandes: \nDenn am 12.\, 13. und 14.12. verwandelt sich Burg Heimerzheim bei Köln/Bonn in eine Bühne voller Musik mit Live-Band\, Weihnachtsklassikern\, Musicalsongs und großer Unterhaltung. Wo Fackeln in einzigartiger Kulisse den Burghof in warmes Licht tauchen und die kalte Winterluft nach Glühwein duftet\, erwartet die Gäste zur Vorweihnachtszeit ein besonders Erlebnis\, moderiert von TV-Größe Ingolf Lück. \nFür den musikalischen Glanz sorgen die internationalen Musicalstars Melissa Nettleford und Christian Lunn (bekannt für ihre Rollen als Magenta und Riff Raff in der diesjährigen Europa-Tour der Rocky Horror Show) – darunter eine liebevolle Hommage\, inspiriert vom Kultmusical „The Rocky Horror Show“ und der Filmlegende\, die in diesem Jahr ihr 50-jähriges Jubiläum feiert. \nGemeinsam laden sie das Publikum in ihr „Zuhause für die Feiertage“ ein: persönlich\, nah\, voller Wärme einer ordentlichen Portion Rock ’n’ Roll. Ein Abend\, der sich anfühlt wie Weihnachten im Kreis von Freunden und Familie. Weitere Infos und Tickets auf Eventbrite oder unter: www.aboutcommunication.de/events \n\n\nDieser Eintrag wird Ihnen zur Verfügung gestellt vom Kölner BilderBogen – eines der beliebtesten Stadtmagazine in Köln. Ihr Termin fehlt? Einfach kostenlos einreichen: www.bilderbogen.de/eventeintrag
URL:https://treffpunkt-rodenkirchen.koeln/event/rockin-christmas-weihnachtsgala-auf-burg-heimerzheim-5
LOCATION:Burg Heimerzheim\, Kölnerstr. 1\, Swisttal-Heimerzheim\, 53913
ATTACH;FMTTYPE=image/png:https://treffpunkt-rodenkirchen.koeln/wp-content/uploads/2025/10/Bildschirmfoto-2025-10-01-um-12.08.58-1024x509-1.png
END:VEVENT
BEGIN:VEVENT
DTSTART;TZID=Europe/Berlin:20251213T180000
DTEND;TZID=Europe/Berlin:20251213T210000
DTSTAMP:20260421T071224
CREATED:20251001T110044Z
LAST-MODIFIED:20251001T110044Z
UID:30001554-1765648800-1765659600@treffpunkt-rodenkirchen.koeln
SUMMARY:Rockin‘ Christmas – Weihnachtsgala auf Burg Heimerzheim
DESCRIPTION:Ein exklusiver Abend voller Musik mit Live-Band\, Weihnachtsklassikern und großer Unterhaltung auf Burg Heimerzheim. \nIn einzigartiger Kulisse bringen die Musicalstars Christian Lunn und Melissa Nettleford\, bekannt aus der Europa-Tour der Rocky Horror Show in den Rollen von Riff Raff und Magenta\, eine liebevolle Hommage an die Rocky Horror Show auf die Bühne. \nIngolf Lück führt als Moderator mit seinem unverwechselbaren Charme durch die Show und macht den Abend zu einem ganz besonderen Erlebnis. \nGemeinsam laden sie das Publikum in ihr „Zuhause für die Feiertage“ ein: persönlich und nah\, ein Abend wie im Kreis von Freunden und Familie. \n\nDieser Eintrag wird Ihnen zur Verfügung gestellt vom Kölner BilderBogen – eines der beliebtesten Stadtmagazine in Köln. Ihr Termin fehlt? Einfach kostenlos einreichen: www.bilderbogen.de/eventeintrag
URL:https://treffpunkt-rodenkirchen.koeln/event/rockin-christmas-weihnachtsgala-auf-burg-heimerzheim-2
LOCATION:Burg Heimerzheim\, Kölnerstr. 1\, Swisttal-Heimerzheim\, 53913
ATTACH;FMTTYPE=image/png:https://treffpunkt-rodenkirchen.koeln/wp-content/uploads/2025/10/Bildschirmfoto-2025-10-01-um-12.08.58-1024x509-1.png
END:VEVENT
BEGIN:VEVENT
DTSTART;TZID=Europe/Berlin:20251212T180000
DTEND;TZID=Europe/Berlin:20251212T210000
DTSTAMP:20260421T071224
CREATED:20251013T170046Z
LAST-MODIFIED:20251013T180042Z
UID:30001606-1765562400-1765573200@treffpunkt-rodenkirchen.koeln
SUMMARY:Rockin‘ Christmas – Weihnachtsgala auf Burg Heimerzheim
DESCRIPTION:Von wegen stille Nacht! I’m dreaming of… A ROCKIN’ CHRISTMAS heißt es Mitte Dezember für drei Tage in einer der stimmungsvollsten Burgen des Rheinlandes: \nDenn am 12.\, 13. und 14.12. verwandelt sich Burg Heimerzheim bei Köln/Bonn in eine Bühne voller Musik mit Live-Band\, Weihnachtsklassikern\, Musicalsongs und großer Unterhaltung. Wo Fackeln in einzigartiger Kulisse den Burghof in warmes Licht tauchen und die kalte Winterluft nach Glühwein duftet\, erwartet die Gäste zur Vorweihnachtszeit ein besonders Erlebnis\, moderiert von TV-Größe Ingolf Lück. \nFür den musikalischen Glanz sorgen die internationalen Musicalstars Melissa Nettleford und Christian Lunn (bekannt für ihre Rollen als Magenta und Riff Raff in der diesjährigen Europa-Tour der Rocky Horror Show) – darunter eine liebevolle Hommage\, inspiriert vom Kultmusical „The Rocky Horror Show“ und der Filmlegende\, die in diesem Jahr ihr 50-jähriges Jubiläum feiert. \nGemeinsam laden sie das Publikum in ihr „Zuhause für die Feiertage“ ein: persönlich\, nah\, voller Wärme einer ordentlichen Portion Rock ’n’ Roll. Ein Abend\, der sich anfühlt wie Weihnachten im Kreis von Freunden und Familie. Weitere Infos und Tickets auf Eventbrite oder unter: www.aboutcommunication.de/events \n\n\nDieser Eintrag wird Ihnen zur Verfügung gestellt vom Kölner BilderBogen – eines der beliebtesten Stadtmagazine in Köln. Ihr Termin fehlt? Einfach kostenlos einreichen: www.bilderbogen.de/eventeintrag
URL:https://treffpunkt-rodenkirchen.koeln/event/rockin-christmas-weihnachtsgala-auf-burg-heimerzheim-4
LOCATION:Burg Heimerzheim\, Kölnerstr. 1\, Swisttal-Heimerzheim\, 53913
ATTACH;FMTTYPE=image/png:https://treffpunkt-rodenkirchen.koeln/wp-content/uploads/2025/10/Bildschirmfoto-2025-10-01-um-12.08.58-1024x509-1.png
END:VEVENT
BEGIN:VEVENT
DTSTART;TZID=Europe/Berlin:20251212T180000
DTEND;TZID=Europe/Berlin:20251212T210000
DTSTAMP:20260421T071224
CREATED:20251001T110043Z
LAST-MODIFIED:20251001T110043Z
UID:30001553-1765562400-1765573200@treffpunkt-rodenkirchen.koeln
SUMMARY:Rockin‘ Christmas – Weihnachtsgala auf Burg Heimerzheim
DESCRIPTION:Ein exklusiver Abend voller Musik mit Live-Band\, Weihnachtsklassikern und großer Unterhaltung auf Burg Heimerzheim. \nIn einzigartiger Kulisse bringen die Musicalstars Christian Lunn und Melissa Nettleford\, bekannt aus der Europa-Tour der Rocky Horror Show in den Rollen von Riff Raff und Magenta\, eine liebevolle Hommage an die Rocky Horror Show auf die Bühne. \nIngolf Lück führt als Moderator mit seinem unverwechselbaren Charme durch die Show und macht den Abend zu einem ganz besonderen Erlebnis. \nGemeinsam laden sie das Publikum in ihr „Zuhause für die Feiertage“ ein: persönlich und nah\, ein Abend wie im Kreis von Freunden und Familie. \n\nDieser Eintrag wird Ihnen zur Verfügung gestellt vom Kölner BilderBogen – eines der beliebtesten Stadtmagazine in Köln. Ihr Termin fehlt? Einfach kostenlos einreichen: www.bilderbogen.de/eventeintrag
URL:https://treffpunkt-rodenkirchen.koeln/event/rockin-christmas-weihnachtsgala-auf-burg-heimerzheim
LOCATION:Burg Heimerzheim\, Kölnerstr. 1\, Swisttal-Heimerzheim\, 53913
ATTACH;FMTTYPE=image/png:https://treffpunkt-rodenkirchen.koeln/wp-content/uploads/2025/10/Bildschirmfoto-2025-10-01-um-12.08.58-1024x509-1.png
END:VEVENT
END:VCALENDAR