BEGIN:VCALENDAR
VERSION:2.0
PRODID:-//Treffpunkt Rodenkirchen - ECPv6.15.20//NONSGML v1.0//EN
CALSCALE:GREGORIAN
METHOD:PUBLISH
X-WR-CALNAME:Treffpunkt Rodenkirchen
X-ORIGINAL-URL:https://treffpunkt-rodenkirchen.koeln
X-WR-CALDESC:Veranstaltungen für Treffpunkt Rodenkirchen
REFRESH-INTERVAL;VALUE=DURATION:PT1H
X-Robots-Tag:noindex
X-PUBLISHED-TTL:PT1H
BEGIN:VTIMEZONE
TZID:Europe/Berlin
BEGIN:DAYLIGHT
TZOFFSETFROM:+0100
TZOFFSETTO:+0200
TZNAME:CEST
DTSTART:20240331T010000
END:DAYLIGHT
BEGIN:STANDARD
TZOFFSETFROM:+0200
TZOFFSETTO:+0100
TZNAME:CET
DTSTART:20241027T010000
END:STANDARD
BEGIN:DAYLIGHT
TZOFFSETFROM:+0100
TZOFFSETTO:+0200
TZNAME:CEST
DTSTART:20250330T010000
END:DAYLIGHT
BEGIN:STANDARD
TZOFFSETFROM:+0200
TZOFFSETTO:+0100
TZNAME:CET
DTSTART:20251026T010000
END:STANDARD
BEGIN:DAYLIGHT
TZOFFSETFROM:+0100
TZOFFSETTO:+0200
TZNAME:CEST
DTSTART:20260329T010000
END:DAYLIGHT
BEGIN:STANDARD
TZOFFSETFROM:+0200
TZOFFSETTO:+0100
TZNAME:CET
DTSTART:20261025T010000
END:STANDARD
END:VTIMEZONE
BEGIN:VEVENT
DTSTART;TZID=Europe/Berlin:20251116T110000
DTEND;TZID=Europe/Berlin:20251116T163000
DTSTAMP:20260425T123609
CREATED:20251103T120047Z
LAST-MODIFIED:20251103T130043Z
UID:30001655-1763290800-1763310600@treffpunkt-rodenkirchen.koeln
SUMMARY:Johanniter-Basar 2025
DESCRIPTION:Am 15. November findet von 12:30-17:30 Uhr und am 16. November von 11:00-16:30 Uhr im Evangelischen Gemeindezentrum\, Sürther Straße 34\, der traditionelle vorweih-nachtliche Basar der Johanniter-Hilfsgemeinschaft Köln statt. Dazu lädt Sie das Team der Johanniter-Hilfsgemeinschaft herzlich ein. \nBildquelle: Helga Schröder-Etzdor \n  \n\nDieser Eintrag wird Ihnen zur Verfügung gestellt vom Kölner BilderBogen – eines der beliebtesten Stadtmagazine in Köln. Ihr Termin fehlt? Einfach kostenlos einreichen: www.bilderbogen.de/eventeintrag
URL:https://treffpunkt-rodenkirchen.koeln/event/johanniter-basar-2025-2
LOCATION:Erlöserkirche Rodenkirchen (Saal)\, Sürther Straße 34\, Köln\, 50996\, Deutschland
ATTACH;FMTTYPE=image/png:https://treffpunkt-rodenkirchen.koeln/wp-content/uploads/2025/11/Bildschirmfoto-2025-11-03-um-12.52.22-717x1024-1.png
END:VEVENT
BEGIN:VEVENT
DTSTART;TZID=Europe/Berlin:20251115T123000
DTEND;TZID=Europe/Berlin:20251115T153000
DTSTAMP:20260425T123609
CREATED:20251103T120046Z
LAST-MODIFIED:20251103T130042Z
UID:30001654-1763209800-1763220600@treffpunkt-rodenkirchen.koeln
SUMMARY:Johanniter-Basar 2025
DESCRIPTION:Am 15. November findet von 12:30-17:30 Uhr und am 16. November von 11:00-16:30 Uhr im Evangelischen Gemeindezentrum\, Sürther Straße 34\, der traditionelle vorweih-nachtliche Basar der Johanniter-Hilfsgemeinschaft Köln statt. Dazu lädt Sie das Team der Johanniter-Hilfsgemeinschaft herzlich ein. \nBildquelle: Helga Schröder-Etzdor \n  \n\nDieser Eintrag wird Ihnen zur Verfügung gestellt vom Kölner BilderBogen – eines der beliebtesten Stadtmagazine in Köln. Ihr Termin fehlt? Einfach kostenlos einreichen: www.bilderbogen.de/eventeintrag
URL:https://treffpunkt-rodenkirchen.koeln/event/johanniter-basar-2025
LOCATION:Erlöserkirche Rodenkirchen (Saal)\, Sürther Straße 34\, Köln\, 50996\, Deutschland
ATTACH;FMTTYPE=image/png:https://treffpunkt-rodenkirchen.koeln/wp-content/uploads/2025/11/Bildschirmfoto-2025-11-03-um-12.52.22-717x1024-1.png
END:VEVENT
BEGIN:VEVENT
DTSTART;TZID=Europe/Berlin:20251102T163000
DTEND;TZID=Europe/Berlin:20251102T190000
DTSTAMP:20260425T123609
CREATED:20251021T090057Z
LAST-MODIFIED:20251021T090057Z
UID:30001621-1762101000-1762110000@treffpunkt-rodenkirchen.koeln
SUMMARY:Romantik ist am Rhein zu Hause\, Konzert im Rahmen der MUSIK IN DER ERLÖSERKIRCHE
DESCRIPTION:Am 2.November um 16.30 Uhr erklingt im großen Saal neben der Erlöserkirche Rodenkirchen\, Sürther Str.34 unter dem Titel „Romantik ist am Rhein zu Hause…“ ein Konzert für Violine und Klavier mit Kostbarkeiten romantischer Musik\, die im Umfeld des Rheinlandes entstanden ist. Eine Fülle der schönsten Musik stammt aus dieser Zeit. Gudrun Höbold\, Violine und Eri Uchino am Flügel gastieren als erfahrene Interpretinnen\, beide haben Lehrauftrage an der Kölner Musikhochschule inne und sind ein gut aufeinander abgestimmtes Duo \, im großen Saal. \nRobert Schumann wirkte in Düsseldorf als Städtischer Musikdirektor\, durch ihn und Clara Schumann\, geb. Wieck\, hatte auch Johannes Brahms eine enge Beziehung zum Rheinland. Max Bruch\, einer der bekanntesten Komponisten der Romantik\, stammt aus Köln. Ebenso sind viele andere Komponisten im Rheinland beheimatet: Engelbert Humperdinck\, der Komponist der Märchenoper „Hänsel und Gretel“; stammt aus Siegburg\, Johann Wilhelm Willms aus Witzhelden bei Leichlingen und Ewald Straesser\, der Spätromantiker\, aus Burscheid. \nDer Eintritt ist frei. Spenden für die MUSIK IN DER ERLÖSERKIRCHE sind willkommen. \n\nDieser Eintrag wird Ihnen zur Verfügung gestellt vom Kölner BilderBogen – eines der beliebtesten Stadtmagazine in Köln. Ihr Termin fehlt? Einfach kostenlos einreichen: www.bilderbogen.de/eventeintrag
URL:https://treffpunkt-rodenkirchen.koeln/event/romantik-ist-am-rhein-zu-hause-konzert-im-rahmen-der-musik-in-der-erloeserkirche
LOCATION:Erlöserkirche Rodenkirchen (Saal)\, Sürther Straße 34\, Köln\, 50996\, Deutschland
ATTACH;FMTTYPE=image/png:https://treffpunkt-rodenkirchen.koeln/wp-content/uploads/2025/10/Bildschirmfoto-2025-10-21-um-10.08.59-710x1024-1.png
END:VEVENT
END:VCALENDAR