BEGIN:VCALENDAR
VERSION:2.0
PRODID:-//Treffpunkt Rodenkirchen - ECPv6.15.20//NONSGML v1.0//EN
CALSCALE:GREGORIAN
METHOD:PUBLISH
X-WR-CALNAME:Treffpunkt Rodenkirchen
X-ORIGINAL-URL:https://treffpunkt-rodenkirchen.koeln
X-WR-CALDESC:Veranstaltungen für Treffpunkt Rodenkirchen
REFRESH-INTERVAL;VALUE=DURATION:PT1H
X-Robots-Tag:noindex
X-PUBLISHED-TTL:PT1H
BEGIN:VTIMEZONE
TZID:Europe/Berlin
BEGIN:DAYLIGHT
TZOFFSETFROM:+0100
TZOFFSETTO:+0200
TZNAME:CEST
DTSTART:20250330T010000
END:DAYLIGHT
BEGIN:STANDARD
TZOFFSETFROM:+0200
TZOFFSETTO:+0100
TZNAME:CET
DTSTART:20251026T010000
END:STANDARD
BEGIN:DAYLIGHT
TZOFFSETFROM:+0100
TZOFFSETTO:+0200
TZNAME:CEST
DTSTART:20260329T010000
END:DAYLIGHT
BEGIN:STANDARD
TZOFFSETFROM:+0200
TZOFFSETTO:+0100
TZNAME:CET
DTSTART:20261025T010000
END:STANDARD
BEGIN:DAYLIGHT
TZOFFSETFROM:+0100
TZOFFSETTO:+0200
TZNAME:CEST
DTSTART:20270328T010000
END:DAYLIGHT
BEGIN:STANDARD
TZOFFSETFROM:+0200
TZOFFSETTO:+0100
TZNAME:CET
DTSTART:20271031T010000
END:STANDARD
END:VTIMEZONE
BEGIN:VEVENT
DTSTART;TZID=Europe/Berlin:20260115T160000
DTEND;TZID=Europe/Berlin:20260115T183000
DTSTAMP:20260425T205232
CREATED:20251010T170053Z
LAST-MODIFIED:20251010T180050Z
UID:30001605-1768492800-1768501800@treffpunkt-rodenkirchen.koeln
SUMMARY:Kindersitzung mit KASALLA in Köln-Sürth
DESCRIPTION:In dem beheizten Festzelt auf dem Sürther Marktplatz erwartet die KG Löstige Flägelskappe dann wieder Kinder- und Teens (gerne auch mit ihren Eltern) zu einem stimmungsvollen Nachmittag. \nNeben Gewinnspielen\, Tanz und Show erwartet die Gäste 2026 eine der erfolgreichsten Kölner Bands überhaupt: KASALLA! \nNutzt die Gelegenheit um zum kleinen Preis die Jungs von KASALLA live zu erleben und macht vor oder nach dem Auftritt Fotos mit euren Stars. \nDer Eintritt beträgt für Kinder\, Teens und begleitende Erwachsende jeweils nur 5\,- Euro. Speisen und Getränke gibt es ebenfalls zu äußerst familienfreundlichen Preisen. \nWir empfehlen die Karten bereits im Vorverkauf zu erwerben. Ein Bestellformular gibt es auf www.flaegelskappe.de \n\nDieser Eintrag wird Ihnen zur Verfügung gestellt vom Kölner BilderBogen – eines der beliebtesten Stadtmagazine in Köln. Ihr Termin fehlt? Einfach kostenlos einreichen: www.bilderbogen.de/eventeintrag
URL:https://treffpunkt-rodenkirchen.koeln/event/kindersitzung-mit-kasalla-in-koeln-suerth
LOCATION:Festzelt auf dem Sürther Marktplatz\, Frohnhofstr. Ecke / Sürther Hauptstr.\, Köln\, NRW\, 50999\, Deutschland
ATTACH;FMTTYPE=image/jpeg:https://treffpunkt-rodenkirchen.koeln/wp-content/uploads/2025/10/Kindersitzung_Koeln-Suerth-727x1024-1.jpeg
END:VEVENT
END:VCALENDAR