BEGIN:VCALENDAR
VERSION:2.0
PRODID:-//Treffpunkt Rodenkirchen - ECPv6.15.20//NONSGML v1.0//EN
CALSCALE:GREGORIAN
METHOD:PUBLISH
X-WR-CALNAME:Treffpunkt Rodenkirchen
X-ORIGINAL-URL:https://treffpunkt-rodenkirchen.koeln
X-WR-CALDESC:Veranstaltungen für Treffpunkt Rodenkirchen
REFRESH-INTERVAL;VALUE=DURATION:PT1H
X-Robots-Tag:noindex
X-PUBLISHED-TTL:PT1H
BEGIN:VTIMEZONE
TZID:Europe/Berlin
BEGIN:DAYLIGHT
TZOFFSETFROM:+0100
TZOFFSETTO:+0200
TZNAME:CEST
DTSTART:20240331T010000
END:DAYLIGHT
BEGIN:STANDARD
TZOFFSETFROM:+0200
TZOFFSETTO:+0100
TZNAME:CET
DTSTART:20241027T010000
END:STANDARD
BEGIN:DAYLIGHT
TZOFFSETFROM:+0100
TZOFFSETTO:+0200
TZNAME:CEST
DTSTART:20250330T010000
END:DAYLIGHT
BEGIN:STANDARD
TZOFFSETFROM:+0200
TZOFFSETTO:+0100
TZNAME:CET
DTSTART:20251026T010000
END:STANDARD
BEGIN:DAYLIGHT
TZOFFSETFROM:+0100
TZOFFSETTO:+0200
TZNAME:CEST
DTSTART:20260329T010000
END:DAYLIGHT
BEGIN:STANDARD
TZOFFSETFROM:+0200
TZOFFSETTO:+0100
TZNAME:CET
DTSTART:20261025T010000
END:STANDARD
END:VTIMEZONE
BEGIN:VEVENT
DTSTART;TZID=Europe/Berlin:20251031T160000
DTEND;TZID=Europe/Berlin:20251031T203000
DTSTAMP:20260425T162946
CREATED:20250917T090059Z
LAST-MODIFIED:20250917T100056Z
UID:30001517-1761926400-1761942600@treffpunkt-rodenkirchen.koeln
SUMMARY:Sparda-Bank-Halloween-Run\, Forstbotanischer Garten
DESCRIPTION:Am 31. Oktober 2025 wird der Forstbotanische Garten zur stimmungsvollen Laufkulisse. Die beleuchtete Strecke sorgt für Gänsehaut\, dunkle Abschnitte bringen zusätzliche Spannung – Stirnlampe nicht vergessen! Der Halloween-Run ist kein Wettkampf\, sondern ein Erlebnis für Laufbegeisterte\, Familien und Verkleidungsfans. Für Kinder und Jugendliche gibt es kürzere Läufe mit süßer Belohnung am Ziel. \nSei dabei und genieße die schaurig stimmungsvolle Strecke im Forstbotanischen Garten. Mit noch mehr Halloween als in den Vorjahren und einer Atmosphäre\, die ihresgleichen sucht. \nDer Halloween-Run ist kein Hindernislauf und es gibt auch keine Zombies die dich jagen. Vielmehr ist der Halloween-Run ein Event für alle\, die gerne laufen\, die Spaß am Verkleiden haben\, die eine Veranstaltung und eine Laufstrecke mit besonderer Atmosphäre mögen\, die gerne mit ihren Kids etwas unternehmen und die Lust auf einen gruseliges Rahmenprogramm haben. \nVerkleidung? Muss man nicht\, sollte man aber! \nZeitplan\n16:00 Uhr: Ausgabe der Startunterlagen\n17:00 Uhr: Start Little Candy-Run (500 m Bambinilauf bis einschl. Jahrgang 2018)\n17:30 Uhr: Start Big Candy-Run (Jahrgänge 2010 bis 2017)\n18:00 Uhr: Start Halloween-Run 5 km (Zielschluss: 50 Minuten Nettolaufzeit)\n19:00 Uhr: Start Halloween-Run 10 km (Zielschluss: 90 Minuten Nettolaufzeit)\n20:10 Uhr: Siegerehrung Halloween-Runs \n  \n\nDieser Eintrag wird Ihnen zur Verfügung gestellt vom Kölner BilderBogen – eines der beliebtesten Stadtmagazine in Köln. Ihr Termin fehlt? Einfach kostenlos einreichen: www.bilderbogen.de/eventeintrag
URL:https://treffpunkt-rodenkirchen.koeln/event/sparda-bank-halloween-run-forstbotanischer-garten
LOCATION:Forstbotanischer Garten\, Schillingsrotter Str. 100\, Köln\, NRW\, 50999\, Deutschland
END:VEVENT
END:VCALENDAR