BEGIN:VCALENDAR
VERSION:2.0
PRODID:-//Treffpunkt Rodenkirchen - ECPv6.15.20//NONSGML v1.0//EN
CALSCALE:GREGORIAN
METHOD:PUBLISH
X-ORIGINAL-URL:https://treffpunkt-rodenkirchen.koeln
X-WR-CALDESC:Veranstaltungen für Treffpunkt Rodenkirchen
REFRESH-INTERVAL;VALUE=DURATION:PT1H
X-Robots-Tag:noindex
X-PUBLISHED-TTL:PT1H
BEGIN:VTIMEZONE
TZID:Europe/Berlin
BEGIN:DAYLIGHT
TZOFFSETFROM:+0100
TZOFFSETTO:+0200
TZNAME:CEST
DTSTART:20240331T010000
END:DAYLIGHT
BEGIN:STANDARD
TZOFFSETFROM:+0200
TZOFFSETTO:+0100
TZNAME:CET
DTSTART:20241027T010000
END:STANDARD
BEGIN:DAYLIGHT
TZOFFSETFROM:+0100
TZOFFSETTO:+0200
TZNAME:CEST
DTSTART:20250330T010000
END:DAYLIGHT
BEGIN:STANDARD
TZOFFSETFROM:+0200
TZOFFSETTO:+0100
TZNAME:CET
DTSTART:20251026T010000
END:STANDARD
BEGIN:DAYLIGHT
TZOFFSETFROM:+0100
TZOFFSETTO:+0200
TZNAME:CEST
DTSTART:20260329T010000
END:DAYLIGHT
BEGIN:STANDARD
TZOFFSETFROM:+0200
TZOFFSETTO:+0100
TZNAME:CET
DTSTART:20261025T010000
END:STANDARD
END:VTIMEZONE
BEGIN:VEVENT
DTSTART;TZID=Europe/Berlin:20251206T140000
DTEND;TZID=Europe/Berlin:20251206T180000
DTSTAMP:20260425T222325
CREATED:20251114T100044Z
LAST-MODIFIED:20251116T180050Z
UID:30001670-1765029600-1765044000@treffpunkt-rodenkirchen.koeln
SUMMARY:Weihnachtsausstellung bei Glaskunst Meisenheimer
DESCRIPTION:Auch in diesem Jahr präsentiere ich wieder meine Exponate am Firmensitz im Merlinweg. \nIch fertige Glasobjekte in Tiffany- und Fusingtechnik. Neben weihnachtlichen Motiven werden Sie neutrale und Kölner Motive vorfinden. \nIch lade Sie\, Ihre Familie und Freunde herzlich zu diesem besonderen Event in der Adventszeit ein. Genießen Sie bei Glühwein\, Stollen\, Gebäck und Schwedenfeuer die Objekte aus meiner Werkstatt. \nIch freue mich auf Ihren Besuch. \nIhr Harald Meisenheimer \nIch stelle aus und führe vor:\nWeihnachtsmarkt am Kölner Dom\,\n19.12. – 21.12. 2025\, Aktionspavillon 95 \nBildquelle: Harald Meisenheimer \n\nDieser Eintrag wird Ihnen zur Verfügung gestellt vom Kölner BilderBogen – eines der beliebtesten Stadtmagazine in Köln. Ihr Termin fehlt? Einfach kostenlos einreichen: www.bilderbogen.de/eventeintrag
URL:https://treffpunkt-rodenkirchen.koeln/event/weihnachtsausstellung-bei-glaskunst-meisenheimer
LOCATION:Glaskunst Meisenheimer\, Merlinweg 169\, Köln\, NRW\, 50997
ATTACH;FMTTYPE=image/jpeg:https://treffpunkt-rodenkirchen.koeln/wp-content/uploads/2025/11/IMG00036-20121209-1358-1-1024x768-1.jpg
END:VEVENT
END:VCALENDAR