BEGIN:VCALENDAR
VERSION:2.0
PRODID:-//Treffpunkt Rodenkirchen - ECPv6.15.20//NONSGML v1.0//EN
CALSCALE:GREGORIAN
METHOD:PUBLISH
X-WR-CALNAME:Treffpunkt Rodenkirchen
X-ORIGINAL-URL:https://treffpunkt-rodenkirchen.koeln
X-WR-CALDESC:Veranstaltungen für Treffpunkt Rodenkirchen
REFRESH-INTERVAL;VALUE=DURATION:PT1H
X-Robots-Tag:noindex
X-PUBLISHED-TTL:PT1H
BEGIN:VTIMEZONE
TZID:Europe/Berlin
BEGIN:DAYLIGHT
TZOFFSETFROM:+0100
TZOFFSETTO:+0200
TZNAME:CEST
DTSTART:20240331T010000
END:DAYLIGHT
BEGIN:STANDARD
TZOFFSETFROM:+0200
TZOFFSETTO:+0100
TZNAME:CET
DTSTART:20241027T010000
END:STANDARD
BEGIN:DAYLIGHT
TZOFFSETFROM:+0100
TZOFFSETTO:+0200
TZNAME:CEST
DTSTART:20250330T010000
END:DAYLIGHT
BEGIN:STANDARD
TZOFFSETFROM:+0200
TZOFFSETTO:+0100
TZNAME:CET
DTSTART:20251026T010000
END:STANDARD
BEGIN:DAYLIGHT
TZOFFSETFROM:+0100
TZOFFSETTO:+0200
TZNAME:CEST
DTSTART:20260329T010000
END:DAYLIGHT
BEGIN:STANDARD
TZOFFSETFROM:+0200
TZOFFSETTO:+0100
TZNAME:CET
DTSTART:20261025T010000
END:STANDARD
END:VTIMEZONE
BEGIN:VEVENT
DTSTART;TZID=Europe/Berlin:20251106T153000
DTEND;TZID=Europe/Berlin:20251106T163000
DTSTAMP:20260425T175342
CREATED:20251103T120042Z
LAST-MODIFIED:20251103T120042Z
UID:30001653-1762443000-1762446600@treffpunkt-rodenkirchen.koeln
SUMMARY:Spaß für Groß und Klein mit Clown Francesco
DESCRIPTION:Bildquelle: Franz Herzhoff \n\nDieser Eintrag wird Ihnen zur Verfügung gestellt vom Kölner BilderBogen – eines der beliebtesten Stadtmagazine in Köln. Ihr Termin fehlt? Einfach kostenlos einreichen: www.bilderbogen.de/eventeintrag
URL:https://treffpunkt-rodenkirchen.koeln/event/spass-fuer-gross-und-klein-mit-clown-francesco
LOCATION:Cura SeniorenCentrum Köln Rodenkirchen\, Hauptstraße 128\, Köln\, NRW\, 50996\, Deutschland
ATTACH;FMTTYPE=image/png:https://treffpunkt-rodenkirchen.koeln/wp-content/uploads/2025/11/Bildschirmfoto-2025-11-03-um-12.48.21-712x1024-1.png
END:VEVENT
BEGIN:VEVENT
DTSTART;TZID=Europe/Berlin:20251104T180000
DTEND;TZID=Europe/Berlin:20251104T200000
DTSTAMP:20260425T175342
CREATED:20250915T090118Z
LAST-MODIFIED:20250915T090118Z
UID:30001508-1762279200-1762286400@treffpunkt-rodenkirchen.koeln
SUMMARY:„Wenn das Herz an Kraft verliert“\, Vortrag
DESCRIPTION:Traditionell widmet man sich anlässlich der Herzwochen der Dt. Herzstiftung im MATERNUS-Seniorencentrum seit Jahren dem Thema Herzgesundheit. In diesem Jahr findet der Vortrag statt\nam Dienstag\, dem 4. November\, 18.00 Uhr\nim MATERNUS-Seniorencentrum\, Hauptstraße 128\, Köln-Rodenkirchen.\nDr. med. Christoph Ndawula\, Oberarzt im St. Antonius Krankenhaus in Bayenthal\, informiert unter dem Titel „Wenn das Herz an Kraft verliert“ über Symptome einer beginnenden Herzschwäche. Erkennt man die Risiken früh\, gibt es wirksame Wege\, Herz und Gefäße zu schützen. \n\nDieser Eintrag wird Ihnen zur Verfügung gestellt vom Kölner BilderBogen – eines der beliebtesten Stadtmagazine in Köln. Ihr Termin fehlt? Einfach kostenlos einreichen: www.bilderbogen.de/eventeintrag
URL:https://treffpunkt-rodenkirchen.koeln/event/wenn-das-herz-an-kraft-verliert-vortrag
LOCATION:Cura SeniorenCentrum Köln Rodenkirchen\, Hauptstraße 128\, Köln\, NRW\, 50996\, Deutschland
END:VEVENT
BEGIN:VEVENT
DTSTART;TZID=Europe/Berlin:20251104T180000
DTEND;TZID=Europe/Berlin:20251104T190000
DTSTAMP:20260425T175342
CREATED:20250902T090059Z
LAST-MODIFIED:20250902T090059Z
UID:30001460-1762279200-1762282800@treffpunkt-rodenkirchen.koeln
SUMMARY:Ärtzevortrag: Gesunde Gefäße – gesundes Herz
DESCRIPTION:Dieser Eintrag wird Ihnen zur Verfügung gestellt vom Kölner BilderBogen – eines der beliebtesten Stadtmagazine in Köln. Ihr Termin fehlt? Einfach kostenlos einreichen: www.bilderbogen.de/eventeintrag
URL:https://treffpunkt-rodenkirchen.koeln/event/aertzevortrag-gesunde-gefaesse-gesundes-herz
LOCATION:Cura SeniorenCentrum Köln Rodenkirchen\, Hauptstraße 128\, Köln\, NRW\, 50996\, Deutschland
END:VEVENT
BEGIN:VEVENT
DTSTART;TZID=Europe/Berlin:20251013T180000
DTEND;TZID=Europe/Berlin:20251013T190000
DTSTAMP:20260425T175342
CREATED:20250902T080143Z
LAST-MODIFIED:20250902T080143Z
UID:30001459-1760378400-1760382000@treffpunkt-rodenkirchen.koeln
SUMMARY:Klassische Saitensprünge\, Konzert
DESCRIPTION:Bildquelle: Lothar Freund \n\nDieser Eintrag wird Ihnen zur Verfügung gestellt vom Kölner BilderBogen – eines der beliebtesten Stadtmagazine in Köln. Ihr Termin fehlt? Einfach kostenlos einreichen: www.bilderbogen.de/eventeintrag
URL:https://treffpunkt-rodenkirchen.koeln/event/klassische-saitenspruenge-konzert
LOCATION:Cura SeniorenCentrum Köln Rodenkirchen\, Hauptstraße 128\, Köln\, NRW\, 50996\, Deutschland
ATTACH;FMTTYPE=image/png:https://treffpunkt-rodenkirchen.koeln/wp-content/uploads/2025/09/Bildschirmfoto-2025-09-02-um-09.15.17.png
END:VEVENT
BEGIN:VEVENT
DTSTART;TZID=Europe/Berlin:20250925T180000
DTEND;TZID=Europe/Berlin:20250925T190000
DTSTAMP:20260425T175342
CREATED:20250811T100046Z
LAST-MODIFIED:20250811T100046Z
UID:30001390-1758823200-1758826800@treffpunkt-rodenkirchen.koeln
SUMMARY:Klassisches Klavierkonzert
DESCRIPTION:Bildquelle: L. Lipstein \n\nDieser Eintrag wird Ihnen zur Verfügung gestellt vom Kölner BilderBogen – eines der beliebtesten Stadtmagazine in Köln. Ihr Termin fehlt? Einfach kostenlos einreichen: www.bilderbogen.de/eventeintrag
URL:https://treffpunkt-rodenkirchen.koeln/event/klassisches-klavierkonzert
LOCATION:Cura SeniorenCentrum Köln Rodenkirchen\, Hauptstraße 128\, Köln\, NRW\, 50996\, Deutschland
ATTACH;FMTTYPE=image/png:https://treffpunkt-rodenkirchen.koeln/wp-content/uploads/2025/08/Bildschirmfoto-2025-08-11-um-10.24.36.png
END:VEVENT
BEGIN:VEVENT
DTSTART;TZID=Europe/Berlin:20250909T180000
DTEND;TZID=Europe/Berlin:20250909T190000
DTSTAMP:20260425T175343
CREATED:20250818T100044Z
LAST-MODIFIED:20250818T100044Z
UID:30001436-1757440800-1757444400@treffpunkt-rodenkirchen.koeln
SUMMARY:Opern- und Operettenabend
DESCRIPTION:Bildquelle : Shutterstock \n\nDieser Eintrag wird Ihnen zur Verfügung gestellt vom Kölner BilderBogen – eines der beliebtesten Stadtmagazine in Köln. Ihr Termin fehlt? Einfach kostenlos einreichen: www.bilderbogen.de/eventeintrag
URL:https://treffpunkt-rodenkirchen.koeln/event/opern-und-operettenabend
LOCATION:Cura SeniorenCentrum Köln Rodenkirchen\, Hauptstraße 128\, Köln\, NRW\, 50996\, Deutschland
ATTACH;FMTTYPE=image/png:https://treffpunkt-rodenkirchen.koeln/wp-content/uploads/2025/08/Bildschirmfoto-2025-08-18-um-11.30.58-708x1024-1.png
END:VEVENT
END:VCALENDAR