BEGIN:VCALENDAR
VERSION:2.0
PRODID:-//Treffpunkt Rodenkirchen - ECPv6.15.20//NONSGML v1.0//EN
CALSCALE:GREGORIAN
METHOD:PUBLISH
X-WR-CALNAME:Treffpunkt Rodenkirchen
X-ORIGINAL-URL:https://treffpunkt-rodenkirchen.koeln
X-WR-CALDESC:Veranstaltungen für Treffpunkt Rodenkirchen
REFRESH-INTERVAL;VALUE=DURATION:PT1H
X-Robots-Tag:noindex
X-PUBLISHED-TTL:PT1H
BEGIN:VTIMEZONE
TZID:Europe/Berlin
BEGIN:DAYLIGHT
TZOFFSETFROM:+0100
TZOFFSETTO:+0200
TZNAME:CEST
DTSTART:20240331T010000
END:DAYLIGHT
BEGIN:STANDARD
TZOFFSETFROM:+0200
TZOFFSETTO:+0100
TZNAME:CET
DTSTART:20241027T010000
END:STANDARD
BEGIN:DAYLIGHT
TZOFFSETFROM:+0100
TZOFFSETTO:+0200
TZNAME:CEST
DTSTART:20250330T010000
END:DAYLIGHT
BEGIN:STANDARD
TZOFFSETFROM:+0200
TZOFFSETTO:+0100
TZNAME:CET
DTSTART:20251026T010000
END:STANDARD
BEGIN:DAYLIGHT
TZOFFSETFROM:+0100
TZOFFSETTO:+0200
TZNAME:CEST
DTSTART:20260329T010000
END:DAYLIGHT
BEGIN:STANDARD
TZOFFSETFROM:+0200
TZOFFSETTO:+0100
TZNAME:CET
DTSTART:20261025T010000
END:STANDARD
BEGIN:DAYLIGHT
TZOFFSETFROM:+0100
TZOFFSETTO:+0200
TZNAME:CEST
DTSTART:20270328T010000
END:DAYLIGHT
BEGIN:STANDARD
TZOFFSETFROM:+0200
TZOFFSETTO:+0100
TZNAME:CET
DTSTART:20271031T010000
END:STANDARD
END:VTIMEZONE
BEGIN:VEVENT
DTSTART;TZID=Europe/Berlin:20260307T200000
DTEND;TZID=Europe/Berlin:20260307T220000
DTSTAMP:20260421T111140
CREATED:20260126T160052Z
LAST-MODIFIED:20260126T170050Z
UID:30001853-1772913600-1772920800@treffpunkt-rodenkirchen.koeln
SUMMARY:Leonce & Lena – oder: Warum ist die Welt so angepisst?
DESCRIPTION:Zwei junge Menschen\, die sich nicht kennen\, strugglen mit der Welt. Warum ist\nErwachsen werden so belastend? Älter werden ist ja unvermeidbar\, aber ist Erwachsen\nwerden nicht optional?\nLeonce vom Königreich Popo soll eigentlich endlich arbeiten und einen Beruf lernen.\nSeinen Vater soll er außerdem beim Klüngel unterstützen und politische Interessen\nvertreten. Stattdessen langweilt er sich lieber stundenlang und spuckt mit Hingabe\nandauernd auf einen Stein.\nAuch Lena aus dem Königreich Pippi soll endlich was sinnvolles mit ihrem Leben\nanfangen und für die Interessen des Königreichs und gegen ihre eigenen Überzeugungen handeln.Statt dessen spricht sie lieber mit Blumen.\nDie Welt hat Ansprüche und Erwartungen und stellt Bedingungen an die jungen\nMenschen\, ist aber gleichwohl permanent angepisst. Leonce hat die Schnauze voll und haut ab aus dem Reiche Popo. Und auch Lena will den Druck nicht mehr ertragen\, packt ihre Siebensachen und kehrt dem Reich Pippi den Rücken.\nDurch Zufall treffen sich die beiden auf ihrer Flucht. Und siehe da\, irgendwie ist die Welt gemeinsam viel weniger nervig und stressig\, oder etwa doch nicht?\nEine Coming-Of-Age-Komödie mit neuer Sicht auf ein altes Stück und die immer\nwiederkehrenden Schwierigkeiten sich in einer angepissten Gesellschaft selbst zu finden. \nBildquelle: Hans Georg \n\nDieser Eintrag wird Ihnen zur Verfügung gestellt vom Kölner BilderBogen – eines der beliebtesten Stadtmagazine in Köln. Ihr Termin fehlt? Einfach kostenlos einreichen: www.bilderbogen.de/eventeintrag
URL:https://treffpunkt-rodenkirchen.koeln/event/leonce-lena-oder-warum-ist-die-welt-so-angepisst-3
LOCATION:Metropol Theater\, Eifelstraße 33\, Köln\, 50677
ATTACH;FMTTYPE=image/jpeg:https://treffpunkt-rodenkirchen.koeln/wp-content/uploads/2026/01/K1600_Plakat-finale-Fassung-683x1024-1.jpg
END:VEVENT
BEGIN:VEVENT
DTSTART;TZID=Europe/Berlin:20260307T200000
DTEND;TZID=Europe/Berlin:20260307T220000
DTSTAMP:20260421T111140
CREATED:20260123T110051Z
LAST-MODIFIED:20260123T130044Z
UID:30001851-1772913600-1772920800@treffpunkt-rodenkirchen.koeln
SUMMARY:Leonce & Lena – oder: Warum ist die Welt so angepisst?
DESCRIPTION:Zwei junge Menschen\, die sich nicht kennen\, strugglen mit der Welt. Warum ist\nErwachsen werden so belastend? Älter werden ist ja unvermeidbar\, aber ist Erwachsen\nwerden nicht optional?\nLeonce vom Königreich Popo soll eigentlich endlich arbeiten und einen Beruf lernen.\nSeinen Vater soll er außerdem beim Klüngel unterstützen und politische Interessen\nvertreten. Stattdessen langweilt er sich lieber stundenlang und spuckt mit Hingabe\nandauernd auf einen Stein.\nAuch Lena aus dem Königreich Pippi soll endlich was sinnvolles mit ihrem Leben\nanfangen und für die Interessen des Königreichs und gegen ihre eigenen Überzeugungen handeln.Statt dessen spricht sie lieber mit Blumen.\nDie Welt hat Ansprüche und Erwartungen und stellt Bedingungen an die jungen\nMenschen\, ist aber gleichwohl permanent angepisst. Leonce hat die Schnauze voll und haut ab aus dem Reiche Popo. Und auch Lena will den Druck nicht mehr ertragen\, packt ihre Siebensachen und kehrt dem Reich Pippi den Rücken.\nDurch Zufall treffen sich die beiden auf ihrer Flucht. Und siehe da\, irgendwie ist die Welt gemeinsam viel weniger nervig und stressig\, oder etwa doch nicht?\nEine Coming-Of-Age-Komödie mit neuer Sicht auf ein altes Stück und die immer\nwiederkehrenden Schwierigkeiten sich in einer angepissten Gesellschaft selbst zu finden. \nBildquelle: Hans Georg \n\nDieser Eintrag wird Ihnen zur Verfügung gestellt vom Kölner BilderBogen – eines der beliebtesten Stadtmagazine in Köln. Ihr Termin fehlt? Einfach kostenlos einreichen: www.bilderbogen.de/eventeintrag
URL:https://treffpunkt-rodenkirchen.koeln/event/leonce-lena-oder-warum-ist-die-welt-so-angepisst
LOCATION:Metropol Theater\, Eifelstraße 33\, Köln\, 50677
ATTACH;FMTTYPE=image/jpeg:https://treffpunkt-rodenkirchen.koeln/wp-content/uploads/2026/01/K1600_Plakat-finale-Fassung-683x1024-1.jpg
END:VEVENT
BEGIN:VEVENT
DTSTART;TZID=Europe/Berlin:20260306T200000
DTEND;TZID=Europe/Berlin:20260306T220000
DTSTAMP:20260421T111140
CREATED:20260126T160050Z
LAST-MODIFIED:20260126T170048Z
UID:30001852-1772827200-1772834400@treffpunkt-rodenkirchen.koeln
SUMMARY:Leonce & Lena – oder: Warum ist die Welt so angepisst?
DESCRIPTION:Zwei junge Menschen\, die sich nicht kennen\, strugglen mit der Welt. Warum ist\nErwachsen werden so belastend? Älter werden ist ja unvermeidbar\, aber ist Erwachsen\nwerden nicht optional?\nLeonce vom Königreich Popo soll eigentlich endlich arbeiten und einen Beruf lernen.\nSeinen Vater soll er außerdem beim Klüngel unterstützen und politische Interessen\nvertreten. Stattdessen langweilt er sich lieber stundenlang und spuckt mit Hingabe\nandauernd auf einen Stein.\nAuch Lena aus dem Königreich Pippi soll endlich was sinnvolles mit ihrem Leben\nanfangen und für die Interessen des Königreichs und gegen ihre eigenen Überzeugungen handeln.Statt dessen spricht sie lieber mit Blumen.\nDie Welt hat Ansprüche und Erwartungen und stellt Bedingungen an die jungen\nMenschen\, ist aber gleichwohl permanent angepisst. Leonce hat die Schnauze voll und haut ab aus dem Reiche Popo. Und auch Lena will den Druck nicht mehr ertragen\, packt ihre Siebensachen und kehrt dem Reich Pippi den Rücken.\nDurch Zufall treffen sich die beiden auf ihrer Flucht. Und siehe da\, irgendwie ist die Welt gemeinsam viel weniger nervig und stressig\, oder etwa doch nicht?\nEine Coming-Of-Age-Komödie mit neuer Sicht auf ein altes Stück und die immer\nwiederkehrenden Schwierigkeiten sich in einer angepissten Gesellschaft selbst zu finden. \nBildquelle: Hans Georg \n\nDieser Eintrag wird Ihnen zur Verfügung gestellt vom Kölner BilderBogen – eines der beliebtesten Stadtmagazine in Köln. Ihr Termin fehlt? Einfach kostenlos einreichen: www.bilderbogen.de/eventeintrag
URL:https://treffpunkt-rodenkirchen.koeln/event/leonce-lena-oder-warum-ist-die-welt-so-angepisst-2
LOCATION:Metropol Theater\, Eifelstraße 33\, Köln\, 50677
ATTACH;FMTTYPE=image/jpeg:https://treffpunkt-rodenkirchen.koeln/wp-content/uploads/2026/01/K1600_Plakat-finale-Fassung-683x1024-1.jpg
END:VEVENT
BEGIN:VEVENT
DTSTART;TZID=Europe/Berlin:20250917T190000
DTEND;TZID=Europe/Berlin:20250917T200000
DTSTAMP:20260421T111140
CREATED:20250804T120037Z
LAST-MODIFIED:20250804T120037Z
UID:30001362-1758135600-1758139200@treffpunkt-rodenkirchen.koeln
SUMMARY:Metropol Magic
DESCRIPTION:Willkommen bei Metropol Magic\, der Zaubershow\, die einmal im Monat für Überraschungen sorgt! Im charmanten Metropol Theater präsentiert Nikolai Striebel eine Show\, wie du sie noch nie gesehen hast\, wenn du sie nicht schonmal gesehen hast 😉\nEin Experimentierfeld für neue\, kreative Zauberideen. Jeden Monat erwartet dich eine abwechslungsreiche Performance. Ob verblüﬀende Illusionen\, faszinierende Mentalmagie oder noch nie dagewesene Tricks – bei Metropol Magic weißt du nie\, was als nächstes kommt! Da die Show jedes Mal ein bisschen anders ist\, oder mal ein*e Gastkünstler*in da ist\, lohnt es sich immer wieder vorbeizuschauen. Vielleicht bist du sogar Zeuge\, wenn ein brandneuer Trick das erste Mal live aufgeführt wird\, oder schief geht?!\nNikolai Striebel bringt seine unverwechselbare Kombination aus Raﬃnesse und Charme auf die Bühne. Seine Experimentierfreude und sein direkter Kontakt mit dem Publikum machen jede Show zu einem einzigartigen Erlebnis. Egal\, ob du ein eingeﬂeischter Zauberfan bist oder zum ersten Mal eine Zaubershow besuchst – Metropol Magic in Köln bietet dir Zauberkunst\, die lebt und atmet. \nBildquelle: Jan Horvath \n\nDieser Eintrag wird Ihnen zur Verfügung gestellt vom Kölner BilderBogen – eines der beliebtesten Stadtmagazine in Köln. Ihr Termin fehlt? Einfach kostenlos einreichen: www.bilderbogen.de/eventeintrag
URL:https://treffpunkt-rodenkirchen.koeln/event/metropol-magic
LOCATION:Metropol Theater\, Eifelstraße 33\, Köln\, 50677
ATTACH;FMTTYPE=image/png:https://treffpunkt-rodenkirchen.koeln/wp-content/uploads/2025/08/Bildschirmfoto-2025-08-04-um-12.58.08.png
END:VEVENT
END:VCALENDAR