BEGIN:VCALENDAR
VERSION:2.0
PRODID:-//Treffpunkt Rodenkirchen - ECPv6.15.20//NONSGML v1.0//EN
CALSCALE:GREGORIAN
METHOD:PUBLISH
X-ORIGINAL-URL:https://treffpunkt-rodenkirchen.koeln
X-WR-CALDESC:Veranstaltungen für Treffpunkt Rodenkirchen
REFRESH-INTERVAL;VALUE=DURATION:PT1H
X-Robots-Tag:noindex
X-PUBLISHED-TTL:PT1H
BEGIN:VTIMEZONE
TZID:Europe/Berlin
BEGIN:DAYLIGHT
TZOFFSETFROM:+0100
TZOFFSETTO:+0200
TZNAME:CEST
DTSTART:20240331T010000
END:DAYLIGHT
BEGIN:STANDARD
TZOFFSETFROM:+0200
TZOFFSETTO:+0100
TZNAME:CET
DTSTART:20241027T010000
END:STANDARD
BEGIN:DAYLIGHT
TZOFFSETFROM:+0100
TZOFFSETTO:+0200
TZNAME:CEST
DTSTART:20250330T010000
END:DAYLIGHT
BEGIN:STANDARD
TZOFFSETFROM:+0200
TZOFFSETTO:+0100
TZNAME:CET
DTSTART:20251026T010000
END:STANDARD
BEGIN:DAYLIGHT
TZOFFSETFROM:+0100
TZOFFSETTO:+0200
TZNAME:CEST
DTSTART:20260329T010000
END:DAYLIGHT
BEGIN:STANDARD
TZOFFSETFROM:+0200
TZOFFSETTO:+0100
TZNAME:CET
DTSTART:20261025T010000
END:STANDARD
BEGIN:DAYLIGHT
TZOFFSETFROM:+0100
TZOFFSETTO:+0200
TZNAME:CEST
DTSTART:20270328T010000
END:DAYLIGHT
BEGIN:STANDARD
TZOFFSETFROM:+0200
TZOFFSETTO:+0100
TZNAME:CET
DTSTART:20271031T010000
END:STANDARD
END:VTIMEZONE
BEGIN:VEVENT
DTSTART;TZID=Europe/Berlin:20260120T160000
DTEND;TZID=Europe/Berlin:20260120T170000
DTSTAMP:20260425T135832
CREATED:20251216T100042Z
LAST-MODIFIED:20251216T100042Z
UID:30001717-1768924800-1768928400@treffpunkt-rodenkirchen.koeln
SUMMARY:Vorlesen mit dem Kamishibai-Erzähltheater / Stadtteilbibliothek Rodenkirchen
DESCRIPTION:Für Kinder von 4 bis 6 Jahren\nWarum ist das Kamishibai ein Erzähltheater ? Weil es sich um eine kleine Erzählbühne handelt\, die aus einem Holzkasten mit Flügeltüren\, Vorhang und Bildkarten besteht. Die Bildkarten mit den Illustrationen des Buches erhöhen die Aufmerksamkeit und die Konzentration auf die Geschichte\, die wir erzählen. Im Anschluss können die Kinder Bilder passend zur Geschichte ausmalen.\nAnmeldung erforderlich – rodenkirchen@stbib-koeln.de oder 0221/221-92370 \nBildquelle: Stadtbibliothek Köln \n\nDieser Eintrag wird Ihnen zur Verfügung gestellt vom Kölner BilderBogen – eines der beliebtesten Stadtmagazine in Köln. Ihr Termin fehlt? Einfach kostenlos einreichen: www.bilderbogen.de/eventeintrag
URL:https://treffpunkt-rodenkirchen.koeln/event/vorlesen-mit-dem-kamishibai-erzaehltheater-stadtteilbibliothek-rodenkirchen-2
LOCATION:Stadtteil-Bibliothek Rodenkirchen\, Schillingsrotter Str. 38\, Köln\, NRW\, 50996\, Deutschland
ATTACH;FMTTYPE=image/jpeg:https://treffpunkt-rodenkirchen.koeln/wp-content/uploads/2025/12/B27fuerBilderbogen-1024x660-1.jpg
END:VEVENT
BEGIN:VEVENT
DTSTART;TZID=Europe/Berlin:20260120T160000
DTEND;TZID=Europe/Berlin:20260120T170000
DTSTAMP:20260425T135832
CREATED:20251216T100040Z
LAST-MODIFIED:20251216T110034Z
UID:30001716-1768924800-1768928400@treffpunkt-rodenkirchen.koeln
SUMMARY:Facharbeitssprechstunde in der Bibliothek Rodenkirchen
DESCRIPTION:Herausforderung Facharbeit? \nIn unserer Facharbeitssprechstunde unterstützen wir dich bei der Recherche zu deinem Thema. Wir helfen dir konkret bei: \n-der Suche nach guten Quellen\n-Formulierung und Optimierung deiner Suchanfragen\n-Auswahl von relevanten Datenbanken\nWas wir nicht machen: Deine Arbeit schreiben oder dein Thema festlegen. Aber keine Sorge – wir haben zahlreiche Tipps für dich auf dem Weg zur fertigen Facharbeit! \nMelde dich an – die Teilnahme ist kostenlos. Anmeldung erforderlich unter: www.stbib-koeln.de/buchung \nBildquelle: Stadtbibliothek Köln \n\nDieser Eintrag wird Ihnen zur Verfügung gestellt vom Kölner BilderBogen – eines der beliebtesten Stadtmagazine in Köln. Ihr Termin fehlt? Einfach kostenlos einreichen: www.bilderbogen.de/eventeintrag
URL:https://treffpunkt-rodenkirchen.koeln/event/facharbeitssprechstunde-in-der-bibliothek-rodenkirchen
LOCATION:Stadtteil-Bibliothek Rodenkirchen\, Schillingsrotter Str. 38\, Köln\, NRW\, 50996\, Deutschland
ATTACH;FMTTYPE=image/jpeg:https://treffpunkt-rodenkirchen.koeln/wp-content/uploads/2025/12/Facharbeitssprechstunde2-724x1024-1.jpg
END:VEVENT
BEGIN:VEVENT
DTSTART;TZID=Europe/Berlin:20260107T193000
DTEND;TZID=Europe/Berlin:20260107T220000
DTSTAMP:20260425T135832
CREATED:20251203T120036Z
LAST-MODIFIED:20251203T120036Z
UID:30001699-1767814200-1767823200@treffpunkt-rodenkirchen.koeln
SUMMARY:Der Fall Ransohoff – Frauen im Karneval
DESCRIPTION:Mit „Der Fall Ransohoff“ bringt das Theaterkollektiv A3\, vertreten von den Schauspielerinnen Anna Möbus und Alina Rohde\, am 7. Januar 2026 ein Stück auf die Bühne der Stadtteilbibliothek Rodenkirchen\, das die Unbeschwertheit der 5.Jahreszeit kritisch beleuchtet. \nAn Karneval feiern\, singen\, schunkeln alle gemeinsam\, man versteht sich. Aber Halt – ist das wirklich so ? Da  gibt es ein paar dunkle Flecken. Zum Beispiel in der Historie. \n1932 endete abrupt die Karriere der Büttenrednerin Gerti Ransoloff\, die mit einem jüdischen Mann verheiratet war. Das Stück erzählt davon. Und wie steht es heute um die Strukturen in den Karnevalsgesellschaften? Um die wiederauftauchenden\, rassistischen und bestimmte Gruppen der Gesellschaft herabwürdigenden Witzchen? Mitreißend und humorvoll zeichnet das Stück auch die Utopie eines Karnevals\, in dem demnächst einmal eine echte Frau im Dreigestrirn ist. \nDer Kartenvorverkauf im „Teekesselchen“\, Hauptstr. 79\, startet ab 10. Dezember !!! Für Mitglieder Literamus ab 07. Dezember. \n\nDieser Eintrag wird Ihnen zur Verfügung gestellt vom Kölner BilderBogen – eines der beliebtesten Stadtmagazine in Köln. Ihr Termin fehlt? Einfach kostenlos einreichen: www.bilderbogen.de/eventeintrag
URL:https://treffpunkt-rodenkirchen.koeln/event/der-fall-ransohoff-frauen-im-karneval-2
LOCATION:Stadtteil-Bibliothek Rodenkirchen\, Schillingsrotter Str. 38\, Köln\, NRW\, 50996\, Deutschland
ATTACH;FMTTYPE=image/jpeg:https://treffpunkt-rodenkirchen.koeln/wp-content/uploads/2025/12/plakat_der_fall_ransohoff._literamus_7-2-724x1024-1.jpg
END:VEVENT
BEGIN:VEVENT
DTSTART;TZID=Europe/Berlin:20260102T160000
DTEND;TZID=Europe/Berlin:20260102T180000
DTSTAMP:20260425T135832
CREATED:20251216T100036Z
LAST-MODIFIED:20251216T100036Z
UID:30001714-1767369600-1767376800@treffpunkt-rodenkirchen.koeln
SUMMARY:Handarbeitstreff in der Stadtteilbibliothek Rodenkirchen
DESCRIPTION:An jedem 1. Freitag im Monat glühen bei uns die Nadeln. Egal ob Stricken\, Häkeln\, Handquilten oder Sticken. Bring dein Projekt mit und mach es fertig. In gemütlicher Runde kann gewerkelt werden. Ohne Anleitung\, kein Kurs. \nBildquelle: Stadtbibliothek Köln \n  \n\nDieser Eintrag wird Ihnen zur Verfügung gestellt vom Kölner BilderBogen – eines der beliebtesten Stadtmagazine in Köln. Ihr Termin fehlt? Einfach kostenlos einreichen: www.bilderbogen.de/eventeintrag
URL:https://treffpunkt-rodenkirchen.koeln/event/handarbeitstreff-in-der-stadtteilbibliothek-rodenkirchen
LOCATION:Stadtteil-Bibliothek Rodenkirchen\, Schillingsrotter Str. 38\, Köln\, NRW\, 50996\, Deutschland
ATTACH;FMTTYPE=image/png:https://treffpunkt-rodenkirchen.koeln/wp-content/uploads/2025/12/Handarbeitstreff-1-724x1024-1.png
END:VEVENT
BEGIN:VEVENT
DTSTART;TZID=Europe/Berlin:20251210T193000
DTEND;TZID=Europe/Berlin:20251210T220000
DTSTAMP:20260425T135832
CREATED:20251111T090056Z
LAST-MODIFIED:20251111T100059Z
UID:30001666-1765395000-1765404000@treffpunkt-rodenkirchen.koeln
SUMMARY:Die Weihnachtsengel
DESCRIPTION:Die ungeschnminkte Wahrheit zur Weihnacht. \nBöse\, scharf\, und unbeschreiblich weiblich           \nKabarett Möbus & Welling \nAnna Möbus und Charlotte Welling begegneten sich vor wenigen Jahren als Schauspiele-rinnen auf der Bühne des „Theater am Sachsenring“ in Köln. Schnell entdeckten sie das unerschöpfliche Potential ihrer komischen Qualitäten und gründeten das Kabarett „Möbus&Welling“. Seitdem sind sie mit diversen Programmen erfolgreich unterwegs. \nAls freche Weihnachtsengel Gabi und Raphi decken sie gnadenlos die ungeschminkte Wahrheit über Weihnachten auf. Sie beleuchten die kitschige Seite des beliebtesten Festes rund um den halben Globus mit seinen Familienritualen\, vermeintlich religiösen Überliefe-rungen und angesammelten Gefühlen unterschiedlichster Ausprägung. \nHaben Sie Humor\, und geht der auch bis zur Weihnachtskrippe und mit in die Kirche ? Dann sind Sie richtig ! \nDer Ursprung des heiligen Festes wird wahrheitsgemäß erzählt\, angefangen von Maria und der unbefleckten Empfängnis\, Josefs Eifersucht auf den Heiligen Geist\, bis zur sagenhaften Geschichte des unerklärlichen Aufstiegs des Krippen-Babys zum Sektenführer. \nDie Engel spielen alles: Nikoläuse\, Gott\, Maria und Josef\, das Christkind\, Erwin und Lise-Lotte. Wir sehen was in der Kirche los ist\, erleben zum Fest\, wie ungebetener Besuch unter die \nRäder kommt und sind schließlich dabei\, wenn weihnachtliche Ruhe einkehrt. \nEin wunderbar-provokantes Programm mit hoher Wiederekennungschance selbst erlebter Weihnachtsfeste\, das unsere Lachmuskeln aktiviert und uns beschwingt nachhause gehen lässt – zu den Weihnachtsvorbereitungen  – wie jedes Jahr ! Aber ein bisschen entspannter!  \nVVK Teekesselchen ab Mi.12.11.25 Mitglieder Literamus ab Sa. 08.11.25 \n\nDieser Eintrag wird Ihnen zur Verfügung gestellt vom Kölner BilderBogen – eines der beliebtesten Stadtmagazine in Köln. Ihr Termin fehlt? Einfach kostenlos einreichen: www.bilderbogen.de/eventeintrag
URL:https://treffpunkt-rodenkirchen.koeln/event/die-weihnachtsengel
LOCATION:Stadtteil-Bibliothek Rodenkirchen\, Schillingsrotter Str. 38\, Köln\, NRW\, 50996\, Deutschland
ATTACH;FMTTYPE=image/jpeg:https://treffpunkt-rodenkirchen.koeln/wp-content/uploads/2025/11/Plakat-Weihnachtsengel.-Moebus-u.-Welling.-Literamus-10.1-2.25-1024x724-1.jpg
END:VEVENT
BEGIN:VEVENT
DTSTART;TZID=Europe/Berlin:20251203T180000
DTEND;TZID=Europe/Berlin:20251203T200000
DTSTAMP:20260425T135832
CREATED:20251111T090053Z
LAST-MODIFIED:20251111T090053Z
UID:30001665-1764784800-1764792000@treffpunkt-rodenkirchen.koeln
SUMMARY:Rodenkirchener Geschichtswerkstatt | RES 61
DESCRIPTION:Rodenkirchener Geschichtswerkstatt mit Dr. Cornelius Steckner \nSpurensuche zur Historie vom Lennartzhof und Gut Schillingsrott \n\n\nGut Schillingsrott ist heute die einzig erhaltene geschlossene Hofanlage in Köln-Rodenkirchen. Zu ihr gehören der Lennartzhof und der Engelshof. \nDie drei wohl ins 12. Jahrhundert zurückgehenden Schillingsrotter Höfe an der heutigen Römerstraße gehörten einst zu St. Georg. An den „Engelshof“ erinnert noch ein Straßenname. Verblieben ist der sogenannte  Lennartzhof\, der zuletzt an den Journalisten Heinz D. Stuckmann kam. Dieser wurde 1968 Gründungsdirektor der hier gleich neben dem Studentenwohnheim Grüngürtelstraße von 1966 aufblühenden Kölner Journalistenschule\, die 2018 ihr 50. Jubiläum feierte. Die gelungene Restaurierung des Herrenhauses erinnert an den auch als IM „Dietrich“ bekannt gewordenen Gründer und STASI-Mann Stuckmann. Er wurde für seine Geheimdienstaktivitäten verurteilt und musste ins Gefängnis. Die Institution der Journalistenschule hat darunter aber nicht gelitten und verzeichnet heute noch jedes Jahr beträchtliche Abschlüsse. Die Schule ist inzwischen expandiert und befindet sich nun an der Aachener Straße. \nBei RES 61 wird der Beitrag über den Lennartzhof von Rechtsanwalt Winfried Seibert (Presse- und Medienrecht) vorgestellt. \n„Vom Kirchengut zur Kaderschmiede. Zur Rodenkirchener Journalistenschule.“ \n\n\nDieser Eintrag wird Ihnen zur Verfügung gestellt vom Kölner BilderBogen – eines der beliebtesten Stadtmagazine in Köln. Ihr Termin fehlt? Einfach kostenlos einreichen: www.bilderbogen.de/eventeintrag
URL:https://treffpunkt-rodenkirchen.koeln/event/rodenkirchener-geschichtswerkstatt-res-61
LOCATION:Stadtteil-Bibliothek Rodenkirchen\, Schillingsrotter Str. 38\, Köln\, NRW\, 50996\, Deutschland
ATTACH;FMTTYPE=image/jpeg:https://treffpunkt-rodenkirchen.koeln/wp-content/uploads/2025/11/Res-61-am-3.12.25-Foto-Hof-Schillingsrott-Foto-Res-Archiv-1024x682-1.jpg
END:VEVENT
BEGIN:VEVENT
DTSTART;TZID=Europe/Berlin:20251120T160000
DTEND;TZID=Europe/Berlin:20251120T170000
DTSTAMP:20260425T135832
CREATED:20251110T090101Z
LAST-MODIFIED:20251110T090101Z
UID:30001664-1763654400-1763658000@treffpunkt-rodenkirchen.koeln
SUMMARY:Wir basteln Winter-Eulen mit euch
DESCRIPTION:Winter-Eulen basteln\nTierisch gute Winterlaune! Wir basteln uns eine fröhliche Eule mit buntem Gefieder und Mütze. Sie schmückt die Fenster an trüben Wintertagen.\nFür Kinder von 4 – 6 Jahren\nEine Anmeldung ist erforderlich vor Ort\, per E-Mail rodenkirchen@stbib-koeln.de\noder telefonisch unter 0221 / 221-92370. \n\nDieser Eintrag wird Ihnen zur Verfügung gestellt vom Kölner BilderBogen – eines der beliebtesten Stadtmagazine in Köln. Ihr Termin fehlt? Einfach kostenlos einreichen: www.bilderbogen.de/eventeintrag
URL:https://treffpunkt-rodenkirchen.koeln/event/wir-basteln-winter-eulen-mit-euch
LOCATION:Stadtteil-Bibliothek Rodenkirchen\, Schillingsrotter Str. 38\, Köln\, NRW\, 50996\, Deutschland
ATTACH;FMTTYPE=image/png:https://treffpunkt-rodenkirchen.koeln/wp-content/uploads/2025/11/Bildschirmfoto-2025-11-10-um-09.47.51-1024x676-1.png
END:VEVENT
BEGIN:VEVENT
DTSTART;TZID=Europe/Berlin:20251119T193000
DTEND;TZID=Europe/Berlin:20251119T213000
DTSTAMP:20260425T135832
CREATED:20251021T090100Z
LAST-MODIFIED:20251022T160044Z
UID:30001622-1763580600-1763587800@treffpunkt-rodenkirchen.koeln
SUMMARY:Rebellisch. Taktisch. Mut. -Zum Geburtstag von Hilde Knef (100) und Kurt Weill (125)
DESCRIPTION:Rebellisch . Taktisch . Mut  Zum Geburtstag von Hilde Knef (100) und Kurt Weill (125) \nDaniela Bosenius\, Gesang/ Violoncello/ Moderation & Julia Diedrich/ Klavier \nKnef und Weill verbindet die Liebe zum Theater\, zur Musik und der kritische Blick auf die Gesellschaft ihrer Zeit. \nMit viel Verve und Gefühl und auf hohem künstlerischen Niveau besingen die beiden Künstlerinnen die Sehnsucht zwischen den Notenlinien. \nVeranstalter: LITERAMUS e.V. \nKarten – VVK (€ 15) : TEEKESSELCHEN Rodenkirchen\, Hauptstraße 79 ab 22.10.25 \n\nDieser Eintrag wird Ihnen zur Verfügung gestellt vom Kölner BilderBogen – eines der beliebtesten Stadtmagazine in Köln. Ihr Termin fehlt? Einfach kostenlos einreichen: www.bilderbogen.de/eventeintrag
URL:https://treffpunkt-rodenkirchen.koeln/event/rebellisch-taktisch-mut-zum-geburtstag-von-hilde-knef-100-und-kurt-weill-125
LOCATION:Stadtteil-Bibliothek Rodenkirchen\, Schillingsrotter Str. 38\, Köln\, NRW\, 50996\, Deutschland
ATTACH;FMTTYPE=image/png:https://treffpunkt-rodenkirchen.koeln/wp-content/uploads/2025/10/Bildschirmfoto-2025-10-22-um-11.05.28.png
ORGANIZER;CN="Literamus e.V.":MAILTO:literamus.rodenkirchen@gmail.com
END:VEVENT
BEGIN:VEVENT
DTSTART;TZID=Europe/Berlin:20251025T110000
DTEND;TZID=Europe/Berlin:20251209T130000
DTSTAMP:20260425T135832
CREATED:20250910T080057Z
LAST-MODIFIED:20251010T110052Z
UID:30001480-1761390000-1765285200@treffpunkt-rodenkirchen.koeln
SUMMARY:Grundlagen der Computerreparatur
DESCRIPTION:Defekte Festplatte\, kaputter Arbeitsspeicher\, fehlerhaftes Betriebssystem: Lernt\, wie ihr Daten retten und möglichst günstig und schnell drei der häufigsten Probleme bei defekten Computern und Laptops selbst beheben könnt. Bitte keine privaten Geräte mitbringen.\nWorkshop für alle von 15 bis 99 Jahren\nAnmeldestart ist der 15.September 2025. Die Plätze sind heiß begehrt ! \nBildquelle: Stadtteilbibliothek Rodenkirchen \n  \n\nDieser Eintrag wird Ihnen zur Verfügung gestellt vom Kölner BilderBogen – eines der beliebtesten Stadtmagazine in Köln. Ihr Termin fehlt? Einfach kostenlos einreichen: www.bilderbogen.de/eventeintrag
URL:https://treffpunkt-rodenkirchen.koeln/event/grundlagen-der-computerreparatur-2
LOCATION:Stadtteil-Bibliothek Rodenkirchen\, Schillingsrotter Str. 38\, Köln\, NRW\, 50996\, Deutschland
ATTACH;FMTTYPE=image/png:https://treffpunkt-rodenkirchen.koeln/wp-content/uploads/2025/09/Bildschirmfoto-2025-09-10-um-09.06.28.png
END:VEVENT
BEGIN:VEVENT
DTSTART;TZID=Europe/Berlin:20251024T160000
DTEND;TZID=Europe/Berlin:20251207T173000
DTSTAMP:20260425T135832
CREATED:20250910T080055Z
LAST-MODIFIED:20251010T110051Z
UID:30001479-1761321600-1765128600@treffpunkt-rodenkirchen.koeln
SUMMARY:Wärmepumpen-Der Weg zu nachhaltiger Wärme
DESCRIPTION:Wer wissen möchte\, wie die Wärmepumpe auch in Bestandsgebäuden funktioniert\, ist hier genau richtig. Es werden Anwenderkenntnisse geteilt und Fragen auf Augenhöhe und ohne Verkaufsabsichten beantwortet. Überzeugte und sehr gut informierte Ehrenamtler:innen informieren über die Wärmepumpe. In Köln haben sich Ehrenamtler:innen der SFV-Infostelle “Solaroffensive” Köln unter dem Dach der heuteStadtmorgen Klimaenossenschaft Köln e.G. auf den Weg gemacht und bieten Infoveranstaltungen rund um die Wärmepumpe an. **** „Wärmepumpen sind nichts als geile Physik!“ (Zitat: Prof. Dr. Stefan Rahmstorf vom Potsdam-Institut für Klimafolgenforschung) \nAnmeldung ab 15. September \nBildquelle: Stadtteilbibliothek Rodenkirchen \n\nDieser Eintrag wird Ihnen zur Verfügung gestellt vom Kölner BilderBogen – eines der beliebtesten Stadtmagazine in Köln. Ihr Termin fehlt? Einfach kostenlos einreichen: www.bilderbogen.de/eventeintrag
URL:https://treffpunkt-rodenkirchen.koeln/event/waermepumpen-der-weg-zu-nachhaltiger-waerme
LOCATION:Stadtteil-Bibliothek Rodenkirchen\, Schillingsrotter Str. 38\, Köln\, NRW\, 50996\, Deutschland
ATTACH;FMTTYPE=image/png:https://treffpunkt-rodenkirchen.koeln/wp-content/uploads/2025/09/Bildschirmfoto-2025-09-10-um-09.10.39.png
END:VEVENT
BEGIN:VEVENT
DTSTART;TZID=Europe/Berlin:20251021T160000
DTEND;TZID=Europe/Berlin:20251021T170000
DTSTAMP:20260425T135832
CREATED:20250922T090057Z
LAST-MODIFIED:20250922T090057Z
UID:30001531-1761062400-1761066000@treffpunkt-rodenkirchen.koeln
SUMMARY:Vorlesen mit dem Kamishibai-Erzähltheater /Stadtteilbibliothek Rodenkirchen
DESCRIPTION:Warum ist das Kamishibai ein Erzähltheater ? Weil es sich um eine kleine Erzählbühne handelt\, die aus einem Holzkasten mit Flügeltüren\, Vorhang und Bildkarten besteht. Die Bildkarten mit den Orginal-Illustrationen des Buches erhöhen die Aufmerksamkeit und die Konzentration auf die Geschichte\, die wir erzählen. Im Anschluss können die Kinder immer Bilder\, die zur Geschichte passen\, ausmalen.\nFür Kinder von 4 – 6 jahren\nKostenfrei\, Anmeldung erbeten unter rodenkirchen@stbib-koeln.de \nBildquelle: Stadtteil-Bibliothek Rodenkirchen \n\nDieser Eintrag wird Ihnen zur Verfügung gestellt vom Kölner BilderBogen – eines der beliebtesten Stadtmagazine in Köln. Ihr Termin fehlt? Einfach kostenlos einreichen: www.bilderbogen.de/eventeintrag
URL:https://treffpunkt-rodenkirchen.koeln/event/vorlesen-mit-dem-kamishibai-erzaehltheater-stadtteilbibliothek-rodenkirchen
LOCATION:Stadtteil-Bibliothek Rodenkirchen\, Schillingsrotter Str. 38\, Köln\, NRW\, 50996\, Deutschland
ATTACH;FMTTYPE=image/png:https://treffpunkt-rodenkirchen.koeln/wp-content/uploads/2025/09/Bildschirmfoto-2025-09-22-um-09.16.09-1.png
END:VEVENT
BEGIN:VEVENT
DTSTART;TZID=Europe/Berlin:20251017T160000
DTEND;TZID=Europe/Berlin:20251017T170000
DTSTAMP:20260425T135832
CREATED:20250922T080103Z
LAST-MODIFIED:20250922T080103Z
UID:30001530-1760716800-1760720400@treffpunkt-rodenkirchen.koeln
SUMMARY:MINT-Zeit – Vorlesen und Experimentieren
DESCRIPTION:n der MINT-Zeit regen wir Kinder an\, sich kreativ mit MINT-Themen zu beschäftigen. Nach einem Vorlesen zur Einführung in das Thema der Stunde können die Kinder eigene kleine Experimente machen.\nFür Kinder von 6 – 8 Jahren\nEintritt und Anmeldemodalitäten: kostenfrei\, Anmeldung unter rodenkirchen@stbib-koeln.de oder 0221/221-92370 \n  \nBildquelle: Stadtteil-Bibliothek Rodenkirchen \n\nDieser Eintrag wird Ihnen zur Verfügung gestellt vom Kölner BilderBogen – eines der beliebtesten Stadtmagazine in Köln. Ihr Termin fehlt? Einfach kostenlos einreichen: www.bilderbogen.de/eventeintrag
URL:https://treffpunkt-rodenkirchen.koeln/event/mint-zeit-vorlesen-und-experimentieren
LOCATION:Stadtteil-Bibliothek Rodenkirchen\, Schillingsrotter Str. 38\, Köln\, NRW\, 50996\, Deutschland
ATTACH;FMTTYPE=image/png:https://treffpunkt-rodenkirchen.koeln/wp-content/uploads/2025/09/Bildschirmfoto-2025-09-22-um-09.16.09-1.png
END:VEVENT
BEGIN:VEVENT
DTSTART;TZID=Europe/Berlin:20251010T160000
DTEND;TZID=Europe/Berlin:20251010T180000
DTSTAMP:20260425T135832
CREATED:20250812T070038Z
LAST-MODIFIED:20250812T070038Z
UID:30001393-1760112000-1760119200@treffpunkt-rodenkirchen.koeln
SUMMARY:Craft Training – Handarbeitstreff in der Stadtteilbibliothek
DESCRIPTION:Bring gerne dein angefangenes Handarbeitsprojekt mit. Jeden 1. Freitag im Monat glühen bei uns die Nadeln. Egal ob Stricken\, Häkeln\, Handquilten oder Sticken. In gemütlicher Runde kann gewerkelt werden. Bring gerne dein angefangenes Handarbeitsprojekt mit\nEs handelt sich um ein offenes nicht moderiertes Treffen\, nicht um einen Workshop. \n\nDieser Eintrag wird Ihnen zur Verfügung gestellt vom Kölner BilderBogen – eines der beliebtesten Stadtmagazine in Köln. Ihr Termin fehlt? Einfach kostenlos einreichen: www.bilderbogen.de/eventeintrag
URL:https://treffpunkt-rodenkirchen.koeln/event/craft-training-handarbeitstreff-in-der-stadtteilbibliothek-2
LOCATION:Stadtteil-Bibliothek Rodenkirchen\, Schillingsrotter Str. 38\, Köln\, NRW\, 50996\, Deutschland
ATTACH;FMTTYPE=image/png:https://treffpunkt-rodenkirchen.koeln/wp-content/uploads/2025/08/Bildschirmfoto-2025-08-11-um-10.27.19-732x1024-1.png
END:VEVENT
BEGIN:VEVENT
DTSTART;TZID=Europe/Berlin:20251001T193000
DTEND;TZID=Europe/Berlin:20251001T213000
DTSTAMP:20260425T135832
CREATED:20250827T110051Z
LAST-MODIFIED:20250827T110051Z
UID:30001445-1759347000-1759354200@treffpunkt-rodenkirchen.koeln
SUMMARY:Luciano Marziali – Meistergitarrist – Konzert : Miniaturen
DESCRIPTION:Wir freuen uns auf Luciano Marziali\, einen Zauberer an der Gitarre\, der sein Publikum mit einer gekonnten Mischung aus anspruchsvollen\, klassischen Stücken und unterhaltsamer Musik\, begeistert. \nAnhand der kleinsten Kompositionsform\, der Miniatur\, präsentiert der gebürtige Italiener in der Stadtteilbibliothek Rodenkirchen diverse Werke bekannter\, meist italienischer Komponisten und kombiniert sie mit Ausflügen in die klassische \nLiteratur\, kurzen packenden Geschichten und kleinen Anekdoten. Das gibt seinem Vortrag eine besondere Leichtigkeit. Wir hören u.a. Musik von Ludovico Roncalli\, Bienvenuto Terzi\, Leonardo Da Vinci\, Manuel Maria Ponce\, Chick Corea. \nMarziali tritt regelmäßig als Solist und als Mitglied verschiedener kammermusikalischer Besetzungen in ganz Europa auf und bekam zahlreiche Auszeichnungen und Preise in internationalen Gitarrenwettbewerben\, u.a. in seiner Geburtsstadt Bergamo. Zurzeit lebt er in Köln\, wo er neben seiner Konzerttätigkeit als Dozent in der Rheinischen Musikschule Köln lehrt. \nBildquelle: Literaturmus e. V. \n\nDieser Eintrag wird Ihnen zur Verfügung gestellt vom Kölner BilderBogen – eines der beliebtesten Stadtmagazine in Köln. Ihr Termin fehlt? Einfach kostenlos einreichen: www.bilderbogen.de/eventeintrag
URL:https://treffpunkt-rodenkirchen.koeln/event/luciano-marziali-meistergitarrist-konzert-miniaturen
LOCATION:Stadtteil-Bibliothek Rodenkirchen\, Schillingsrotter Str. 38\, Köln\, NRW\, 50996\, Deutschland
ATTACH;FMTTYPE=image/png:https://treffpunkt-rodenkirchen.koeln/wp-content/uploads/2025/08/Bildschirmfoto-2025-08-27-um-11.26.03-722x1024-1.png
ORGANIZER;CN="Literamus e.V.":MAILTO:literamus.rodenkirchen@gmail.com
END:VEVENT
BEGIN:VEVENT
DTSTART;TZID=Europe/Berlin:20250925T160000
DTEND;TZID=Europe/Berlin:20250925T183000
DTSTAMP:20260425T135832
CREATED:20250806T090045Z
LAST-MODIFIED:20250806T090045Z
UID:30001374-1758816000-1758825000@treffpunkt-rodenkirchen.koeln
SUMMARY:Nähmaschine für Ahnungslose
DESCRIPTION:Nähmaschine für Ahnungslose\nIn diesem Workshop lernen Sie unsere Nähmaschinen kennen. Wir beschäftigen uns mit dem Aufbau sowie den Funktionen und lernen wie man Schnittmuster liest und Stoffe zuschneidet. Zum Schluss haben Sie Ihr erstes eigenes kleines Projekt genäht. \nNähmaschinen und Stoff sind vorhanden. Eigene Maschinen und Baumwollstoffe (zum Beispiel alte Bettwäsche) dürfen gerne mitgebracht werden. \nEine Veranstaltung im Rahmen von Makerspace \n„Maken“ heißt „Machen“ und noch sehr viel mehr. Diese Workshops sind für alle\, die selbst aktiv werden möchten und Interesse daran haben\, Neuland zu betreten. Stemmen Sie Do-It-Yourself-Projekte und entdecken Sie Ihre Potenziale. Egal ob Roboter programmieren\, Instrumente lernen oder ein Nähprojekt umsetzen: eigenes Tun steht im Vordergrund. Haben Sie Spaß dabei! Der Makerspace lebt von Ihrem Engagement – von Köln\, für Köln. Sollten Sie ein spannendes Maker-Hobby haben\, das Sie gerne mit anderen teilen würden\, dann sprechen Sie uns gerne an. \n\nInfos:\nPreis:\nDie Teilnahme ist kostenlos. \nAlter:\nFür Jugendliche ab 14 Jahren und Erwachsene. \nAnmeldung/Vorverkauf:\nEine Anmeldung ist ab dem 25. August unter diesem Link möglich.\n\n\nZur Anmeldung\n\n\n\n\nDieser Eintrag wird Ihnen zur Verfügung gestellt vom Kölner BilderBogen – eines der beliebtesten Stadtmagazine in Köln. Ihr Termin fehlt? Einfach kostenlos einreichen: www.bilderbogen.de/eventeintrag
URL:https://treffpunkt-rodenkirchen.koeln/event/naehmaschine-fuer-ahnungslose
LOCATION:Stadtteil-Bibliothek Rodenkirchen\, Schillingsrotter Str. 38\, Köln\, NRW\, 50996\, Deutschland
END:VEVENT
BEGIN:VEVENT
DTSTART;TZID=Europe/Berlin:20250922T160000
DTEND;TZID=Europe/Berlin:20250922T170000
DTSTAMP:20260425T135832
CREATED:20250922T080053Z
LAST-MODIFIED:20250922T080053Z
UID:30001526-1758556800-1758560400@treffpunkt-rodenkirchen.koeln
SUMMARY:MINT-Zeit: Vorlesen und Experimentieren / Stadtteilbibliothek Rodenkirchen
DESCRIPTION:In der MINT-Zeit regen wir Kinder an\, sich kreativ mit MINT-Themen zu beschäftigen. Nach einem Vorlesen zur Einführung in das Thema der Stunde können die Kinder eigene kleine Experimente machen \nEintritt und Anmeldemodalitäten: kostenfrei\, Anmeldung unter rodenkirchen@stbib-koeln.de oder 0221/221-92370 \nBildquelle : Stadtteil-Bibliothek Rodenkirchen \n\nDieser Eintrag wird Ihnen zur Verfügung gestellt vom Kölner BilderBogen – eines der beliebtesten Stadtmagazine in Köln. Ihr Termin fehlt? Einfach kostenlos einreichen: www.bilderbogen.de/eventeintrag
URL:https://treffpunkt-rodenkirchen.koeln/event/mint-zeit-vorlesen-und-experimentieren-stadtteilbibliothek-rodenkirchen
LOCATION:Stadtteil-Bibliothek Rodenkirchen\, Schillingsrotter Str. 38\, Köln\, NRW\, 50996\, Deutschland
ATTACH;FMTTYPE=image/png:https://treffpunkt-rodenkirchen.koeln/wp-content/uploads/2025/09/Bildschirmfoto-2025-09-22-um-09.16.09-1.png
END:VEVENT
BEGIN:VEVENT
DTSTART;TZID=Europe/Berlin:20250905T160000
DTEND;TZID=Europe/Berlin:20250905T180000
DTSTAMP:20260425T135832
CREATED:20250811T090044Z
LAST-MODIFIED:20250811T090044Z
UID:30001384-1757088000-1757095200@treffpunkt-rodenkirchen.koeln
SUMMARY:Craft Training – Handarbeitstreff in der Stadtteilbibliothek
DESCRIPTION:Bring gerne dein angefangenes Handarbeitsprojekt mit. Jeden 1. Freitag im Monat glühen bei uns die Nadeln. Egal ob Stricken\, Häkeln\, Handquilten oder Sticken. In gemütlicher Runde kann gewerkelt werden. Bring gerne dein angefangenes Handarbeitsprojekt mit\nEs handelt sich um ein offenes nicht moderiertes Treffen\, nicht um einen Workshop. \n\nDieser Eintrag wird Ihnen zur Verfügung gestellt vom Kölner BilderBogen – eines der beliebtesten Stadtmagazine in Köln. Ihr Termin fehlt? Einfach kostenlos einreichen: www.bilderbogen.de/eventeintrag
URL:https://treffpunkt-rodenkirchen.koeln/event/craft-training-handarbeitstreff-in-der-stadtteilbibliothek
LOCATION:Stadtteil-Bibliothek Rodenkirchen\, Schillingsrotter Str. 38\, Köln\, NRW\, 50996\, Deutschland
ATTACH;FMTTYPE=image/png:https://treffpunkt-rodenkirchen.koeln/wp-content/uploads/2025/08/Bildschirmfoto-2025-08-11-um-10.27.19-732x1024-1.png
END:VEVENT
END:VCALENDAR