BEGIN:VCALENDAR
VERSION:2.0
PRODID:-//Treffpunkt Rodenkirchen - ECPv6.15.20//NONSGML v1.0//EN
CALSCALE:GREGORIAN
METHOD:PUBLISH
X-WR-CALNAME:Treffpunkt Rodenkirchen
X-ORIGINAL-URL:https://treffpunkt-rodenkirchen.koeln
X-WR-CALDESC:Veranstaltungen für Treffpunkt Rodenkirchen
REFRESH-INTERVAL;VALUE=DURATION:PT1H
X-Robots-Tag:noindex
X-PUBLISHED-TTL:PT1H
BEGIN:VTIMEZONE
TZID:Europe/Berlin
BEGIN:DAYLIGHT
TZOFFSETFROM:+0100
TZOFFSETTO:+0200
TZNAME:CEST
DTSTART:20240331T010000
END:DAYLIGHT
BEGIN:STANDARD
TZOFFSETFROM:+0200
TZOFFSETTO:+0100
TZNAME:CET
DTSTART:20241027T010000
END:STANDARD
BEGIN:DAYLIGHT
TZOFFSETFROM:+0100
TZOFFSETTO:+0200
TZNAME:CEST
DTSTART:20250330T010000
END:DAYLIGHT
BEGIN:STANDARD
TZOFFSETFROM:+0200
TZOFFSETTO:+0100
TZNAME:CET
DTSTART:20251026T010000
END:STANDARD
BEGIN:DAYLIGHT
TZOFFSETFROM:+0100
TZOFFSETTO:+0200
TZNAME:CEST
DTSTART:20260329T010000
END:DAYLIGHT
BEGIN:STANDARD
TZOFFSETFROM:+0200
TZOFFSETTO:+0100
TZNAME:CET
DTSTART:20261025T010000
END:STANDARD
END:VTIMEZONE
BEGIN:VEVENT
DTSTART;TZID=Europe/Berlin:20251021T160000
DTEND;TZID=Europe/Berlin:20251021T170000
DTSTAMP:20260425T152003
CREATED:20250922T090057Z
LAST-MODIFIED:20250922T090057Z
UID:30001531-1761062400-1761066000@treffpunkt-rodenkirchen.koeln
SUMMARY:Vorlesen mit dem Kamishibai-Erzähltheater /Stadtteilbibliothek Rodenkirchen
DESCRIPTION:Warum ist das Kamishibai ein Erzähltheater ? Weil es sich um eine kleine Erzählbühne handelt\, die aus einem Holzkasten mit Flügeltüren\, Vorhang und Bildkarten besteht. Die Bildkarten mit den Orginal-Illustrationen des Buches erhöhen die Aufmerksamkeit und die Konzentration auf die Geschichte\, die wir erzählen. Im Anschluss können die Kinder immer Bilder\, die zur Geschichte passen\, ausmalen.\nFür Kinder von 4 – 6 jahren\nKostenfrei\, Anmeldung erbeten unter rodenkirchen@stbib-koeln.de \nBildquelle: Stadtteil-Bibliothek Rodenkirchen \n\nDieser Eintrag wird Ihnen zur Verfügung gestellt vom Kölner BilderBogen – eines der beliebtesten Stadtmagazine in Köln. Ihr Termin fehlt? Einfach kostenlos einreichen: www.bilderbogen.de/eventeintrag
URL:https://treffpunkt-rodenkirchen.koeln/event/vorlesen-mit-dem-kamishibai-erzaehltheater-stadtteilbibliothek-rodenkirchen
LOCATION:Stadtteil-Bibliothek Rodenkirchen\, Schillingsrotter Str. 38\, Köln\, NRW\, 50996\, Deutschland
ATTACH;FMTTYPE=image/png:https://treffpunkt-rodenkirchen.koeln/wp-content/uploads/2025/09/Bildschirmfoto-2025-09-22-um-09.16.09-1.png
END:VEVENT
BEGIN:VEVENT
DTSTART;TZID=Europe/Berlin:20251017T160000
DTEND;TZID=Europe/Berlin:20251017T170000
DTSTAMP:20260425T152003
CREATED:20250922T080103Z
LAST-MODIFIED:20250922T080103Z
UID:30001530-1760716800-1760720400@treffpunkt-rodenkirchen.koeln
SUMMARY:MINT-Zeit – Vorlesen und Experimentieren
DESCRIPTION:n der MINT-Zeit regen wir Kinder an\, sich kreativ mit MINT-Themen zu beschäftigen. Nach einem Vorlesen zur Einführung in das Thema der Stunde können die Kinder eigene kleine Experimente machen.\nFür Kinder von 6 – 8 Jahren\nEintritt und Anmeldemodalitäten: kostenfrei\, Anmeldung unter rodenkirchen@stbib-koeln.de oder 0221/221-92370 \n  \nBildquelle: Stadtteil-Bibliothek Rodenkirchen \n\nDieser Eintrag wird Ihnen zur Verfügung gestellt vom Kölner BilderBogen – eines der beliebtesten Stadtmagazine in Köln. Ihr Termin fehlt? Einfach kostenlos einreichen: www.bilderbogen.de/eventeintrag
URL:https://treffpunkt-rodenkirchen.koeln/event/mint-zeit-vorlesen-und-experimentieren
LOCATION:Stadtteil-Bibliothek Rodenkirchen\, Schillingsrotter Str. 38\, Köln\, NRW\, 50996\, Deutschland
ATTACH;FMTTYPE=image/png:https://treffpunkt-rodenkirchen.koeln/wp-content/uploads/2025/09/Bildschirmfoto-2025-09-22-um-09.16.09-1.png
END:VEVENT
BEGIN:VEVENT
DTSTART;TZID=Europe/Berlin:20251010T160000
DTEND;TZID=Europe/Berlin:20251010T180000
DTSTAMP:20260425T152003
CREATED:20250812T070038Z
LAST-MODIFIED:20250812T070038Z
UID:30001393-1760112000-1760119200@treffpunkt-rodenkirchen.koeln
SUMMARY:Craft Training – Handarbeitstreff in der Stadtteilbibliothek
DESCRIPTION:Bring gerne dein angefangenes Handarbeitsprojekt mit. Jeden 1. Freitag im Monat glühen bei uns die Nadeln. Egal ob Stricken\, Häkeln\, Handquilten oder Sticken. In gemütlicher Runde kann gewerkelt werden. Bring gerne dein angefangenes Handarbeitsprojekt mit\nEs handelt sich um ein offenes nicht moderiertes Treffen\, nicht um einen Workshop. \n\nDieser Eintrag wird Ihnen zur Verfügung gestellt vom Kölner BilderBogen – eines der beliebtesten Stadtmagazine in Köln. Ihr Termin fehlt? Einfach kostenlos einreichen: www.bilderbogen.de/eventeintrag
URL:https://treffpunkt-rodenkirchen.koeln/event/craft-training-handarbeitstreff-in-der-stadtteilbibliothek-2
LOCATION:Stadtteil-Bibliothek Rodenkirchen\, Schillingsrotter Str. 38\, Köln\, NRW\, 50996\, Deutschland
ATTACH;FMTTYPE=image/png:https://treffpunkt-rodenkirchen.koeln/wp-content/uploads/2025/08/Bildschirmfoto-2025-08-11-um-10.27.19-732x1024-1.png
END:VEVENT
BEGIN:VEVENT
DTSTART;TZID=Europe/Berlin:20251001T193000
DTEND;TZID=Europe/Berlin:20251001T213000
DTSTAMP:20260425T152003
CREATED:20250827T110051Z
LAST-MODIFIED:20250827T110051Z
UID:30001445-1759347000-1759354200@treffpunkt-rodenkirchen.koeln
SUMMARY:Luciano Marziali – Meistergitarrist – Konzert : Miniaturen
DESCRIPTION:Wir freuen uns auf Luciano Marziali\, einen Zauberer an der Gitarre\, der sein Publikum mit einer gekonnten Mischung aus anspruchsvollen\, klassischen Stücken und unterhaltsamer Musik\, begeistert. \nAnhand der kleinsten Kompositionsform\, der Miniatur\, präsentiert der gebürtige Italiener in der Stadtteilbibliothek Rodenkirchen diverse Werke bekannter\, meist italienischer Komponisten und kombiniert sie mit Ausflügen in die klassische \nLiteratur\, kurzen packenden Geschichten und kleinen Anekdoten. Das gibt seinem Vortrag eine besondere Leichtigkeit. Wir hören u.a. Musik von Ludovico Roncalli\, Bienvenuto Terzi\, Leonardo Da Vinci\, Manuel Maria Ponce\, Chick Corea. \nMarziali tritt regelmäßig als Solist und als Mitglied verschiedener kammermusikalischer Besetzungen in ganz Europa auf und bekam zahlreiche Auszeichnungen und Preise in internationalen Gitarrenwettbewerben\, u.a. in seiner Geburtsstadt Bergamo. Zurzeit lebt er in Köln\, wo er neben seiner Konzerttätigkeit als Dozent in der Rheinischen Musikschule Köln lehrt. \nBildquelle: Literaturmus e. V. \n\nDieser Eintrag wird Ihnen zur Verfügung gestellt vom Kölner BilderBogen – eines der beliebtesten Stadtmagazine in Köln. Ihr Termin fehlt? Einfach kostenlos einreichen: www.bilderbogen.de/eventeintrag
URL:https://treffpunkt-rodenkirchen.koeln/event/luciano-marziali-meistergitarrist-konzert-miniaturen
LOCATION:Stadtteil-Bibliothek Rodenkirchen\, Schillingsrotter Str. 38\, Köln\, NRW\, 50996\, Deutschland
ATTACH;FMTTYPE=image/png:https://treffpunkt-rodenkirchen.koeln/wp-content/uploads/2025/08/Bildschirmfoto-2025-08-27-um-11.26.03-722x1024-1.png
ORGANIZER;CN="Literamus e.V.":MAILTO:literamus.rodenkirchen@gmail.com
END:VEVENT
BEGIN:VEVENT
DTSTART;TZID=Europe/Berlin:20250925T160000
DTEND;TZID=Europe/Berlin:20250925T183000
DTSTAMP:20260425T152003
CREATED:20250806T090045Z
LAST-MODIFIED:20250806T090045Z
UID:30001374-1758816000-1758825000@treffpunkt-rodenkirchen.koeln
SUMMARY:Nähmaschine für Ahnungslose
DESCRIPTION:Nähmaschine für Ahnungslose\nIn diesem Workshop lernen Sie unsere Nähmaschinen kennen. Wir beschäftigen uns mit dem Aufbau sowie den Funktionen und lernen wie man Schnittmuster liest und Stoffe zuschneidet. Zum Schluss haben Sie Ihr erstes eigenes kleines Projekt genäht. \nNähmaschinen und Stoff sind vorhanden. Eigene Maschinen und Baumwollstoffe (zum Beispiel alte Bettwäsche) dürfen gerne mitgebracht werden. \nEine Veranstaltung im Rahmen von Makerspace \n„Maken“ heißt „Machen“ und noch sehr viel mehr. Diese Workshops sind für alle\, die selbst aktiv werden möchten und Interesse daran haben\, Neuland zu betreten. Stemmen Sie Do-It-Yourself-Projekte und entdecken Sie Ihre Potenziale. Egal ob Roboter programmieren\, Instrumente lernen oder ein Nähprojekt umsetzen: eigenes Tun steht im Vordergrund. Haben Sie Spaß dabei! Der Makerspace lebt von Ihrem Engagement – von Köln\, für Köln. Sollten Sie ein spannendes Maker-Hobby haben\, das Sie gerne mit anderen teilen würden\, dann sprechen Sie uns gerne an. \n\nInfos:\nPreis:\nDie Teilnahme ist kostenlos. \nAlter:\nFür Jugendliche ab 14 Jahren und Erwachsene. \nAnmeldung/Vorverkauf:\nEine Anmeldung ist ab dem 25. August unter diesem Link möglich.\n\n\nZur Anmeldung\n\n\n\n\nDieser Eintrag wird Ihnen zur Verfügung gestellt vom Kölner BilderBogen – eines der beliebtesten Stadtmagazine in Köln. Ihr Termin fehlt? Einfach kostenlos einreichen: www.bilderbogen.de/eventeintrag
URL:https://treffpunkt-rodenkirchen.koeln/event/naehmaschine-fuer-ahnungslose
LOCATION:Stadtteil-Bibliothek Rodenkirchen\, Schillingsrotter Str. 38\, Köln\, NRW\, 50996\, Deutschland
END:VEVENT
BEGIN:VEVENT
DTSTART;TZID=Europe/Berlin:20250922T160000
DTEND;TZID=Europe/Berlin:20250922T170000
DTSTAMP:20260425T152003
CREATED:20250922T080053Z
LAST-MODIFIED:20250922T080053Z
UID:30001526-1758556800-1758560400@treffpunkt-rodenkirchen.koeln
SUMMARY:MINT-Zeit: Vorlesen und Experimentieren / Stadtteilbibliothek Rodenkirchen
DESCRIPTION:In der MINT-Zeit regen wir Kinder an\, sich kreativ mit MINT-Themen zu beschäftigen. Nach einem Vorlesen zur Einführung in das Thema der Stunde können die Kinder eigene kleine Experimente machen \nEintritt und Anmeldemodalitäten: kostenfrei\, Anmeldung unter rodenkirchen@stbib-koeln.de oder 0221/221-92370 \nBildquelle : Stadtteil-Bibliothek Rodenkirchen \n\nDieser Eintrag wird Ihnen zur Verfügung gestellt vom Kölner BilderBogen – eines der beliebtesten Stadtmagazine in Köln. Ihr Termin fehlt? Einfach kostenlos einreichen: www.bilderbogen.de/eventeintrag
URL:https://treffpunkt-rodenkirchen.koeln/event/mint-zeit-vorlesen-und-experimentieren-stadtteilbibliothek-rodenkirchen
LOCATION:Stadtteil-Bibliothek Rodenkirchen\, Schillingsrotter Str. 38\, Köln\, NRW\, 50996\, Deutschland
ATTACH;FMTTYPE=image/png:https://treffpunkt-rodenkirchen.koeln/wp-content/uploads/2025/09/Bildschirmfoto-2025-09-22-um-09.16.09-1.png
END:VEVENT
BEGIN:VEVENT
DTSTART;TZID=Europe/Berlin:20250905T160000
DTEND;TZID=Europe/Berlin:20250905T180000
DTSTAMP:20260425T152003
CREATED:20250811T090044Z
LAST-MODIFIED:20250811T090044Z
UID:30001384-1757088000-1757095200@treffpunkt-rodenkirchen.koeln
SUMMARY:Craft Training – Handarbeitstreff in der Stadtteilbibliothek
DESCRIPTION:Bring gerne dein angefangenes Handarbeitsprojekt mit. Jeden 1. Freitag im Monat glühen bei uns die Nadeln. Egal ob Stricken\, Häkeln\, Handquilten oder Sticken. In gemütlicher Runde kann gewerkelt werden. Bring gerne dein angefangenes Handarbeitsprojekt mit\nEs handelt sich um ein offenes nicht moderiertes Treffen\, nicht um einen Workshop. \n\nDieser Eintrag wird Ihnen zur Verfügung gestellt vom Kölner BilderBogen – eines der beliebtesten Stadtmagazine in Köln. Ihr Termin fehlt? Einfach kostenlos einreichen: www.bilderbogen.de/eventeintrag
URL:https://treffpunkt-rodenkirchen.koeln/event/craft-training-handarbeitstreff-in-der-stadtteilbibliothek
LOCATION:Stadtteil-Bibliothek Rodenkirchen\, Schillingsrotter Str. 38\, Köln\, NRW\, 50996\, Deutschland
ATTACH;FMTTYPE=image/png:https://treffpunkt-rodenkirchen.koeln/wp-content/uploads/2025/08/Bildschirmfoto-2025-08-11-um-10.27.19-732x1024-1.png
END:VEVENT
END:VCALENDAR