BEGIN:VCALENDAR
VERSION:2.0
PRODID:-//Treffpunkt Rodenkirchen - ECPv6.15.20//NONSGML v1.0//EN
CALSCALE:GREGORIAN
METHOD:PUBLISH
X-WR-CALNAME:Treffpunkt Rodenkirchen
X-ORIGINAL-URL:https://treffpunkt-rodenkirchen.koeln
X-WR-CALDESC:Veranstaltungen für Treffpunkt Rodenkirchen
REFRESH-INTERVAL;VALUE=DURATION:PT1H
X-Robots-Tag:noindex
X-PUBLISHED-TTL:PT1H
BEGIN:VTIMEZONE
TZID:Europe/Berlin
BEGIN:DAYLIGHT
TZOFFSETFROM:+0100
TZOFFSETTO:+0200
TZNAME:CEST
DTSTART:20250330T010000
END:DAYLIGHT
BEGIN:STANDARD
TZOFFSETFROM:+0200
TZOFFSETTO:+0100
TZNAME:CET
DTSTART:20251026T010000
END:STANDARD
BEGIN:DAYLIGHT
TZOFFSETFROM:+0100
TZOFFSETTO:+0200
TZNAME:CEST
DTSTART:20260329T010000
END:DAYLIGHT
BEGIN:STANDARD
TZOFFSETFROM:+0200
TZOFFSETTO:+0100
TZNAME:CET
DTSTART:20261025T010000
END:STANDARD
BEGIN:DAYLIGHT
TZOFFSETFROM:+0100
TZOFFSETTO:+0200
TZNAME:CEST
DTSTART:20270328T010000
END:DAYLIGHT
BEGIN:STANDARD
TZOFFSETFROM:+0200
TZOFFSETTO:+0100
TZNAME:CET
DTSTART:20271031T010000
END:STANDARD
END:VTIMEZONE
BEGIN:VEVENT
DTSTART;TZID=Europe/Berlin:20260509T200000
DTEND;TZID=Europe/Berlin:20260509T223000
DTSTAMP:20260421T071103
CREATED:20260416T100059Z
LAST-MODIFIED:20260416T110039Z
UID:30001973-1778356800-1778365800@treffpunkt-rodenkirchen.koeln
SUMMARY:Sonja Pikart – „Halb Mensch“
DESCRIPTION:Kabarett \nKann eine Dystopie Spaß machen? Sie kann. Sonja Pikart beweist es. Die vielfach ausgezeichnete Kabarettistin und Schauspielerin versteht es wie keine Zweite\, den grassierenden Untergangsfantasien die Zähne zu zeigen. Denn wer sagt eigentlich\, dass man sich den allgegenwärtigen Herausforderungen nicht mit Witz und Fantasie stellen kann? \nNehmen Sie Sonja Pikarts Hand. Springen Sie mit ihr über politische Gräben\, balancieren Sie an menschlichen Abgründen entlang und überqueren Sie die Schluchten gesellschaftlicher Verwerfungen. Gemeinsam rütteln Sie an scheinbar unbezwingbaren Barrieren\, kratzen am Lack des Patriarchats und tanzen auf den Trümmern der trostlosen Gegenwart. Und ehe Sie sich versehen\, ist aus der Dys- eine Utopie geworden! \nIn ihrem Programm „Halb Mensch“ begeben Sie sich zusammen mit Sonja Pikart auf die ebenso erstaunliche wie unterhaltsame Suche nach den Wurzeln der eigenen Menschlichkeit. Mit „schauspielerischer Virtuosität und dem Mut\, auch heikle Themen mit Selbstironie\, schwarzem Humor und viel Gefühl für tragikomische Nuancen anzusprechen“ (die Jury des Österreichischen Kabarettpreises)\, nimmt Sonja Pikart Sie mit auf einen Trip\, der Sie die Zukunft mit anderen Augen sehen lässt … nachdem Sie sich die Tränen aus den Augen gewischt haben\, die Sie an diesem Abend lachen werden! \nDie Liste der Preise\, mit denen die aus Aachen stammende und in Wien lebende Kabarettistin Sonja Pikart ausgezeichnet wurde\, ist lang: Da ist zum Beispiel der Salzburger Stier 2026\, der bedeutendste internationale Radiokabarettpreis und so etwas wie der „Kabarett-Oscar“ im deutschsprachigen Raum. Dann wäre da noch der Publikumspreis des Passauer Scharfrichterbeils. Oder der erste Preis des renommierten Schweizer Kleinkunst-Wettbewerbs „Die Krönung“. Und natürlich der Österreichische Kabarettpreis\, die wichtigste Auszeichnung in der Alpenrepublik. Die Presse nennt Sonja\, die auch immer wieder in der ARD zu sehen ist\, „eine der spannendsten Kabarett-Aufsteigerinnen des Landes“\, ihre Programme „Kabarett der obersten Spielklasse“. \nPressebild: Stefan Joham \n\nDieser Eintrag wird Ihnen zur Verfügung gestellt vom Kölner BilderBogen – eines der beliebtesten Stadtmagazine in Köln. Ihr Termin fehlt? Einfach kostenlos einreichen: www.bilderbogen.de/eventeintrag
URL:https://treffpunkt-rodenkirchen.koeln/event/sonja-pikart-halb-mensch
LOCATION:Theater509 Bürgerhaus Stollwerck\, Dreikönigenstraße 23\, Köln\, 50678
ATTACH;FMTTYPE=image/png:https://treffpunkt-rodenkirchen.koeln/wp-content/uploads/2026/04/Bildschirmfoto-2026-04-16-um-11.25.52.png
END:VEVENT
BEGIN:VEVENT
DTSTART;TZID=Europe/Berlin:20260522T200000
DTEND;TZID=Europe/Berlin:20260522T223000
DTSTAMP:20260421T071103
CREATED:20260416T100101Z
LAST-MODIFIED:20260416T110042Z
UID:30001974-1779480000-1779489000@treffpunkt-rodenkirchen.koeln
SUMMARY:Damenbesuch – „Ungefiltert“
DESCRIPTION:Kabarett  \nWas machen drei mittelalte Musicaldarstellerinnen auf einer Kabarettbühne? Sie stehen da – und singen. Das können sie gut\, man merkt\, dass sie das schon lange machen und dass die Musik ihr Zuhause ist. Zwischen den Songs reden sie. Mal mehr\, mal weniger. Meistens über sich. Beziehungen\, Kinder\, das Alter\, Gott und die Welt. Eigentlich über alles\, was ihnen so einfällt. Mal witzig\, mal zum nachdenken\, manchmal auch ein bisschen traurig. Und dann singen sie wieder. Das können sie eh am Besten. Sie haben es Cross- Over-Musikkabarett genannt\, weil es das ist und weil es gut klingt. Sie sind genauso wenig auf ein Musikgenre festgelegt\, wie auf ein Gesprächsthema. Nur authentisch soll es sein – und dreistimmig – das klingt am besten. Überzeugen Sie sich selbst. \nhttp://www.damenbesuch.com/ \nPressebild: Miriam Ott \n\nDieser Eintrag wird Ihnen zur Verfügung gestellt vom Kölner BilderBogen – eines der beliebtesten Stadtmagazine in Köln. Ihr Termin fehlt? Einfach kostenlos einreichen: www.bilderbogen.de/eventeintrag
URL:https://treffpunkt-rodenkirchen.koeln/event/damenbesuch-ungefiltert
LOCATION:Theater509 Bürgerhaus Stollwerck\, Dreikönigenstraße 23\, Köln\, 50678
ATTACH;FMTTYPE=image/png:https://treffpunkt-rodenkirchen.koeln/wp-content/uploads/2026/04/Bildschirmfoto-2026-04-16-um-11.28.14.png
END:VEVENT
BEGIN:VEVENT
DTSTART;TZID=Europe/Berlin:20260530T200000
DTEND;TZID=Europe/Berlin:20260530T223000
DTSTAMP:20260421T071103
CREATED:20260416T100104Z
LAST-MODIFIED:20260416T110044Z
UID:30001975-1780171200-1780180200@treffpunkt-rodenkirchen.koeln
SUMMARY:Sylvia Brecko – „Hilde – Leben & Lieder der Knef“
DESCRIPTION:Moderation – Lesung – Gesang  \nAm 28. Dezember 2025 wäre Hildegard Knef 100 Jahre alt geworden.\nWie würdigt man „unsere letzte\, deutsche Diva“\, wie sie oft genannt wird? Diese Frage hat sich Sylvia Brécko gestellt und sich der Knef als Künstlerin und Journalistin genähert: Die ehemalige Moderatorin und Autorin des Westdeutschen Rundfunks lässt Hilde selbst zu Wort kommen\, indem sie aus den Büchern der Knef und den zahlreichen Fernsehinterviews\, die sie gegeben hat\, zitiert. Diese zum Nachdenken und Lachen anregenden Passagen werden von Sylvia Brécko um selbstironische\, melancholische und manchmal auch frivole Chansons der Ausnahmekünstlerin ergänzt. Auf diese Weise entsteht ein Bild von Hilde\, das sie dem Zuschauer bisweilen sehr nahe bringt und den bisherigen Blick auf die Knef vielleicht sogar um ganz neue Aspekte erweitert. Freuen Sie sich auf eine liebevoll inszenierte Hommage an eine faszinierende Frau! \nhttp://sylvia-brecko.de/ \nPressebild: Hilde Klein \n\nDieser Eintrag wird Ihnen zur Verfügung gestellt vom Kölner BilderBogen – eines der beliebtesten Stadtmagazine in Köln. Ihr Termin fehlt? Einfach kostenlos einreichen: www.bilderbogen.de/eventeintrag
URL:https://treffpunkt-rodenkirchen.koeln/event/sylvia-brecko-hilde-leben-lieder-der-knef
LOCATION:Theater509 Bürgerhaus Stollwerck\, Dreikönigenstraße 23\, Köln\, 50678
ATTACH;FMTTYPE=image/png:https://treffpunkt-rodenkirchen.koeln/wp-content/uploads/2026/04/Bildschirmfoto-2026-04-16-um-11.34.50.png
END:VEVENT
END:VCALENDAR