BEGIN:VCALENDAR
VERSION:2.0
PRODID:-//Treffpunkt Rodenkirchen - ECPv6.15.20//NONSGML v1.0//EN
CALSCALE:GREGORIAN
METHOD:PUBLISH
X-WR-CALNAME:Treffpunkt Rodenkirchen
X-ORIGINAL-URL:https://treffpunkt-rodenkirchen.koeln
X-WR-CALDESC:Veranstaltungen für Treffpunkt Rodenkirchen
REFRESH-INTERVAL;VALUE=DURATION:PT1H
X-Robots-Tag:noindex
X-PUBLISHED-TTL:PT1H
BEGIN:VTIMEZONE
TZID:Europe/Berlin
BEGIN:DAYLIGHT
TZOFFSETFROM:+0100
TZOFFSETTO:+0200
TZNAME:CEST
DTSTART:20250330T010000
END:DAYLIGHT
BEGIN:STANDARD
TZOFFSETFROM:+0200
TZOFFSETTO:+0100
TZNAME:CET
DTSTART:20251026T010000
END:STANDARD
BEGIN:DAYLIGHT
TZOFFSETFROM:+0100
TZOFFSETTO:+0200
TZNAME:CEST
DTSTART:20260329T010000
END:DAYLIGHT
BEGIN:STANDARD
TZOFFSETFROM:+0200
TZOFFSETTO:+0100
TZNAME:CET
DTSTART:20261025T010000
END:STANDARD
BEGIN:DAYLIGHT
TZOFFSETFROM:+0100
TZOFFSETTO:+0200
TZNAME:CEST
DTSTART:20270328T010000
END:DAYLIGHT
BEGIN:STANDARD
TZOFFSETFROM:+0200
TZOFFSETTO:+0100
TZNAME:CET
DTSTART:20271031T010000
END:STANDARD
END:VTIMEZONE
BEGIN:VEVENT
DTSTART;TZID=Europe/Berlin:20260426T140000
DTEND;TZID=Europe/Berlin:20260426T180000
DTSTAMP:20260424T103322
CREATED:20260420T100138Z
LAST-MODIFIED:20260420T100138Z
UID:30002003-1777212000-1777226400@treffpunkt-rodenkirchen.koeln
SUMMARY:MINI DESIGNMARKT April.April.
DESCRIPTION:🌷MINI DESIGNMARKT April.April. 💥\nLust auf einen Sonntag mit richtig guten Vibes?\nAm 26.4. erwartet dich in der @wachsfabrik.koeln wieder ein Nachmittag voller besonderer Labels mit ihren handmade Goods\, leckerem Streetfood\, guten Drinks und genau der Mischung aus Stöbern\, Chillen und Leute-Treffen\, die unseren MINI DESIGNMARKT immer so besonders macht. 🤩 \n🎧 Für den open air Sound im G’ART’EN sorgt diesmal @kurt.lambo\, mit feinen Elektro-Vibes\, satten Sounds und genau dem richtigen Gespür für einen Sonntag zwischen Frühlingsgefühlen\, Lieblingsstücken und bester Stimmung. \n🌼 April.April. – spätestens jetzt weißt du\, wo du am 26.4. sein willst. 😉 \n👉 Also: Termin notieren\, Crew zusammentrommeln und unbedingt vorbeikommen. 😎 \n🗓️ 26. April | 14–18 Uhr\n📍 Wachsfabrik | Industriestraße 170 | 50999 Köln\n🚉 Linie 16 | Haltestelle Michaelshoven\n🎟️ Eintritt frei – PAY AS YOU WANT 💛 \nBildquelle: Anna Damm \n\nDieser Eintrag wird Ihnen zur Verfügung gestellt vom Kölner BilderBogen – eines der beliebtesten Stadtmagazine in Köln. Ihr Termin fehlt? Einfach kostenlos einreichen: www.bilderbogen.de/eventeintrag
URL:https://treffpunkt-rodenkirchen.koeln/event/mini-designmarkt-april-april
LOCATION:Wachsfabrik\, Industriestraße 170\, Köln\, 50999\, Deutschland
ATTACH;FMTTYPE=image/jpeg:https://treffpunkt-rodenkirchen.koeln/wp-content/uploads/2026/04/manufact_event-122_MD_4_26-683x1024-1.jpg
END:VEVENT
BEGIN:VEVENT
DTSTART;TZID=Europe/Berlin:20260501T183000
DTEND;TZID=Europe/Berlin:20260501T213000
DTSTAMP:20260424T103322
CREATED:20260401T100056Z
LAST-MODIFIED:20260420T110105Z
UID:30001946-1777660200-1777671000@treffpunkt-rodenkirchen.koeln
SUMMARY:Kölner Klassik Ensemble  –  Duo Kravets – Kassung
DESCRIPTION:Das Konzert findet im Atelier 5 von Sebastian Probst statt. \n„Zwischen Traum und Tango“ kombiniert auf bezaubernde Weise verträumte Nocturnes und Adagios mit der ausgelassenen Musik aus dem Nachtleben der Metropolen. Cello & Gitarre vom Feinsten! \nDie Tickets für die 50 Sitzplätze sind über https://kulturforum-wachsfabrik.koeln/produkt-kategorie/musik-im-atelier-5  \nIm Ticketpreis enthalten sind Getränke und ein Pausensnack. \n\nDieser Eintrag wird Ihnen zur Verfügung gestellt vom Kölner BilderBogen – eines der beliebtesten Stadtmagazine in Köln. Ihr Termin fehlt? Einfach kostenlos einreichen: www.bilderbogen.de/eventeintrag
URL:https://treffpunkt-rodenkirchen.koeln/event/koelner-klassik-ensemble-duo-kravets-kassung
LOCATION:Wachsfabrik\, Industriestraße 170\, Köln\, 50999\, Deutschland
ORGANIZER;CN="Kulturforum Wachsfabrik":MAILTO:info@kulturforum-wachsfabrik.koeln
END:VEVENT
BEGIN:VEVENT
DTSTART;TZID=Europe/Berlin:20260503T140000
DTEND;TZID=Europe/Berlin:20260503T180000
DTSTAMP:20260424T103322
CREATED:20260401T100058Z
LAST-MODIFIED:20260401T110052Z
UID:30001947-1777816800-1777831200@treffpunkt-rodenkirchen.koeln
SUMMARY:Tag der geöffneten Ateliers
DESCRIPTION:Ab 13 Uhr bietet Hanna Styrie eine Führung durch die Ateliers mit historischem Hintergrund an. Die Führung dauert ca. 1\,5 Stunden\, wird unterstützt vom Kulturforum Wachsfabrik e.V. und findet auf Spendenbasis statt. Treffpunkt vorne am Rolltor. \nWeitere Informationen unter www.kunstzentrum-wachsfabrik.de \n\n8 geöffnete Ateliers:\n\nAtelier 5 – Sebastian Probst mit Art Projekt – Bildhauerei\nAtelier 10 – Jeannette de Payrebrune – Malerei & Bildhauerei\nAtelier 12 – Manfred Wachendorf\, Jovita Majewski\, Pascal Behrendt\, Inge Lager\, Anna Nguyen – Skulptur & Malerei\nAtelier 13 – Gertraud Lütkefels – Schmuck & Objekte\nAtelier 14 – miegL – Malerei & Skulptur (Forum für Studierende)\nAtelier 19 – Sabine Burghardt – Fotografie\nAtelier 20 – Joao de Almeida – Objekte\nAtelier 21 – Martha Potempa & Thomas Brück – Singer-Songwriter\n\nDieser Eintrag wird Ihnen zur Verfügung gestellt vom Kölner BilderBogen – eines der beliebtesten Stadtmagazine in Köln. Ihr Termin fehlt? Einfach kostenlos einreichen: www.bilderbogen.de/eventeintrag
URL:https://treffpunkt-rodenkirchen.koeln/event/tag-der-geoeffneten-ateliers
LOCATION:Wachsfabrik\, Industriestraße 170\, Köln\, 50999\, Deutschland
END:VEVENT
END:VCALENDAR